View In:
ArcGIS JavaScript
ArcGIS Online Map Viewer
ArcGIS Earth
Service Description: This dataset is the 2020 version of wildfire hazard potential (WHP) for the United States. The files included in this data publication represent an update to any previous versions of WHP or wildland fire potential (WFP) published by the USDA Forest Service. WHP is an index that quantifies the relative potential for wildfire that may be difficult to control, used as a measure to help prioritize where fuel treatments may be needed. This 2020 version of WHP was created as part of the Wildfire Risk to Communities project (https://wildfirerisk.org) and this dataset is a 270-meter (m) resolution companion to the WHP published in Scott et al. (2020). Vegetation and wildland fuels data from LANDFIRE 2014 (version 1.4.0) form the foundation for this version of the WHP. As such, the data presented here reflect landscape conditions as of the end of 2014. National wildfire hazard datasets of annual burn probability and fire intensity were generated from the LANDFIRE 2014 data by the USDA Forest Service, Rocky Mountain Research Station (Short et al. 2020) using the large fire simulation system (FSim). We also used LANDFIRE 2014 vegetation and fuels data directly in the WHP mapping process, as well as point locations of fire occurrence ca. 1992 - 2015 (Short 2017). With these datasets as inputs, we produced an index of WHP for all of the conterminous United States at 270-m resolution. We present the final WHP map in two forms: 1) continuous integer values, and 2) five WHP classes of very low, low, moderate, high, and very high. On its own, WHP is not an explicit map of wildfire threat or risk, but when paired with spatial data depicting highly valued resources and assets such as structures or powerlines, it can approximate relative wildfire risk to those specific resources and assets. WHP is also not a forecast or wildfire outlook for any particular season, as it does not include any information on current or forecasted weather or fuel moisture conditions. It is instead intended for long-term strategic fuels management.
Name: RDW_Wildfire/RMRS_WildfireHazardPotential_continuous_2020
Description: This dataset is the 2020 version of wildfire hazard potential (WHP) for the United States. The files included in this data publication represent an update to any previous versions of WHP or wildland fire potential (WFP) published by the USDA Forest Service. WHP is an index that quantifies the relative potential for wildfire that may be difficult to control, used as a measure to help prioritize where fuel treatments may be needed. This 2020 version of WHP was created as part of the Wildfire Risk to Communities project (https://wildfirerisk.org) and this dataset is a 270-meter (m) resolution companion to the WHP published in Scott et al. (2020). Vegetation and wildland fuels data from LANDFIRE 2014 (version 1.4.0) form the foundation for this version of the WHP. As such, the data presented here reflect landscape conditions as of the end of 2014. National wildfire hazard datasets of annual burn probability and fire intensity were generated from the LANDFIRE 2014 data by the USDA Forest Service, Rocky Mountain Research Station (Short et al. 2020) using the large fire simulation system (FSim). We also used LANDFIRE 2014 vegetation and fuels data directly in the WHP mapping process, as well as point locations of fire occurrence ca. 1992 - 2015 (Short 2017). With these datasets as inputs, we produced an index of WHP for all of the conterminous United States at 270-m resolution. We present the final WHP map in two forms: 1) continuous integer values, and 2) five WHP classes of very low, low, moderate, high, and very high. On its own, WHP is not an explicit map of wildfire threat or risk, but when paired with spatial data depicting highly valued resources and assets such as structures or powerlines, it can approximate relative wildfire risk to those specific resources and assets. WHP is also not a forecast or wildfire outlook for any particular season, as it does not include any information on current or forecasted weather or fuel moisture conditions. It is instead intended for long-term strategic fuels management.
Single Fused Map Cache: false
Extent:
XMin: -2.00375070672E7
YMin: 2135965.232400002
XMax: 2.0037507842788246E7
YMax: 1.1557345232400002E7
Spatial Reference: 102100
(3857)
Initial Extent:
XMin: -2.00375070672E7
YMin: 2135965.232400002
XMax: 2.0037507842788246E7
YMax: 1.1557345232400002E7
Spatial Reference: 102100
(3857)
Full Extent:
XMin: -2.00375070672E7
YMin: 2135965.232400002
XMax: 2.0037507842788246E7
YMax: 1.1557345232400002E7
Spatial Reference: 102100
(3857)
Pixel Size X: 269.99996570673767
Pixel Size Y: 270.0
Band Count: 1
Pixel Type: S32
RasterFunction Infos: {"rasterFunctionInfos": [{
"name": "None",
"description": "A No-Op Function.",
"help": ""
}]}
Mensuration Capabilities: Basic
Has Histograms: true
Has Colormap: false
Has Multi Dimensions : false
Rendering Rule:
Min Scale: 0
Max Scale: 0
Copyright Text:
Service Data Type: esriImageServiceDataTypeGeneric
Min Values: 0
Max Values: 64717
Mean Values: 729.794924438761
Standard Deviation Values: 2748.122792926876
Object ID Field: OBJECTID
Fields:
-
OBJECTID
(
type: esriFieldTypeOID, alias: OBJECTID
)
-
Shape
(
type: esriFieldTypeGeometry, alias: Shape
)
-
Name
(
type: esriFieldTypeString, alias: Name, length: 200
)
-
MinPS
(
type: esriFieldTypeDouble, alias: MinPS
)
-
MaxPS
(
type: esriFieldTypeDouble, alias: MaxPS
)
-
LowPS
(
type: esriFieldTypeDouble, alias: LowPS
)
-
HighPS
(
type: esriFieldTypeDouble, alias: HighPS
)
-
Category
(
type: esriFieldTypeInteger, alias: Category
, Coded Values:
[0: Unknown]
, [1: Primary]
, [2: Overview]
, ...6 more...
)
-
Tag
(
type: esriFieldTypeString, alias: Tag, length: 100
)
-
GroupName
(
type: esriFieldTypeString, alias: GroupName, length: 100
)
-
ProductName
(
type: esriFieldTypeString, alias: ProductName, length: 100
)
-
CenterX
(
type: esriFieldTypeDouble, alias: CenterX
)
-
CenterY
(
type: esriFieldTypeDouble, alias: CenterY
)
-
ZOrder
(
type: esriFieldTypeInteger, alias: ZOrder
)
-
Shape_Length
(
type: esriFieldTypeDouble, alias: Shape_Length
)
-
Shape_Area
(
type: esriFieldTypeDouble, alias: Shape_Area
)
Default Mosaic Method: Northwest
Allowed Mosaic Methods: NorthWest,Center,LockRaster,ByAttribute,Nadir,Viewpoint,Seamline,None
SortField:
SortValue: null
Mosaic Operator: First
Default Compression Quality: 75
Default Resampling Method: Bilinear
Max Record Count: 1000
Max Image Height: 4100
Max Image Width: 15000
Max Download Image Count: 20
Max Mosaic Image Count: 20
Allow Raster Function: true
Allow Copy: true
Allow Analysis: true
Allow Compute TiePoints: false
Supports Statistics: true
Supports Advanced Queries: true
Use StandardizedQueries: true
Raster Type Infos:
Name: Raster Dataset
Description: Supports all ArcGIS Raster Datasets
Help:
Has Raster Attribute Table: false
Edit Fields Info: null
Ownership Based AccessControl For Rasters: null
Child Resources:
Info
Histograms
Statistics
Key Properties
Legend
Raster Function Infos
Supported Operations:
Export Image
Query
Identify
Measure
Compute Histograms
Compute Statistics Histograms
Get Samples
Compute Class Statistics
Query Boundary
Compute Pixel Location
Compute Angles
Validate
Project