View In:
ArcGIS JavaScript
ArcGIS Online Map Viewer
ArcGIS Earth
Service Description: This dataset is the 2023 version of wildfire hazard potential (WHP) for the United States. The files included in this data publication represent an update to any previous versions of WHP or wildland fire potential (WFP) published by the USDA Forest Service. WHP is an index that quantifies the relative potential for high-intensity wildfire that may be difficult to manage, used as a measure to help prioritize where fuel treatments may be needed. This 2023 version of WHP was created from updated national wildfire hazard datasets of annual burn probability and fire intensity generated by the USDA Forest Service, Rocky Mountain Research Station with the large fire simulation system (FSim). Vegetation and wildland fuels data from LANDFIRE 2020 (version 2.2.0) were the primary inputs to the updated FSim modeling work and therefore form the foundation for this version of the WHP. As such, the data presented here reflect landscape conditions as of the end of 2020. LANDFIRE 2020 vegetation and fuels data were also used directly in the WHP mapping process, along with updated point locations of fire occurrence ca. 1992-2020. With these datasets as inputs, we produced an index of WHP for all of the conterminous United States at 270-meter resolution. We present the final WHP map in two forms: 1) continuous integer values, and 2) five WHP classes of very low, low, moderate, high, and very high. On its own, WHP is not an explicit map of wildfire threat or risk, but when paired with spatial data depicting highly valued resources and assets such as structures or powerlines, it can approximate relative wildfire risk to those specific resources and assets. WHP is also not a forecast or wildfire outlook for any particular season, as it does not include any information on current or forecasted weather or fuel moisture conditions. It is instead intended for long-term strategic fuels management.
Name: RDW_Wildfire/RMRS_WildfireHazardPotential_Continuous_2023
Description: This dataset is the 2023 version of wildfire hazard potential (WHP) for the United States. The files included in this data publication represent an update to any previous versions of WHP or wildland fire potential (WFP) published by the USDA Forest Service. WHP is an index that quantifies the relative potential for high-intensity wildfire that may be difficult to manage, used as a measure to help prioritize where fuel treatments may be needed. This 2023 version of WHP was created from updated national wildfire hazard datasets of annual burn probability and fire intensity generated by the USDA Forest Service, Rocky Mountain Research Station with the large fire simulation system (FSim). Vegetation and wildland fuels data from LANDFIRE 2020 (version 2.2.0) were the primary inputs to the updated FSim modeling work and therefore form the foundation for this version of the WHP. As such, the data presented here reflect landscape conditions as of the end of 2020. LANDFIRE 2020 vegetation and fuels data were also used directly in the WHP mapping process, along with updated point locations of fire occurrence ca. 1992-2020. With these datasets as inputs, we produced an index of WHP for all of the conterminous United States at 270-meter resolution. We present the final WHP map in two forms: 1) continuous integer values, and 2) five WHP classes of very low, low, moderate, high, and very high. On its own, WHP is not an explicit map of wildfire threat or risk, but when paired with spatial data depicting highly valued resources and assets such as structures or powerlines, it can approximate relative wildfire risk to those specific resources and assets. WHP is also not a forecast or wildfire outlook for any particular season, as it does not include any information on current or forecasted weather or fuel moisture conditions. It is instead intended for long-term strategic fuels management.
Single Fused Map Cache: false
Extent:
XMin: -2.00375070672E7
YMin: 2135965.179399999
XMax: 2.0037507842788246E7
YMax: 1.1597575179399999E7
Spatial Reference: 102100
(3857)
Initial Extent:
XMin: -2.00375070672E7
YMin: 2135965.179399999
XMax: 2.0037507842788246E7
YMax: 1.1597575179399999E7
Spatial Reference: 102100
(3857)
Full Extent:
XMin: -2.00375070672E7
YMin: 2135965.179399999
XMax: 2.0037507842788246E7
YMax: 1.1597575179399999E7
Spatial Reference: 102100
(3857)
Pixel Size X: 269.99996570673767
Pixel Size Y: 270.0
Band Count: 1
Pixel Type: U32
RasterFunction Infos: {"rasterFunctionInfos": [{
"name": "None",
"description": "",
"help": ""
}]}
Mensuration Capabilities: Basic
Has Histograms: true
Has Colormap: false
Has Multi Dimensions : false
Rendering Rule:
Min Scale: 0
Max Scale: 0
Copyright Text: Funding for this project provided by USDA Forest Service, Fire Modeling Institute, which is part of the Rocky Mountain Research Station, Fire, Fuel and Smoke Science Program. Funding also provided by USDA Forest Service, Fire and Aviation Management. Pyrologix, LLC provided fire modeling support under contract with the USDA Forest Service, Fire Modeling Institute.
Author Information:
Gregory K. Dillon
USDA Forest Service, Rocky Mountain Research Station
https://orcid.org/0009-0006-6304-650X
Service Data Type: esriImageServiceDataTypeThematic
Min Values: 0
Max Values: 120650
Mean Values: 649.2765068201028
Standard Deviation Values: 2707.912004972497
Object ID Field: OBJECTID
Fields:
-
OBJECTID
(
type: esriFieldTypeOID, alias: OBJECTID
)
-
Shape
(
type: esriFieldTypeGeometry, alias: Shape
)
-
Name
(
type: esriFieldTypeString, alias: Name, length: 200
)
-
MinPS
(
type: esriFieldTypeDouble, alias: MinPS
)
-
MaxPS
(
type: esriFieldTypeDouble, alias: MaxPS
)
-
LowPS
(
type: esriFieldTypeDouble, alias: LowPS
)
-
HighPS
(
type: esriFieldTypeDouble, alias: HighPS
)
-
Category
(
type: esriFieldTypeInteger, alias: Category
, Coded Values:
[0: Unknown]
, [1: Primary]
, [2: Overview]
, ...6 more...
)
-
Tag
(
type: esriFieldTypeString, alias: Tag, length: 100
)
-
GroupName
(
type: esriFieldTypeString, alias: GroupName, length: 100
)
-
ProductName
(
type: esriFieldTypeString, alias: ProductName, length: 100
)
-
CenterX
(
type: esriFieldTypeDouble, alias: CenterX
)
-
CenterY
(
type: esriFieldTypeDouble, alias: CenterY
)
-
ZOrder
(
type: esriFieldTypeInteger, alias: ZOrder
)
-
Shape_Length
(
type: esriFieldTypeDouble, alias: Shape_Length
)
-
Shape_Area
(
type: esriFieldTypeDouble, alias: Shape_Area
)
Default Mosaic Method: Northwest
Allowed Mosaic Methods: NorthWest,Center,LockRaster,ByAttribute,Nadir,Viewpoint,Seamline,None
SortField:
SortValue: null
Mosaic Operator: First
Default Compression Quality: 75
Default Resampling Method: Nearest
Max Record Count: 1000
Max Image Height: 4100
Max Image Width: 15000
Max Download Image Count: 20
Max Mosaic Image Count: 80
Allow Raster Function: true
Allow Copy: true
Allow Analysis: true
Allow Compute TiePoints: false
Supports Statistics: true
Supports Advanced Queries: true
Use StandardizedQueries: true
Raster Type Infos:
Name: Raster Dataset
Description: Supports all ArcGIS Raster Datasets
Help:
Has Raster Attribute Table: false
Edit Fields Info: null
Ownership Based AccessControl For Rasters: null
Child Resources:
Info
Histograms
Statistics
Key Properties
Legend
Raster Function Infos
Supported Operations:
Export Image
Query
Identify
Measure
Compute Histograms
Compute Statistics Histograms
Get Samples
Compute Class Statistics
Query Boundary
Compute Pixel Location
Compute Angles
Validate
Project