View In:
ArcGIS JavaScript
ArcGIS Online Map Viewer
ArcGIS Earth
Service Description: The USDA Forest Service (USFS) builds multiple versions of percent tree canopy cover data, in order to serve needs of multiple user communities. These datasets encompass CONUS, Coastal Alaska, Hawaii, U.S. Virgin Islands and Puerto Rico. There are three versions of data within the 2016 TCC Product Suite, which include:The initial model outputs referred to as the Analytical data;A masked version of the initial output referred to as Cartographic data;And a modified version built for the National Land Cover Database and referred to as NLCD data, which includes a canopy cover change dataset derived from subtraction of datasets for the nominal years of 2011 and 2016.The Analytical data are the initial model outputs generated in the production workflow. These data are best suited for users who will carry out their own detailed statistical and uncertainty analyses on the dataset and place lower priority on the visual appearance of the dataset for cartographic purposes. Datasets for the nominal years of 2011 and 2016 are available. The Cartographic products mask the initial model outputs to improve the visual appearance of the datasets. These data are best suited for users who prioritize visual appearance of the data for cartographic and illustrative purposes. Datasets for the nominal years of 2011 and 2016 are available. The NLCD data are the result of further processing of the masked data. The goal was to generate three coordinated components. The components are (1) a dataset for the nominal year of 2011, (2) a dataset for the nominal year of 2016, and (3) a dataset that captures the change in canopy cover between the two nominal years of 2011 and 2016. For the NLCD data, the three components meet the criterion of “2011 TCC + change in TCC = 2016 TCC”. These NLCD data are best suited for users who require a coordinated three-component data stack where each pixel’s values meet the criterion of “2011 TCC + change in TCC = 2016 TCC”. Datasets for the nominal years of 2011 and 2016 are available, as well as a dataset that captures the change (loss or gain) in canopy cover between those two nominal years of 2011 and 2016, in areas where change was identified.These tree canopy cover data are accessible for multiple user communities, through multiple channels and platforms, as listed below:AnalyticalUSFS Tree Canopy Cover DatasetsUSFS Enterprise Data WarehouseCartographicUSFS Tree Canopy Cover DatasetsNLCDMulti-Resolution Land Characteristics (MRLC) ConsortiumUSFS Enterprise Data WarehouseThe CONUS TCC 2016 NLCD dataset is comprised of a single layer. The pixel values range from 0 to 91 percent. The background is represented by the value 255. Data gaps (which are explained in more detail below) are represented by the value 127.The NLCD data include three components: 2011 NLCD TCC, 2016 NLCD TCC, and 2011-to-2016 change in TCC. For nearly all pixels, the values meet the criterion of “2011 TCC + change in TCC = 2016 TCC”. However, there are some pixels with no TCC values because of a lack of imagery in persistently cloudy areas. These data gaps were given a value 127. In summary, if a data gap was present in the original 2011 or 2016 data, that data gap was carried through to all three components of the NLCD data. Recall that the three NLCD components (2011 NLCD TCC, 2016 NLCD TCC, and change between the two nominal years) are intended to coordinate and “line up”.The USFS’s GTAC also makes available the original 2011 and 2016 TCC datasets (prior to development of any integrated data stack for NLCD) that are output as part of the production workflows. If a user would like the original datasets for the nominal years of 2011 and 2016 (prior to integrating into a common data stack for NLCD), they should visit https://data.fs.usda.gov/geodata/rastergateway/treecanopycover/and download the “FS-Cartographic” version of the 2011 and/or 2016 datasets for their cartographic applications.
Name: RDW_LandscapeAndWildlife/USFS_Analytical_2016_TreeCanopy_CONUS
Description: The USDA Forest Service (USFS) builds multiple versions of percent tree canopy cover data, in order to serve needs of multiple user communities. These datasets encompass CONUS, Coastal Alaska, Hawaii, U.S. Virgin Islands and Puerto Rico. There are three versions of data within the 2016 TCC Product Suite, which include:The initial model outputs referred to as the Analytical data;A masked version of the initial output referred to as Cartographic data;And a modified version built for the National Land Cover Database and referred to as NLCD data, which includes a canopy cover change dataset derived from subtraction of datasets for the nominal years of 2011 and 2016.The Analytical data are the initial model outputs generated in the production workflow. These data are best suited for users who will carry out their own detailed statistical and uncertainty analyses on the dataset and place lower priority on the visual appearance of the dataset for cartographic purposes. Datasets for the nominal years of 2011 and 2016 are available. The Cartographic products mask the initial model outputs to improve the visual appearance of the datasets. These data are best suited for users who prioritize visual appearance of the data for cartographic and illustrative purposes. Datasets for the nominal years of 2011 and 2016 are available. The NLCD data are the result of further processing of the masked data. The goal was to generate three coordinated components. The components are (1) a dataset for the nominal year of 2011, (2) a dataset for the nominal year of 2016, and (3) a dataset that captures the change in canopy cover between the two nominal years of 2011 and 2016. For the NLCD data, the three components meet the criterion of “2011 TCC + change in TCC = 2016 TCC”. These NLCD data are best suited for users who require a coordinated three-component data stack where each pixel’s values meet the criterion of “2011 TCC + change in TCC = 2016 TCC”. Datasets for the nominal years of 2011 and 2016 are available, as well as a dataset that captures the change (loss or gain) in canopy cover between those two nominal years of 2011 and 2016, in areas where change was identified.These tree canopy cover data are accessible for multiple user communities, through multiple channels and platforms, as listed below:AnalyticalUSFS Tree Canopy Cover DatasetsUSFS Enterprise Data WarehouseCartographicUSFS Tree Canopy Cover DatasetsNLCDMulti-Resolution Land Characteristics (MRLC) ConsortiumUSFS Enterprise Data WarehouseThe CONUS TCC 2016 NLCD dataset is comprised of a single layer. The pixel values range from 0 to 91 percent. The background is represented by the value 255. Data gaps (which are explained in more detail below) are represented by the value 127.The NLCD data include three components: 2011 NLCD TCC, 2016 NLCD TCC, and 2011-to-2016 change in TCC. For nearly all pixels, the values meet the criterion of “2011 TCC + change in TCC = 2016 TCC”. However, there are some pixels with no TCC values because of a lack of imagery in persistently cloudy areas. These data gaps were given a value 127. In summary, if a data gap was present in the original 2011 or 2016 data, that data gap was carried through to all three components of the NLCD data. Recall that the three NLCD components (2011 NLCD TCC, 2016 NLCD TCC, and change between the two nominal years) are intended to coordinate and “line up”.The USFS’s GTAC also makes available the original 2011 and 2016 TCC datasets (prior to development of any integrated data stack for NLCD) that are output as part of the production workflows. If a user would like the original datasets for the nominal years of 2011 and 2016 (prior to integrating into a common data stack for NLCD), they should visit https://data.fs.usda.gov/geodata/rastergateway/treecanopycover/and download the “FS-Cartographic” version of the 2011 and/or 2016 datasets for their cartographic applications.
Single Fused Map Cache: false
Extent:
XMin: -1.44974539106E7
YMin: 2480608.9095
XMax: -7087933.910599999
YMax: 6960268.9095
Spatial Reference: 102100
(3857)
Initial Extent:
XMin: -1.44974539106E7
YMin: 2480608.9095
XMax: -7087933.910599999
YMax: 6960268.9095
Spatial Reference: 102100
(3857)
Full Extent:
XMin: -1.44974539106E7
YMin: 2480608.9095
XMax: -7087933.910599999
YMax: 6960268.9095
Spatial Reference: 102100
(3857)
Pixel Size X: 30.0
Pixel Size Y: 30.0
Band Count: 1
Pixel Type: U8
RasterFunction Infos: {"rasterFunctionInfos": [{
"name": "None",
"description": "A No-Op Function.",
"help": ""
}]}
Mensuration Capabilities: Basic
Has Histograms: true
Has Colormap: false
Has Multi Dimensions : false
Rendering Rule:
Min Scale: 0
Max Scale: 0
Copyright Text: Funding for this project was provided by the U.S. Forest Service (USFS). RedCastle Resources, Inc. produced the dataset under contract to the USFS Geospatial Technology and Applications Center.
Service Data Type: esriImageServiceDataTypeGeneric
Min Values: 0
Max Values: 100
Mean Values: 25.390750914374077
Standard Deviation Values: 31.785869750169958
Object ID Field: OBJECTID
Fields:
-
OBJECTID
(
type: esriFieldTypeOID, alias: OBJECTID
)
-
Shape
(
type: esriFieldTypeGeometry, alias: Shape
)
-
Name
(
type: esriFieldTypeString, alias: Name, length: 200
)
-
MinPS
(
type: esriFieldTypeDouble, alias: MinPS
)
-
MaxPS
(
type: esriFieldTypeDouble, alias: MaxPS
)
-
LowPS
(
type: esriFieldTypeDouble, alias: LowPS
)
-
HighPS
(
type: esriFieldTypeDouble, alias: HighPS
)
-
Category
(
type: esriFieldTypeInteger, alias: Category
, Coded Values:
[0: Unknown]
, [1: Primary]
, [2: Overview]
, ...6 more...
)
-
Tag
(
type: esriFieldTypeString, alias: Tag, length: 100
)
-
GroupName
(
type: esriFieldTypeString, alias: GroupName, length: 100
)
-
ProductName
(
type: esriFieldTypeString, alias: ProductName, length: 100
)
-
CenterX
(
type: esriFieldTypeDouble, alias: CenterX
)
-
CenterY
(
type: esriFieldTypeDouble, alias: CenterY
)
-
ZOrder
(
type: esriFieldTypeInteger, alias: ZOrder
)
-
Shape_Length
(
type: esriFieldTypeDouble, alias: Shape_Length
)
-
Shape_Area
(
type: esriFieldTypeDouble, alias: Shape_Area
)
Default Mosaic Method: Northwest
Allowed Mosaic Methods: NorthWest,Center,LockRaster,ByAttribute,Nadir,Viewpoint,Seamline,None
SortField:
SortValue: null
Mosaic Operator: First
Default Compression Quality: 75
Default Resampling Method: Bilinear
Max Record Count: 1000
Max Image Height: 500000
Max Image Width: 500000
Max Download Image Count: 20
Max Mosaic Image Count: 20
Allow Raster Function: true
Allow Copy: true
Allow Analysis: true
Allow Compute TiePoints: false
Supports Statistics: true
Supports Advanced Queries: true
Use StandardizedQueries: true
Raster Type Infos:
Name: Raster Dataset
Description: Supports all ArcGIS Raster Datasets
Help:
Has Raster Attribute Table: false
Edit Fields Info: null
Ownership Based AccessControl For Rasters: null
Child Resources:
Info
Histograms
Statistics
Key Properties
Legend
Raster Function Infos
Supported Operations:
Export Image
Query
Identify
Measure
Compute Histograms
Compute Statistics Histograms
Get Samples
Compute Class Statistics
Query Boundary
Compute Pixel Location
Compute Angles
Validate
Project