View In:
ArcGIS JavaScript
ArcGIS Online Map Viewer
ArcGIS Earth
Service Description: The USDA Forest Service (USFS) builds two versions of percent tree canopy cover data, in order to serve needs of multiple user communities. These datasets encompass conterminous United States (CONUS), Coastal Alaska, Hawaii, and Puerto Rico and U.S. Virgin Islands (PRUSVI). The two versions of data within the v2021-4 TCC product suite include: The initial model outputs referred to as the Science data; And a modified version built for the National Land Cover Database and referred to as NLCD data. The Science data are the initial annual model outputs that consist of two images: percent tree canopy cover (TCC) and standard error. These data are best suited for users who will carry out their own detailed statistical and uncertainty analyses on the dataset, and place lower priority on the visual appearance of the dataset for cartographic purposes. Datasets for the years 2008 through 2021 are available. The Science data were produced using a random forests regression algorithm. For standard error data, the initial standard error estimates that ranged from 0 to approximately 45 were multiplied by 100 to maintain data precision (e.g., 45 = 4500). Therefore, standard error estimates pixel values range from 0 to approximately 4500. The value 65534 represents the non-processing area mask where no cloud or cloud shadow-free data are available to produce an output, and 65535 represents the background value. The Science data are accessible for multiple user communities, through multiple channels and platforms. For information on the NLCD TCC data and processing steps see the NLCD metadata. Information on the Science data and processing steps are included here. Data Download and Methods Documents: - https://data.fs.usda.gov/geodata/rastergateway/treecanopycover/
Name: RDW_LandscapeAndWildlife/Science_TCC_Hawaii
Description: The USDA Forest Service (USFS) builds two versions of percent tree canopy cover data, in order to serve needs of multiple user communities. These datasets encompass conterminous United States (CONUS), Coastal Alaska, Hawaii, and Puerto Rico and U.S. Virgin Islands (PRUSVI). The two versions of data within the v2021-4 TCC product suite include: The initial model outputs referred to as the Science data; And a modified version built for the National Land Cover Database and referred to as NLCD data. The Science data are the initial annual model outputs that consist of two images: percent tree canopy cover (TCC) and standard error. These data are best suited for users who will carry out their own detailed statistical and uncertainty analyses on the dataset, and place lower priority on the visual appearance of the dataset for cartographic purposes. Datasets for the years 2008 through 2021 are available. The Science data were produced using a random forests regression algorithm. For standard error data, the initial standard error estimates that ranged from 0 to approximately 45 were multiplied by 100 to maintain data precision (e.g., 45 = 4500). Therefore, standard error estimates pixel values range from 0 to approximately 4500. The value 65534 represents the non-processing area mask where no cloud or cloud shadow-free data are available to produce an output, and 65535 represents the background value. The Science data are accessible for multiple user communities, through multiple channels and platforms. For information on the NLCD TCC data and processing steps see the NLCD metadata. Information on the Science data and processing steps are included here. Data Download and Methods Documents: - https://data.fs.usda.gov/geodata/rastergateway/treecanopycover/
Single Fused Map Cache: false
Extent:
XMin: -1.78427163819E7
YMin: 2139042.6107000005
XMax: -1.72266963819E7
YMax: 2544312.6107000005
Spatial Reference: 102100
(3857)
Initial Extent:
XMin: -1.78427163819E7
YMin: 2139042.6107000005
XMax: -1.72266963819E7
YMax: 2544312.6107000005
Spatial Reference: 102100
(3857)
Full Extent:
XMin: -1.78427163819E7
YMin: 2139042.6107000005
XMax: -1.72266963819E7
YMax: 2544312.6107000005
Spatial Reference: 102100
(3857)
Time Info:
Start Time Field: BeginTime
End Time Field: EndTime
Time Extent:
[2008/01/01 00:00:00 UTC, 2021/12/31 00:00:00 UTC]
Time Reference:
N/A
Pixel Size X: 30.0
Pixel Size Y: 30.0
Band Count: 1
Pixel Type: U8
RasterFunction Infos: {"rasterFunctionInfos": [
{
"name": "NLCDTCC_noBkgrd",
"description": "TCC RFT without background values",
"help": ""
},
{
"name": "None",
"description": "",
"help": ""
}
]}
Mensuration Capabilities: NONE,Basic
Has Histograms: true
Has Colormap: false
Has Multi Dimensions : false
Rendering Rule:
Min Scale: 0
Max Scale: 0
Copyright Text: Funding for this project was provided by the U.S. Forest Service (USFS). RedCastle Resources produced the dataset under contract to the USFS Geospatial Technology and Applications Center.
Service Data Type: esriImageServiceDataTypeThematic
Min Values: 0
Max Values: 255
Mean Values: 35.83562014804128
Standard Deviation Values: 48.13348257159028
Object ID Field: OBJECTID
Fields:
-
OBJECTID
(
type: esriFieldTypeOID, alias: OBJECTID
)
-
Shape
(
type: esriFieldTypeGeometry, alias: Shape
)
-
Name
(
type: esriFieldTypeString, alias: Name, length: 200
)
-
MinPS
(
type: esriFieldTypeDouble, alias: MinPS
)
-
MaxPS
(
type: esriFieldTypeDouble, alias: MaxPS
)
-
LowPS
(
type: esriFieldTypeDouble, alias: LowPS
)
-
HighPS
(
type: esriFieldTypeDouble, alias: HighPS
)
-
Category
(
type: esriFieldTypeInteger, alias: Category
, Coded Values:
[0: Unknown]
, [1: Primary]
, [2: Overview]
, ...6 more...
)
-
Tag
(
type: esriFieldTypeString, alias: Tag, length: 100
)
-
GroupName
(
type: esriFieldTypeString, alias: GroupName, length: 100
)
-
ProductName
(
type: esriFieldTypeString, alias: ProductName, length: 100
)
-
CenterX
(
type: esriFieldTypeDouble, alias: CenterX
)
-
CenterY
(
type: esriFieldTypeDouble, alias: CenterY
)
-
ZOrder
(
type: esriFieldTypeInteger, alias: ZOrder
)
-
Shape_Length
(
type: esriFieldTypeDouble, alias: Shape_Length
)
-
Shape_Area
(
type: esriFieldTypeDouble, alias: Shape_Area
)
-
Year
(
type: esriFieldTypeSmallInteger, alias: Year
)
-
BeginTime
(
type: esriFieldTypeString, alias: BeginTime, length: 8
)
-
EndTime
(
type: esriFieldTypeString, alias: EndTime, length: 8
)
Default Mosaic Method: Center
Allowed Mosaic Methods: Center,NorthWest,LockRaster,ByAttribute,Nadir,Viewpoint,Seamline,None
SortField:
SortValue: null
Mosaic Operator: First
Default Compression Quality: 75
Default Resampling Method: Nearest
Max Record Count: 1000
Max Image Height: 4100
Max Image Width: 15000
Max Download Image Count: 20
Max Mosaic Image Count: 50
Allow Raster Function: true
Allow Copy: true
Allow Analysis: true
Allow Compute TiePoints: false
Supports Statistics: true
Supports Advanced Queries: true
Use StandardizedQueries: true
Raster Type Infos:
Name: Raster Dataset
Description: Supports all ArcGIS Raster Datasets
Help:
Has Raster Attribute Table: false
Edit Fields Info: null
Ownership Based AccessControl For Rasters: null
Child Resources:
Info
Histograms
Statistics
Key Properties
Legend
Raster Function Infos
Supported Operations:
Export Image
Query
Identify
Measure
Compute Histograms
Compute Statistics Histograms
Get Samples
Compute Class Statistics
Query Boundary
Compute Pixel Location
Compute Angles
Validate
Project