View In:
ArcGIS JavaScript
ArcGIS Online Map Viewer
ArcGIS Earth
Service Description: Production data were generated using the Normalized Difference Vegetation Index (NDVI) from the Thematic Mapper Suite from 1984 to 2022 at 250 m resolution. The NDVI is converted to production estimates using two regression formulas depending on the level of the NDVI; there is one equation for lower values (and thus lower production values) and one for higher values. This raster dataset yields estimates of annual production of rangeland vegetation and should be useful for understanding trends and variability in forage resources.
Name: RDW_LandscapeAndWildlife/RangelandProductivity_Annual_Data
Description: Production data were generated using the Normalized Difference Vegetation Index (NDVI) from the Thematic Mapper Suite from 1984 to 2022 at 250 m resolution. The NDVI is converted to production estimates using two regression formulas depending on the level of the NDVI; there is one equation for lower values (and thus lower production values) and one for higher values. This raster dataset yields estimates of annual production of rangeland vegetation and should be useful for understanding trends and variability in forage resources.
Single Fused Map Cache: false
Extent:
XMin: -1.49877134518E7
YMin: 2508530.1214999985
XMax: -7263963.4518
YMax: 6859030.1214999985
Spatial Reference: 102100
(3857)
Initial Extent:
XMin: -1.49877134518E7
YMin: 2508530.1214999985
XMax: -7263963.4518
YMax: 6859030.1214999985
Spatial Reference: 102100
(3857)
Full Extent:
XMin: -1.49877134518E7
YMin: 2508530.1214999985
XMax: -7263963.4518
YMax: 6859030.1214999985
Spatial Reference: 102100
(3857)
Time Info:
Start Time Field: BeginTime
End Time Field: EndTime
Time Extent:
[1984/01/01 00:00:00 UTC, 2022/12/31 00:00:00 UTC]
Time Reference:
N/A
Pixel Size X: 250.0
Pixel Size Y: 250.0
Band Count: 1
Pixel Type: U16
RasterFunction Infos: {"rasterFunctionInfos": [
{
"name": "RangeProd_Attribute_Table_by3s (1)",
"description": "A raster function template.",
"help": ""
},
{
"name": "RangeProd_Attribute_Table_by3s",
"description": "A raster function template.",
"help": ""
},
{
"name": "None",
"description": "Make a Raster or Raster Dataset into a Function Raster Dataset.",
"help": ""
}
]}
Mensuration Capabilities: Basic
Has Histograms: false
Has Colormap: false
Has Multi Dimensions : false
Rendering Rule:
Min Scale: 0
Max Scale: 0
Copyright Text:
Service Data Type: esriImageServiceDataTypeThematic
Min Values: N/A
Max Values: N/A
Mean Values: N/A
Standard Deviation Values: N/A
Object ID Field: OBJECTID
Fields:
-
OBJECTID
(
type: esriFieldTypeOID, alias: OBJECTID
)
-
Shape
(
type: esriFieldTypeGeometry, alias: Shape
)
-
Name
(
type: esriFieldTypeString, alias: Name, length: 200
)
-
MinPS
(
type: esriFieldTypeDouble, alias: MinPS
)
-
MaxPS
(
type: esriFieldTypeDouble, alias: MaxPS
)
-
LowPS
(
type: esriFieldTypeDouble, alias: LowPS
)
-
HighPS
(
type: esriFieldTypeDouble, alias: HighPS
)
-
Category
(
type: esriFieldTypeInteger, alias: Category
, Coded Values:
[0: Unknown]
, [1: Primary]
, [2: Overview]
, ...6 more...
)
-
Tag
(
type: esriFieldTypeString, alias: Tag, length: 100
)
-
CenterX
(
type: esriFieldTypeDouble, alias: CenterX
)
-
CenterY
(
type: esriFieldTypeDouble, alias: CenterY
)
-
Year
(
type: esriFieldTypeString, alias: Year, length: 4
)
-
BeginTime
(
type: esriFieldTypeString, alias: BeginTime, length: 8
)
-
EndTime
(
type: esriFieldTypeString, alias: EndTime, length: 8
)
Default Mosaic Method: Northwest
Allowed Mosaic Methods: NorthWest,Center,LockRaster,ByAttribute,Nadir,Viewpoint,Seamline,None
SortField:
SortValue: null
Mosaic Operator: First
Default Compression Quality: 75
Default Resampling Method: Nearest
Max Record Count: 1000
Max Image Height: 5000
Max Image Width: 5000
Max Download Image Count: 20
Max Mosaic Image Count: 20
Allow Raster Function: true
Allow Copy: true
Allow Analysis: true
Allow Compute TiePoints: false
Supports Statistics: true
Supports Advanced Queries: true
Use StandardizedQueries: true
Raster Type Infos:
Name: Raster Dataset
Description: Supports all ArcGIS Raster Datasets
Help:
Has Raster Attribute Table: false
Edit Fields Info: null
Ownership Based AccessControl For Rasters: null
Child Resources:
Info
Statistics
Key Properties
Legend
Raster Function Infos
Supported Operations:
Export Image
Query
Identify
Measure
Compute Histograms
Compute Statistics Histograms
Get Samples
Compute Class Statistics
Query Boundary
Compute Pixel Location
Compute Angles
Validate
Project