View In:
ArcGIS JavaScript
ArcGIS Online Map Viewer
ArcGIS Earth
Service Description: RDW_LandscapeAndWildlife-LCMS_PuertoRico_USVI_Year_Highest_Prob_Gain
Name: RDW_LandscapeAndWildlife/LCMS_PuertoRico_USVI_Year_Highest_Prob_Gain
Description: RDW_LandscapeAndWildlife-LCMS_PuertoRico_USVI_Year_Highest_Prob_Gain
Single Fused Map Cache: false
Extent:
XMin: -7564179.603700001
YMin: 1922424.7175999992
XMax: -7168749.603700001
YMax: 2192634.717599999
Spatial Reference: 102100
(3857)
Initial Extent:
XMin: -7564179.603700001
YMin: 1922424.7175999992
XMax: -7168749.603700001
YMax: 2192634.717599999
Spatial Reference: 102100
(3857)
Full Extent:
XMin: -7564179.603700001
YMin: 1922424.7175999992
XMax: -7168749.603700001
YMax: 2192634.717599999
Spatial Reference: 102100
(3857)
Pixel Size X: 30.0
Pixel Size Y: 30.0
Band Count: 1
Pixel Type: U8
RasterFunction Infos: {"rasterFunctionInfos": [
{
"name": "Year_Gain_2022",
"description": "A raster function template.",
"help": ""
},
{
"name": "None",
"description": "",
"help": ""
}
]}
Mensuration Capabilities: None
Has Histograms: true
Has Colormap: false
Has Multi Dimensions : false
Rendering Rule:
Min Scale: 0
Max Scale: 0
Copyright Text: Funding for this project was provided by the U.S. Forest Service (USFS). RedCastle Resources, Inc. produced the dataset under contract to the USFS Geospatial Technology and Applications Center.
Service Data Type: esriImageServiceDataTypeThematic
Min Values: 15
Max Values: 52
Mean Values: 39.04776003429635
Standard Deviation Values: 12.511470152655248
Object ID Field: OBJECTID
Fields:
-
OBJECTID
(
type: esriFieldTypeOID, alias: OBJECTID
)
-
Shape
(
type: esriFieldTypeGeometry, alias: Shape
)
-
Name
(
type: esriFieldTypeString, alias: Name, length: 200
)
-
MinPS
(
type: esriFieldTypeDouble, alias: MinPS
)
-
MaxPS
(
type: esriFieldTypeDouble, alias: MaxPS
)
-
LowPS
(
type: esriFieldTypeDouble, alias: LowPS
)
-
HighPS
(
type: esriFieldTypeDouble, alias: HighPS
)
-
Category
(
type: esriFieldTypeInteger, alias: Category
, Coded Values:
[0: Unknown]
, [1: Primary]
, [2: Overview]
, ...6 more...
)
-
Tag
(
type: esriFieldTypeString, alias: Tag, length: 100
)
-
GroupName
(
type: esriFieldTypeString, alias: GroupName, length: 100
)
-
ProductName
(
type: esriFieldTypeString, alias: ProductName, length: 100
)
-
CenterX
(
type: esriFieldTypeDouble, alias: CenterX
)
-
CenterY
(
type: esriFieldTypeDouble, alias: CenterY
)
-
ZOrder
(
type: esriFieldTypeInteger, alias: ZOrder
)
-
Shape_Length
(
type: esriFieldTypeDouble, alias: Shape_Length
)
-
Shape_Area
(
type: esriFieldTypeDouble, alias: Shape_Area
)
Default Mosaic Method: Center
Allowed Mosaic Methods: Center,NorthWest,LockRaster,ByAttribute,Nadir,Viewpoint,Seamline,None
SortField:
SortValue: null
Mosaic Operator: First
Default Compression Quality: 75
Default Resampling Method: Nearest
Max Record Count: 1000
Max Image Height: 4100
Max Image Width: 15000
Max Download Image Count: 20
Max Mosaic Image Count: 50
Allow Raster Function: true
Allow Copy: true
Allow Analysis: true
Allow Compute TiePoints: false
Supports Statistics: true
Supports Advanced Queries: true
Use StandardizedQueries: true
Raster Type Infos:
Name: Raster Dataset
Description: Supports all ArcGIS Raster Datasets
Help:
Has Raster Attribute Table: false
Edit Fields Info: null
Ownership Based AccessControl For Rasters: null
Child Resources:
Info
Histograms
Statistics
Key Properties
Legend
Raster Function Infos
Supported Operations:
Export Image
Query
Identify
Compute Histograms
Compute Statistics Histograms
Get Samples
Compute Class Statistics
Query Boundary
Compute Pixel Location
Compute Angles
Validate
Project