View In:
ArcGIS JavaScript
ArcGIS Online Map Viewer
ArcGIS Earth
Service Description: RDW_ForestEcology-TreeMap_2016_TreesPerAcre_Live
Name: RDW_ForestEcology/TreeMap_2016_TreesPerAcre_Live
Description: RDW_ForestEcology-TreeMap_2016_TreesPerAcre_Live
Single Fused Map Cache: false
Extent:
XMin: -1.42496443974E7
YMin: 2603710.3400999997
XMax: -7262644.397399999
YMax: 6741970.3401
Spatial Reference: 102100
(3857)
Initial Extent:
XMin: -1.42496443974E7
YMin: 2603710.3400999997
XMax: -7262644.397399999
YMax: 6741970.3401
Spatial Reference: 102100
(3857)
Full Extent:
XMin: -1.42496443974E7
YMin: 2603710.3400999997
XMax: -7262644.397399999
YMax: 6741970.3401
Spatial Reference: 102100
(3857)
Pixel Size X: 30.0
Pixel Size Y: 30.0
Band Count: 1
Pixel Type: F64
RasterFunction Infos: {"rasterFunctionInfos": [
{
"name": "TreesPerAcre_Live_ColorRamp_Stretch",
"description": "colo ramp for trees per acre live variable",
"help": ""
},
{
"name": "None",
"description": "Make a Raster or Raster Dataset into a Function Raster Dataset.",
"help": ""
}
]}
Mensuration Capabilities: Basic
Has Histograms: true
Has Colormap: false
Has Multi Dimensions : false
Rendering Rule:
Min Scale: 0
Max Scale: 0
Copyright Text: This project was funded by the USDA Forest Service, Rocky Mountain Research Station (RMRS). Author information: Karin L. Riley USDA Forest Service, Rocky Mountain Research Station http://orcid.org/0000-0001-6593-5657 Isaac C. Grenfell USDA Forest Service, Rocky Mountain Research Station Mark A. Finney USDA Forest Service, Rocky Mountain Research Station John D. Shaw USDA Forest Service, Rocky Mountain Research Station http://orcid.org/0000-0002-5797-1006
Service Data Type: esriImageServiceDataTypeThematic
Min Values: 1.998376
Max Values: 10120.31307
Mean Values: 593.66211615661
Standard Deviation Values: 554.1058325442574
Object ID Field: OBJECTID
Fields:
-
OBJECTID
(
type: esriFieldTypeOID, alias: OBJECTID
)
-
Shape
(
type: esriFieldTypeGeometry, alias: Shape
)
-
Name
(
type: esriFieldTypeString, alias: Name, length: 200
)
-
MinPS
(
type: esriFieldTypeDouble, alias: MinPS
)
-
MaxPS
(
type: esriFieldTypeDouble, alias: MaxPS
)
-
LowPS
(
type: esriFieldTypeDouble, alias: LowPS
)
-
HighPS
(
type: esriFieldTypeDouble, alias: HighPS
)
-
Category
(
type: esriFieldTypeInteger, alias: Category
, Coded Values:
[0: Unknown]
, [1: Primary]
, [2: Overview]
, ...6 more...
)
-
Tag
(
type: esriFieldTypeString, alias: Tag, length: 100
)
-
GroupName
(
type: esriFieldTypeString, alias: GroupName, length: 100
)
-
ProductName
(
type: esriFieldTypeString, alias: ProductName, length: 100
)
-
CenterX
(
type: esriFieldTypeDouble, alias: CenterX
)
-
CenterY
(
type: esriFieldTypeDouble, alias: CenterY
)
-
ZOrder
(
type: esriFieldTypeInteger, alias: ZOrder
)
-
Shape_Length
(
type: esriFieldTypeDouble, alias: Shape_Length
)
-
Shape_Area
(
type: esriFieldTypeDouble, alias: Shape_Area
)
Default Mosaic Method: Northwest
Allowed Mosaic Methods: NorthWest,Center,LockRaster,ByAttribute,Nadir,Viewpoint,Seamline,None
SortField:
SortValue: null
Mosaic Operator: First
Default Compression Quality: 75
Default Resampling Method: Nearest
Max Record Count: 1000
Max Image Height: 15000
Max Image Width: 15000
Max Download Image Count: 20
Max Mosaic Image Count: 20
Allow Raster Function: true
Allow Copy: true
Allow Analysis: true
Allow Compute TiePoints: false
Supports Statistics: true
Supports Advanced Queries: true
Use StandardizedQueries: true
Raster Type Infos:
Name: Raster Dataset
Description: Supports all ArcGIS Raster Datasets
Help:
Has Raster Attribute Table: false
Edit Fields Info: null
Ownership Based AccessControl For Rasters: null
Child Resources:
Info
Histograms
Statistics
Key Properties
Legend
Raster Function Infos
Supported Operations:
Export Image
Query
Identify
Measure
Compute Histograms
Compute Statistics Histograms
Get Samples
Compute Class Statistics
Query Boundary
Compute Pixel Location
Compute Angles
Validate
Project