View In:
ArcGIS JavaScript
ArcGIS Online Map Viewer
ArcGIS Earth
Service Description: With the Food, Conservation, and Energy Act of 2008 (the 2008 Farm Bill), Congress tasked states and territories to craft assessments of the forests within their boundaries and develop strategies to address threats and forest management opportunities. Now known as Forest Action Plans, these assessments and strategies provide an analysis of forest conditions and trends in the state and delineate priority forest landscape areas. They offer long-term plans for investing state, federal, and other resources where they can be most effective in achieving national conservation goals by addressing the State and Private Forestry (SPF) national priorities and objectives: 1) Conserve working forest lands, 2) Protect forests from harm, and 3) Enhance public benefits from trees and forests. Administered by the US Forest Service and implemented by State forestry agencies, the SPF Forest Stewardship Program encourages private forest landowners to manage their lands using professionally prepared Forest Stewardship plans. Participation in the Forest Stewardship Program requires that states and territories submit a raster dataset of priority areas specific to the Program - aligned with priority landscapes identified in Forest Action Plans - called Forest Stewardship Priority Areas, where they will focus their Program delivery efforts. Program performance measures include acres covered by active Forest Stewardship plans that are within Forest Stewardship Priority Areas.
Name: RDW_AdminAndOwnership/Forest_Stewardship_Priority_Areas
Description: With the Food, Conservation, and Energy Act of 2008 (the 2008 Farm Bill), Congress tasked states and territories to craft assessments of the forests within their boundaries and develop strategies to address threats and forest management opportunities. Now known as Forest Action Plans, these assessments and strategies provide an analysis of forest conditions and trends in the state and delineate priority forest landscape areas. They offer long-term plans for investing state, federal, and other resources where they can be most effective in achieving national conservation goals by addressing the State and Private Forestry (SPF) national priorities and objectives: 1) Conserve working forest lands, 2) Protect forests from harm, and 3) Enhance public benefits from trees and forests. Administered by the US Forest Service and implemented by State forestry agencies, the SPF Forest Stewardship Program encourages private forest landowners to manage their lands using professionally prepared Forest Stewardship plans. Participation in the Forest Stewardship Program requires that states and territories submit a raster dataset of priority areas specific to the Program - aligned with priority landscapes identified in Forest Action Plans - called Forest Stewardship Priority Areas, where they will focus their Program delivery efforts. Program performance measures include acres covered by active Forest Stewardship plans that are within Forest Stewardship Priority Areas.
Single Fused Map Cache: false
Extent:
XMin: -2.00375066736E7
YMin: -1639246.2099999972
XMax: 1.99525133264E7
YMax: 1.3578633790000003E7
Spatial Reference: 102100
(3857)
Initial Extent:
XMin: -2.00375066736E7
YMin: -1639246.2099999972
XMax: 1.99525133264E7
YMax: 1.3578633790000003E7
Spatial Reference: 102100
(3857)
Full Extent:
XMin: -2.00375066736E7
YMin: -1639246.2099999972
XMax: 1.99525133264E7
YMax: 1.3578633790000003E7
Spatial Reference: 102100
(3857)
Pixel Size X: 10.0
Pixel Size Y: 10.0
Band Count: 1
Pixel Type: U8
RasterFunction Infos: {"rasterFunctionInfos": [
{
"name": "Forest_Stewardship_symbology",
"description": "A raster function template.",
"help": ""
},
{
"name": "None",
"description": "A No-Op Function.",
"help": ""
}
]}
Mensuration Capabilities:
Has Histograms: true
Has Colormap: false
Has Multi Dimensions : false
Rendering Rule:
Min Scale: 0
Max Scale: 0
Copyright Text:
Service Data Type: esriImageServiceDataTypeThematic
Min Values: 0
Max Values: 1
Mean Values: 0.005940039292916386
Standard Deviation Values: 0.07684242783850145
Object ID Field: OBJECTID
Fields:
-
OBJECTID
(
type: esriFieldTypeOID, alias: OBJECTID
)
-
Shape
(
type: esriFieldTypeGeometry, alias: Shape
)
-
Name
(
type: esriFieldTypeString, alias: Name, length: 200
)
-
MinPS
(
type: esriFieldTypeDouble, alias: MinPS
)
-
MaxPS
(
type: esriFieldTypeDouble, alias: MaxPS
)
-
LowPS
(
type: esriFieldTypeDouble, alias: LowPS
)
-
HighPS
(
type: esriFieldTypeDouble, alias: HighPS
)
-
Category
(
type: esriFieldTypeInteger, alias: Category
, Coded Values:
[0: Unknown]
, [1: Primary]
, [2: Overview]
, ...6 more...
)
-
Tag
(
type: esriFieldTypeString, alias: Tag, length: 100
)
-
GroupName
(
type: esriFieldTypeString, alias: GroupName, length: 100
)
-
ProductName
(
type: esriFieldTypeString, alias: ProductName, length: 100
)
-
CenterX
(
type: esriFieldTypeDouble, alias: CenterX
)
-
CenterY
(
type: esriFieldTypeDouble, alias: CenterY
)
-
ZOrder
(
type: esriFieldTypeInteger, alias: ZOrder
)
-
Shape_Length
(
type: esriFieldTypeDouble, alias: Shape_Length
)
-
Shape_Area
(
type: esriFieldTypeDouble, alias: Shape_Area
)
Default Mosaic Method: Northwest
Allowed Mosaic Methods: NorthWest,Center,LockRaster,ByAttribute,Nadir,Viewpoint,Seamline,None
SortField:
SortValue: null
Mosaic Operator: First
Default Compression Quality: 75
Default Resampling Method: Nearest
Max Record Count: 1000
Max Image Height: 50000
Max Image Width: 50000
Max Download Image Count: 20
Max Mosaic Image Count: 50
Allow Raster Function: true
Allow Copy: true
Allow Analysis: true
Allow Compute TiePoints: false
Supports Statistics: true
Supports Advanced Queries: true
Use StandardizedQueries: true
Raster Type Infos:
Name: Raster Dataset
Description: Supports all ArcGIS Raster Datasets
Help:
Has Raster Attribute Table: false
Edit Fields Info: null
Ownership Based AccessControl For Rasters: null
Child Resources:
Info
Histograms
Statistics
Key Properties
Legend
Raster Function Infos
Supported Operations:
Export Image
Query
Identify
Compute Histograms
Compute Statistics Histograms
Get Samples
Compute Class Statistics
Query Boundary
Compute Pixel Location
Compute Angles
Validate
Project