View In:
ArcGIS JavaScript
ArcGIS Online Map Viewer
ArcGIS Earth
Service Description: This data product contains raster data depicting the spatial distribution of forest ownership types in the conterminous United States circa 2020. The data are a modeled representation of forest land by ownership type, and include three types of public ownership: federal, state, and local, as well as thre types of private: family (includes individuals and families), corporate, and other private (includes conservation and natural resource organizations, unincorporated partnerships and associations, and Native American tribal lands).
Name: RDW_AdminAndOwnership/Forest_Ownership_CONUS
Description: This data product contains raster data depicting the spatial distribution of forest ownership types in the conterminous United States circa 2020. The data are a modeled representation of forest land by ownership type, and include three types of public ownership: federal, state, and local, as well as thre types of private: family (includes individuals and families), corporate, and other private (includes conservation and natural resource organizations, unincorporated partnerships and associations, and Native American tribal lands).
Single Fused Map Cache: false
Extent:
XMin: -2493045.0000000014
YMin: 177268.73942266218
XMax: 2342654.9999999986
YMax: 3254398.739422662
Spatial Reference: PROJCS["NAD_1983_Albers",GEOGCS["GCS_North_American_1983",DATUM["D_North_American_1983",SPHEROID["GRS_1980",6378137.0,298.257222101]],PRIMEM["Greenwich",0.0],UNIT["Degree",0.0174532925199433]],PROJECTION["Albers"],PARAMETER["false_easting",0.0],PARAMETER["false_northing",0.0],PARAMETER["central_meridian",-96.0],PARAMETER["standard_parallel_1",29.5],PARAMETER["standard_parallel_2",45.5],PARAMETER["latitude_of_origin",23.0],UNIT["Meter",1.0]]
Initial Extent:
XMin: -2493045.0000000014
YMin: 177268.73942266218
XMax: 2342654.9999999986
YMax: 3254398.739422662
Spatial Reference: PROJCS["NAD_1983_Albers",GEOGCS["GCS_North_American_1983",DATUM["D_North_American_1983",SPHEROID["GRS_1980",6378137.0,298.257222101]],PRIMEM["Greenwich",0.0],UNIT["Degree",0.0174532925199433]],PROJECTION["Albers"],PARAMETER["false_easting",0.0],PARAMETER["false_northing",0.0],PARAMETER["central_meridian",-96.0],PARAMETER["standard_parallel_1",29.5],PARAMETER["standard_parallel_2",45.5],PARAMETER["latitude_of_origin",23.0],UNIT["Meter",1.0]]
Full Extent:
XMin: -2493045.0000000014
YMin: 177268.73942266218
XMax: 2342654.9999999986
YMax: 3254398.739422662
Spatial Reference: PROJCS["NAD_1983_Albers",GEOGCS["GCS_North_American_1983",DATUM["D_North_American_1983",SPHEROID["GRS_1980",6378137.0,298.257222101]],PRIMEM["Greenwich",0.0],UNIT["Degree",0.0174532925199433]],PROJECTION["Albers"],PARAMETER["false_easting",0.0],PARAMETER["false_northing",0.0],PARAMETER["central_meridian",-96.0],PARAMETER["standard_parallel_1",29.5],PARAMETER["standard_parallel_2",45.5],PARAMETER["latitude_of_origin",23.0],UNIT["Meter",1.0]]
Pixel Size X: 30.0
Pixel Size Y: 30.0
Band Count: 1
Pixel Type: U16
RasterFunction Infos: {"rasterFunctionInfos": [
{
"name": "CONUS",
"description": "A raster function template.",
"help": ""
},
{
"name": "Alabama",
"description": "A raster function template.",
"help": ""
},
{
"name": "Arizona",
"description": "A raster function template.",
"help": ""
},
{
"name": "Arkansas",
"description": "A raster function template.",
"help": ""
},
{
"name": "California",
"description": "A raster function template.",
"help": ""
},
{
"name": "Colorado",
"description": "A raster function template.",
"help": ""
},
{
"name": "Connecticut",
"description": "A raster function template.",
"help": ""
},
{
"name": "Delaware",
"description": "A raster function template.",
"help": ""
},
{
"name": "District_Of_Columbia",
"description": "A raster function template.",
"help": ""
},
{
"name": "Florida",
"description": "A raster function template.",
"help": ""
},
{
"name": "Georgia",
"description": "A raster function template.",
"help": ""
},
{
"name": "Idaho",
"description": "A raster function template.",
"help": ""
},
{
"name": "Illinois",
"description": "A raster function template.",
"help": ""
},
{
"name": "Indiana",
"description": "A raster function template.",
"help": ""
},
{
"name": "Iowa",
"description": "A raster function template.",
"help": ""
},
{
"name": "Kansas",
"description": "A raster function template.",
"help": ""
},
{
"name": "Kentucky",
"description": "A raster function template.",
"help": ""
},
{
"name": "Louisiana",
"description": "A raster function template.",
"help": ""
},
{
"name": "Maine",
"description": "A raster function template.",
"help": ""
},
{
"name": "Maryland",
"description": "A raster function template.",
"help": ""
},
{
"name": "Massachusetts",
"description": "A raster function template.",
"help": ""
},
{
"name": "Michigan",
"description": "A raster function template.",
"help": ""
},
{
"name": "Minnesota",
"description": "A raster function template.",
"help": ""
},
{
"name": "Mississippi",
"description": "A raster function template.",
"help": ""
},
{
"name": "Missouri",
"description": "A raster function template.",
"help": ""
},
{
"name": "Montana",
"description": "A raster function template.",
"help": ""
},
{
"name": "Nebraska",
"description": "A raster function template.",
"help": ""
},
{
"name": "Nevada",
"description": "A raster function template.",
"help": ""
},
{
"name": "New_Hampshire",
"description": "A raster function template.",
"help": ""
},
{
"name": "New_Jersey",
"description": "A raster function template.",
"help": ""
},
{
"name": "New_Mexico",
"description": "A raster function template.",
"help": ""
},
{
"name": "New_York",
"description": "A raster function template.",
"help": ""
},
{
"name": "North_Carolina",
"description": "A raster function template.",
"help": ""
},
{
"name": "North_Dakota",
"description": "A raster function template.",
"help": ""
},
{
"name": "Ohio",
"description": "A raster function template.",
"help": ""
},
{
"name": "Oklahoma",
"description": "A raster function template.",
"help": ""
},
{
"name": "Oregon",
"description": "A raster function template.",
"help": ""
},
{
"name": "Pennsylvania",
"description": "A raster function template.",
"help": ""
},
{
"name": "Rhode_Island",
"description": "A raster function template.",
"help": ""
},
{
"name": "South_Carolina",
"description": "A raster function template.",
"help": ""
},
{
"name": "South_Dakota",
"description": "A raster function template.",
"help": ""
},
{
"name": "Tennessee",
"description": "A raster function template.",
"help": ""
},
{
"name": "Texas",
"description": "A raster function template.",
"help": ""
},
{
"name": "Utah",
"description": "A raster function template.",
"help": ""
},
{
"name": "Vermont",
"description": "A raster function template.",
"help": ""
},
{
"name": "Virginia",
"description": "A raster function template.",
"help": ""
},
{
"name": "Washington",
"description": "A raster function template.",
"help": ""
},
{
"name": "West_Virginia",
"description": "A raster function template.",
"help": ""
},
{
"name": "Wisconsin",
"description": "A raster function template.",
"help": ""
},
{
"name": "Wyoming",
"description": "A raster function template.",
"help": ""
},
{
"name": "None",
"description": "A No-Op Function.",
"help": ""
}
]}
Mensuration Capabilities: Basic
Has Histograms: true
Has Colormap: false
Has Multi Dimensions : false
Rendering Rule:
Min Scale: 0
Max Scale: 0
Copyright Text:
Service Data Type: esriImageServiceDataTypeThematic
Min Values: 1
Max Values: 8
Mean Values: 2.8544260453904347
Standard Deviation Values: 2.120645168733686
Object ID Field: OBJECTID
Fields:
-
OBJECTID
(
type: esriFieldTypeOID, alias: OBJECTID
)
-
Shape
(
type: esriFieldTypeGeometry, alias: Shape
)
-
Name
(
type: esriFieldTypeString, alias: Name, length: 200
)
-
MinPS
(
type: esriFieldTypeDouble, alias: MinPS
)
-
MaxPS
(
type: esriFieldTypeDouble, alias: MaxPS
)
-
LowPS
(
type: esriFieldTypeDouble, alias: LowPS
)
-
HighPS
(
type: esriFieldTypeDouble, alias: HighPS
)
-
Category
(
type: esriFieldTypeInteger, alias: Category
, Coded Values:
[0: Unknown]
, [1: Primary]
, [2: Overview]
, ...6 more...
)
-
Tag
(
type: esriFieldTypeString, alias: Tag, length: 100
)
-
GroupName
(
type: esriFieldTypeString, alias: GroupName, length: 100
)
-
ProductName
(
type: esriFieldTypeString, alias: ProductName, length: 100
)
-
CenterX
(
type: esriFieldTypeDouble, alias: CenterX
)
-
CenterY
(
type: esriFieldTypeDouble, alias: CenterY
)
-
ZOrder
(
type: esriFieldTypeInteger, alias: ZOrder
)
-
Shape_Length
(
type: esriFieldTypeDouble, alias: Shape_Length
)
-
Shape_Area
(
type: esriFieldTypeDouble, alias: Shape_Area
)
Default Mosaic Method: Northwest
Allowed Mosaic Methods: NorthWest,Center,LockRaster,ByAttribute,Nadir,Viewpoint,Seamline,None
SortField:
SortValue: null
Mosaic Operator: First
Default Compression Quality: 75
Default Resampling Method: Nearest
Max Record Count: 1000
Max Image Height: 4100
Max Image Width: 15000
Max Download Image Count: 20
Max Mosaic Image Count: 20
Allow Raster Function: true
Allow Copy: true
Allow Analysis: true
Allow Compute TiePoints: false
Supports Statistics: true
Supports Advanced Queries: true
Use StandardizedQueries: true
Raster Type Infos:
Name: Raster Dataset
Description: Supports all ArcGIS Raster Datasets
Help:
Has Raster Attribute Table: false
Edit Fields Info: null
Ownership Based AccessControl For Rasters: null
Child Resources:
Info
Histograms
Statistics
Key Properties
Legend
Raster Function Infos
Supported Operations:
Export Image
Query
Identify
Measure
Compute Histograms
Compute Statistics Histograms
Get Samples
Compute Class Statistics
Query Boundary
Compute Pixel Location
Compute Angles
Validate
Project