{
 "currentVersion": 11.3,
 "serviceDescription": " Recent fire seasons in the continental United States have motivated federal agencies to explore scenarios for augmenting current fuel management and forest restoration in areas where fires ignite and spread to buildings in adjacent communities. This data publication contains one (1) geodatabase raster representing a spatial assessment within the continental U.S. of areas at high risk of igniting fires that spread to and expose buildings as a smoothed raster of sources of annual building exposure from wildfire. This raster was created by intersecting simulated wildfire perimeters with building location data over 10,000 to 100,000 fire seasons. These data can be used in scenario planning to helps design fuel treatment program that target wildfire exposure to developed areas. The continental scale of the data support expanded use of scenario planning science to analyze and communicate large scale expansion of current forest and fuel management initiatives.<\/SPAN><\/P><\/DIV><\/DIV><\/DIV>",
 "name": "wo_nfs_gtac/Conus_BuildingExposure_by_90mPixel",
 "description": "",
 "extent": {
  "xmin": -2356193.9112,
  "ymin": 269497.14159999974,
  "xmax": 2256396.0888,
  "ymax": 3172627.1415999997,
  "spatialReference": {
   "wkid": 102039,
   "latestWkid": 102039
  }
 },
 "initialExtent": {
  "xmin": -2356193.9112,
  "ymin": 269497.14159999974,
  "xmax": 2256396.0888,
  "ymax": 3172627.1415999997,
  "spatialReference": {
   "wkid": 102039,
   "latestWkid": 102039
  }
 },
 "fullExtent": {
  "xmin": -2356193.9112,
  "ymin": 269497.14159999974,
  "xmax": 2256396.0888,
  "ymax": 3172627.1415999997,
  "spatialReference": {
   "wkid": 102039,
   "latestWkid": 102039
  }
 },
 "sortableFields": "",
 "bandCount": 1,
 "pixelType": "F32",
 "minValues": [
  0
 ],
 "maxValues": [
  0.015469683334231377
 ],
 "meanValues": [
  3.1915718360205226E-5
 ],
 "stdvValues": [
  1.9805776349555938E-4
 ],
 "hasMultidimensions": false,
 "pixelSizeX": 90,
 "pixelSizeY": 90,
 "meanPixelSize": 90,
 "datasetFormat": "FGDBR",
 "uncompressedSize": 6612814028,
 "blockWidth": 128,
 "blockHeight": 128,
 "compressionType": "NONE",
 "bandNames": [
  "Band_1"
 ],
 "allowCopy": true,
 "allowAnalysis": true,
 "itemAccess": false,
 "inspectionCapabilities": "",
 "minPixelSize": 0,
 "maxPixelSize": 0,
 "copyrightText": "Authors:\n\nKen J. Bunzel, Kingbird Software\nAlan A. Ager, USDA Forest Service, Rocky Mountain Research Station\nMichelle A. Day, USDA Forest Service, Rocky Mountain Research Station\nCody R. Evers, Portland State University\nChris D. Ringo, Oregon State University, Funding for this project was provided by the US Forest Service, Rocky Mountain Research Station. US Forest Service State & Private Forestry. Additional acknowledgments are extended to Portland State University, Oregon State University, USDA Forest Service International Visitor Program, and Kingbird Software.",
 "serviceDataType": "esriImageServiceDataTypeGeneric",
 "serviceSourceType": "esriImageServiceSourceTypeDataset",
 "objectIdField": "",
 "fields": [],
 "capabilities": "Image,Metadata,Mensuration",
 "defaultMosaicMethod": "Center",
 "allowedMosaicMethods": "",
 "sortField": "",
 "sortValue": null,
 "sortAscending": true,
 "mosaicOperator": "First",
 "defaultCompressionQuality": 75,
 "defaultResamplingMethod": "Nearest",
 "maxImageHeight": 4100,
 "maxImageWidth": 15000,
 "allowRasterFunction": true,
 "rasterFunctionInfos": [
  {
   "name": "None",
   "description": "Make a Raster or Raster Dataset into a Function Raster Dataset.",
   "help": ""
  }
 ],
 "rasterTypeInfos": [
  {
   "name": "Raster Dataset",
   "description": "Supports all ArcGIS Raster Datasets",
   "help": ""
  }
 ],
 "mensurationCapabilities": "Basic",
 "hasHistograms": true,
 "hasColormap": false,
 "hasRasterAttributeTable": false,
 "minScale": 0,
 "maxScale": 0,
 "exportTilesAllowed": false,
 "supportsStatistics": false,
 "supportsAdvancedQueries": false,
 "editFieldsInfo": null,
 "ownershipBasedAccessControlForRasters": null,
 "allowComputeTiePoints": false,
 "useStandardizedQueries": true,
 "advancedQueryCapabilities": {
  "useStandardizedQueries": true,
  "supportsStatistics": false,
  "supportsOrderBy": false,
  "supportsDistinct": false,
  "supportsPagination": false
 },
 "spatialReference": {
  "wkid": 102039,
  "latestWkid": 102039
 }
}
