{
 "currentVersion": 11.3,
 "serviceDescription": "wo_spf_fam/Nat_cNVC_People_Infra_Hist",
 "name": "wo_spf_fam/Nat_cNVC_People_Infra_Hist",
 "description": "",
 "extent": {
  "xmin": -2362395.000000001,
  "ymin": 221265.00000000466,
  "xmax": 2327654.999999999,
  "ymax": 3267405.0000000047,
  "spatialReference": {
   "wkid": 5070,
   "latestWkid": 5070
  }
 },
 "initialExtent": {
  "xmin": -2362395.000000001,
  "ymin": 221265.00000000466,
  "xmax": 2327654.999999999,
  "ymax": 3267405.0000000047,
  "spatialReference": {
   "wkid": 5070,
   "latestWkid": 5070
  }
 },
 "fullExtent": {
  "xmin": -2362395.000000001,
  "ymin": 221265.00000000466,
  "xmax": 2327654.999999999,
  "ymax": 3267405.0000000047,
  "spatialReference": {
   "wkid": 5070,
   "latestWkid": 5070
  }
 },
 "sortableFields": "MinPS,MaxPS,LowPS,HighPS,CenterX,CenterY,ZOrder,Shape_Length,Shape_Area",
 "bandCount": 1,
 "pixelType": "U8",
 "minValues": [
  1
 ],
 "maxValues": [
  6
 ],
 "meanValues": [
  3.9502157099514
 ],
 "stdvValues": [
  1.3297645667507
 ],
 "hasMultidimensions": false,
 "pixelSizeX": 30,
 "pixelSizeY": 30,
 "meanPixelSize": 30,
 "datasetFormat": "TIFF",
 "uncompressedSize": 15873943230,
 "blockWidth": 128,
 "blockHeight": 128,
 "compressionType": "LZW",
 "bandNames": [
  "Band_1"
 ],
 "allowCopy": true,
 "allowAnalysis": true,
 "itemAccess": false,
 "inspectionCapabilities": "",
 "noDataValue": 15,
 "noDataValues": [
  15
 ],
 "minPixelSize": 0,
 "maxPixelSize": 0,
 "copyrightText": "",
 "serviceDataType": "esriImageServiceDataTypeThematic",
 "serviceSourceType": "esriImageServiceSourceTypeDataset",
 "objectIdField": "",
 "fields": [],
 "capabilities": "Image,Metadata,Catalog",
 "defaultMosaicMethod": "Northwest",
 "allowedMosaicMethods": "NorthWest,Center,LockRaster,ByAttribute,Nadir,Viewpoint,Seamline,None",
 "sortField": "",
 "sortValue": null,
 "sortAscending": true,
 "mosaicOperator": "First",
 "maxDownloadSizeLimit": 2048,
 "defaultCompressionQuality": 75,
 "defaultResamplingMethod": "Nearest",
 "maxImageHeight": 50000,
 "maxImageWidth": 50000,
 "maxRecordCount": 1000,
 "maxDownloadImageCount": 20,
 "maxMosaicImageCount": 50,
 "allowRasterFunction": true,
 "rasterFunctionInfos": [
  {
   "name": "None",
   "description": "",
   "help": ""
  }
 ],
 "rasterTypeInfos": [
  {
   "name": "Raster Dataset",
   "description": "Supports all ArcGIS Raster Datasets",
   "help": ""
  }
 ],
 "mensurationCapabilities": "",
 "hasHistograms": true,
 "hasColormap": false,
 "hasRasterAttributeTable": true,
 "minScale": 0,
 "maxScale": 0,
 "exportTilesAllowed": false,
 "supportsStatistics": false,
 "supportsAdvancedQueries": false,
 "editFieldsInfo": null,
 "ownershipBasedAccessControlForRasters": null,
 "allowComputeTiePoints": false,
 "useStandardizedQueries": true,
 "advancedQueryCapabilities": {
  "useStandardizedQueries": true,
  "supportsStatistics": false,
  "supportsOrderBy": false,
  "supportsDistinct": false,
  "supportsPagination": false
 },
 "spatialReference": {
  "wkid": 5070,
  "latestWkid": 5070
 }
}
