<?xml version="1.0" encoding="UTF-8" standalone="no"?>
<metadata>
<idinfo>
<citation>
<citeinfo>
<title>Depth to Any Restrictive Layer (cm)</title>
<geoform>raster digital data</geoform>
</citeinfo>
</citation>
<descript>
<abstract>A restrictive layer is a nearly continuous layer that has one or more physical, chemical, or thermal properties that significantly impede the movement of water and air through the soil or that restricts roots or otherwise provides an unfavorable root environment. Examples are bedrock, cemented layers, dense layers, and frozen layers.Contact: Estella Smith, Geospatial Technology and Applications Center (GTAC), USFS. estella.smith@usda.gov</abstract>
<purpose>The representative depth from the soil surface to any restrictive layer (in cm).</purpose>
</descript>
<spdom>
<bounding>
<westbc>-127.888096</westbc>
<eastbc>-65.274797</eastbc>
<northbc>51.605404</northbc>
<southbc>22.878434</southbc>
</bounding>
</spdom>
<keywords>
<theme>
<themekt>None</themekt>
<themekey>soil</themekey>
<themekey>depth to restrictive layer</themekey>
</theme>
</keywords>
<accconst>None</accconst>
<useconst>The USDA Forest Service makes no warranty, expressed or implied, including the warranties of merchantability and fitness for a particular purpose, nor assumes any legal liability or responsibility for the accuracy, reliability, completeness or utility of these geospatial data, or for the improper or incorrect use of these geospatial data. These geospatial data and related maps or graphics are not legal documents and are not intended to be used as such. The data and maps may not be used to determine title, ownership, legal descriptions or boundaries, legal jurisdiction, or restrictions that may be in place on either public or private land. Natural hazards may or may not be depicted on the data and maps, and land users should exercise due caution. The data are dynamic and may change over time. The user is responsible to verify the limitations of the geospatial data and to use the data accordingly.</useconst>
<datacred>Generated using 2022 gNATSGO soil database with NRCS Soil Data Development Toolkit (version 20201013).</datacred>
<native>Esri ArcGIS 12.9.4.32739</native>
</idinfo>
<spdoinfo>
<direct>Raster</direct>
<rastinfo>
<rasttype>Grid Cell</rasttype>
<rowcount>96754</rowcount>
<colcount>153999</colcount>
</rastinfo>
</spdoinfo>
<metainfo>
<metd>20230926</metd>
<metstdn>FGDC Content Standard for Digital Geospatial Metadata</metstdn>
<metstdv>FGDC-STD-001-1998</metstdv>
<mettc>local time</mettc>
</metainfo>
<mdChar>
<CharSetCd value="004"/>
</mdChar>
<mdHrLv>
<ScopeCd value="005"/>
</mdHrLv>
<mdDateSt>20230926</mdDateSt>
<mdStanName>ArcGIS Metadata</mdStanName>
<mdStanVer>1.0</mdStanVer>
<dataIdInfo>
<idCitation>
<resTitle>Depth_To_Any_Restriction_tif</resTitle>
<presForm>
<PresFormCd value="005"/>
</presForm>
<presForm>
<fgdcGeoform>raster digital data</fgdcGeoform>
</presForm>
</idCitation>
<idAbs>A restrictive layer is a nearly continuous layer that has one or more physical, chemical, or thermal properties that significantly impede the movement of water and air through the soil or that restricts roots or otherwise provides an unfavorable root environment. Examples are bedrock, cemented layers, dense layers, and frozen layers.Contact: Estella Smith, Geospatial Technology and Applications Center (GTAC), USFS. estella.smith@usda.gov</idAbs>
<idPurp>The representative depth from the soil surface to any restrictive layer (in cm).</idPurp>
<idCredit>Generated using 2022 gNATSGO soil database with NRCS Soil Data Development Toolkit (version 20201013).</idCredit>
<themeKeys>
<keyword>soil</keyword>
<keyword>depth to restrictive layer</keyword>
</themeKeys>
<searchKeys>
<keyword>soil</keyword>
<keyword>depth to restrictive layer</keyword>
</searchKeys>
<resConst>
<Consts>
<useLimit>The USDA Forest Service makes no warranty, expressed or implied, including the warranties of merchantability and fitness for a particular purpose, nor assumes any legal liability or responsibility for the accuracy, reliability, completeness or utility of these geospatial data, or for the improper or incorrect use of these geospatial data. These geospatial data and related maps or graphics are not legal documents and are not intended to be used as such. The data and maps may not be used to determine title, ownership, legal descriptions or boundaries, legal jurisdiction, or restrictions that may be in place on either public or private land. Natural hazards may or may not be depicted on the data and maps, and land users should exercise due caution. The data are dynamic and may change over time. The user is responsible to verify the limitations of the geospatial data and to use the data accordingly.</useLimit>
</Consts>
</resConst>
<spatRpType>
<SpatRepTypCd value="002"/>
</spatRpType>
<envirDesc>Esri ArcGIS 12.9.4.32739</envirDesc>
<dataExt>
<geoEle>
<GeoBndBox>
<exTypeCode>true</exTypeCode>
<westBL>-127.888096</westBL>
<eastBL>-65.274797</eastBL>
<northBL>51.605404</northBL>
<southBL>22.878434</southBL>
</GeoBndBox>
</geoEle>
</dataExt>
<dataLang>
<languageCode Sync="TRUE" value="eng"/>
<countryCode Sync="TRUE" value="USA"/>
</dataLang>
<dataExt>
<geoEle>
<GeoBndBox esriExtentType="search">
<exTypeCode Sync="TRUE">1</exTypeCode>
<westBL Sync="TRUE">-127.888096</westBL>
<eastBL Sync="TRUE">-65.274797</eastBL>
<northBL Sync="TRUE">51.605404</northBL>
<southBL Sync="TRUE">22.878434</southBL>
</GeoBndBox>
</geoEle>
</dataExt>
</dataIdInfo>
<spatRepInfo>
<Georect>
<numDims>2</numDims>
<axisDimension type="001">
<dimSize>96754</dimSize>
<dimResol>
<value Sync="TRUE" uom="m">30.000000</value>
</dimResol>
</axisDimension>
<axisDimension type="002">
<dimSize>153999</dimSize>
<dimResol>
<value Sync="TRUE" uom="m">30.000000</value>
</dimResol>
</axisDimension>
<cellGeo>
<CellGeoCd Sync="TRUE" value="002"/>
</cellGeo>
<tranParaAv Sync="TRUE">1</tranParaAv>
<chkPtAv Sync="TRUE">0</chkPtAv>
<cornerPts>
<pos Sync="TRUE">-2356155.000000 270015.000000</pos>
</cornerPts>
<cornerPts>
<pos Sync="TRUE">-2356155.000000 3172635.000000</pos>
</cornerPts>
<cornerPts>
<pos Sync="TRUE">2263815.000000 3172635.000000</pos>
</cornerPts>
<cornerPts>
<pos Sync="TRUE">2263815.000000 270015.000000</pos>
</cornerPts>
<centerPt>
<pos Sync="TRUE">-46170.000000 1721325.000000</pos>
</centerPt>
<ptInPixel>
<PixOrientCd Sync="TRUE" value="001"/>
</ptInPixel>
</Georect>
</spatRepInfo>
<Esri>
<ArcGISFormat>1.0</ArcGISFormat>
<DataProperties>
<itemProps>
<itemName Sync="TRUE">Depth_To_Any_Restriction.tif</itemName>
<itemLocation>
<linkage Sync="TRUE">file://V:\03_Soil\06_Data\Single-Dim_Final_TIFs\Depth_To_Any_Restriction.tif</linkage>
<protocol Sync="TRUE">Local Area Network</protocol>
</itemLocation>
<imsContentType Sync="TRUE">002</imsContentType>
<nativeExtBox>
<westBL Sync="TRUE">-2356155.000000</westBL>
<eastBL Sync="TRUE">2263815.000000</eastBL>
<southBL Sync="TRUE">270015.000000</southBL>
<northBL Sync="TRUE">3172635.000000</northBL>
<exTypeCode Sync="TRUE">1</exTypeCode>
</nativeExtBox>
</itemProps>
<coordRef>
<type Sync="TRUE">Projected</type>
<geogcsn Sync="TRUE">GCS_North_American_1983</geogcsn>
<csUnits Sync="TRUE">Linear Unit: Meter (1.000000)</csUnits>
<projcsn Sync="TRUE">NAD_1983_Contiguous_USA_Albers</projcsn>
<peXml Sync="TRUE">&lt;ProjectedCoordinateSystem xsi:type='typens:ProjectedCoordinateSystem' xmlns:xsi='http://www.w3.org/2001/XMLSchema-instance' xmlns:xs='http://www.w3.org/2001/XMLSchema' xmlns:typens='http://www.esri.com/schemas/ArcGIS/2.9.0'&gt;&lt;WKT&gt;PROJCS[&amp;quot;NAD_1983_Contiguous_USA_Albers&amp;quot;,GEOGCS[&amp;quot;GCS_North_American_1983&amp;quot;,DATUM[&amp;quot;D_North_American_1983&amp;quot;,SPHEROID[&amp;quot;GRS_1980&amp;quot;,6378137.0,298.257222101]],PRIMEM[&amp;quot;Greenwich&amp;quot;,0.0],UNIT[&amp;quot;Degree&amp;quot;,0.0174532925199433]],PROJECTION[&amp;quot;Albers&amp;quot;],PARAMETER[&amp;quot;False_Easting&amp;quot;,0.0],PARAMETER[&amp;quot;False_Northing&amp;quot;,0.0],PARAMETER[&amp;quot;Central_Meridian&amp;quot;,-96.0],PARAMETER[&amp;quot;Standard_Parallel_1&amp;quot;,29.5],PARAMETER[&amp;quot;Standard_Parallel_2&amp;quot;,45.5],PARAMETER[&amp;quot;Latitude_Of_Origin&amp;quot;,23.0],UNIT[&amp;quot;Meter&amp;quot;,1.0],AUTHORITY[&amp;quot;EPSG&amp;quot;,5070]]&lt;/WKT&gt;&lt;XOrigin&gt;-16901100&lt;/XOrigin&gt;&lt;YOrigin&gt;-6972200&lt;/YOrigin&gt;&lt;XYScale&gt;266467840.99085236&lt;/XYScale&gt;&lt;ZOrigin&gt;-100000&lt;/ZOrigin&gt;&lt;ZScale&gt;10000&lt;/ZScale&gt;&lt;MOrigin&gt;-100000&lt;/MOrigin&gt;&lt;MScale&gt;10000&lt;/MScale&gt;&lt;XYTolerance&gt;0.001&lt;/XYTolerance&gt;&lt;ZTolerance&gt;0.001&lt;/ZTolerance&gt;&lt;MTolerance&gt;0.001&lt;/MTolerance&gt;&lt;HighPrecision&gt;true&lt;/HighPrecision&gt;&lt;WKID&gt;5070&lt;/WKID&gt;&lt;LatestWKID&gt;5070&lt;/LatestWKID&gt;&lt;/ProjectedCoordinateSystem&gt;</peXml>
</coordRef>
<RasterProperties>
<General>
<PixelDepth Sync="TRUE">16</PixelDepth>
<HasColormap Sync="TRUE">FALSE</HasColormap>
<CompressionType Sync="TRUE">LZW</CompressionType>
<NumBands Sync="TRUE">1</NumBands>
<Format Sync="TRUE">TIFF</Format>
<HasPyramids Sync="TRUE">TRUE</HasPyramids>
<SourceType Sync="TRUE">discrete</SourceType>
<PixelType Sync="TRUE">unsigned integer</PixelType>
<NoDataValue Sync="TRUE">65535</NoDataValue>
</General>
</RasterProperties>
</DataProperties>
<SyncDate>20230926</SyncDate>
<SyncTime>10295500</SyncTime>
<ModDate>20230926</ModDate>
<ModTime>10295500</ModTime>
</Esri>
<Binary/>
<mdLang>
<languageCode Sync="TRUE" value="eng"/>
<countryCode Sync="TRUE" value="USA"/>
</mdLang>
<distInfo>
<distFormat>
<formatName Sync="TRUE">Raster Dataset</formatName>
</distFormat>
</distInfo>
<mdHrLvName Sync="TRUE">dataset</mdHrLvName>
<refSysInfo>
<RefSystem>
<refSysID>
<identCode Sync="TRUE" code="5070"/>
<idCodeSpace Sync="TRUE">EPSG</idCodeSpace>
<idVersion Sync="TRUE">7.4.6(10.1.0)</idVersion>
</refSysID>
</RefSystem>
</refSysInfo>
<contInfo>
<ImgDesc>
<contentTyp>
<ContentTypCd Sync="TRUE" value="002"/>
</contentTyp>
<covDim>
<Band>
<dimDescrp Sync="TRUE">Band_1</dimDescrp>
<maxVal Sync="TRUE">508.000000</maxVal>
<minVal Sync="TRUE">0.000000</minVal>
<bitsPerVal Sync="TRUE">16</bitsPerVal>
<valUnit>
<UOM type="length"/>
</valUnit>
</Band>
</covDim>
</ImgDesc>
</contInfo>
</metadata>
