{
 "currentVersion": 11.3,
 "serviceDescription": "wo_nfs_gtac-AET_Winter_1981_2010",
 "name": "wo_nfs_gtac/AET_Winter_1981_2010",
 "description": "wo_nfs_gtac-AET_Winter_1981_2010",
 "extent": {
  "xmin": -125.020833333,
  "ymin": 24.062499999999957,
  "xmax": -66.479166198,
  "ymax": 49.93750020699996,
  "spatialReference": {
   "wkid": 4269,
   "latestWkid": 4269
  }
 },
 "initialExtent": {
  "xmin": -125.020833333,
  "ymin": 24.062499999999957,
  "xmax": -66.479166198,
  "ymax": 49.93750020699996,
  "spatialReference": {
   "wkid": 4269,
   "latestWkid": 4269
  }
 },
 "fullExtent": {
  "xmin": -125.020833333,
  "ymin": 24.062499999999957,
  "xmax": -66.479166198,
  "ymax": 49.93750020699996,
  "spatialReference": {
   "wkid": 4269,
   "latestWkid": 4269
  }
 },
 "sortableFields": "",
 "bandCount": 1,
 "pixelType": "F64",
 "minValues": [
  0
 ],
 "maxValues": [
  158.29760483315
 ],
 "meanValues": [
  33.911372377028
 ],
 "stdvValues": [
  38.186828822265
 ],
 "hasMultidimensions": false,
 "pixelSizeX": 0.041666667,
 "pixelSizeY": 0.041666667,
 "meanPixelSize": 4638.312153492895,
 "datasetFormat": "IMAGINE Image",
 "uncompressedSize": 6980040,
 "blockWidth": 64,
 "blockHeight": 64,
 "compressionType": "None",
 "bandNames": [
  "Layer_1"
 ],
 "allowCopy": true,
 "allowAnalysis": true,
 "itemAccess": false,
 "inspectionCapabilities": "",
 "noDataValue": -1.7976931348623157E308,
 "noDataValues": [
  -1.7976931348623157E308
 ],
 "minPixelSize": 0,
 "maxPixelSize": 0,
 "copyrightText": "",
 "serviceDataType": "esriImageServiceDataTypeGeneric",
 "serviceSourceType": "esriImageServiceSourceTypeDataset",
 "objectIdField": "",
 "fields": [],
 "capabilities": "Image,Metadata,Mensuration",
 "defaultMosaicMethod": "Center",
 "allowedMosaicMethods": "",
 "sortField": "",
 "sortValue": null,
 "sortAscending": true,
 "mosaicOperator": "First",
 "maxDownloadSizeLimit": 2097196,
 "defaultCompressionQuality": 75,
 "defaultResamplingMethod": "Bilinear",
 "maxImageHeight": 4100,
 "maxImageWidth": 15000,
 "allowRasterFunction": true,
 "rasterFunctionInfos": [
  {
   "name": "None",
   "description": "",
   "help": ""
  }
 ],
 "rasterTypeInfos": [
  {
   "name": "Raster Dataset",
   "description": "Supports all ArcGIS Raster Datasets",
   "help": ""
  }
 ],
 "mensurationCapabilities": "Basic",
 "hasHistograms": false,
 "hasColormap": false,
 "hasRasterAttributeTable": false,
 "minScale": 0,
 "maxScale": 0,
 "exportTilesAllowed": false,
 "supportsStatistics": false,
 "supportsAdvancedQueries": false,
 "editFieldsInfo": null,
 "ownershipBasedAccessControlForRasters": null,
 "allowComputeTiePoints": false,
 "useStandardizedQueries": true,
 "advancedQueryCapabilities": {
  "useStandardizedQueries": true,
  "supportsStatistics": false,
  "supportsOrderBy": false,
  "supportsDistinct": false,
  "supportsPagination": false
 },
 "spatialReference": {
  "wkid": 4269,
  "latestWkid": 4269
 }
}
