<?xml version="1.0" encoding="UTF-8" standalone="no"?>
<metadata xml:lang="en">
<Esri>
<CreaDate>20240924</CreaDate>
<CreaTime>17495300</CreaTime>
<ArcGISFormat>1.0</ArcGISFormat>
<SyncOnce>FALSE</SyncOnce>
<DataProperties>
<lineage>
<Process Date="20200812" Name="" Time="150609" ToolSource="e:\program files (x86)\arcgis\desktop10.4\ArcToolbox\Toolboxes\Data Management Tools.tbx\CalculateStatistics" export="">CalculateStatistics \\usda.net\FS\FS\GTAC_1\ERDM\Prod\erdm_prod0\FGDB_MDS\Region10.gdb\AK_Tongass_NF_MultiRes_2018_RGB 50 50 # OVERWRITE "Feature Set"</Process>
<Process Date="20200812" Name="" Time="150810" ToolSource="e:\program files (x86)\arcgis\desktop10.4\ArcToolbox\Toolboxes\Data Management Tools.tbx\DefineOverviews" export="">DefineOverviews \\usda.net\FS\FS\GTAC_1\ERDM\Prod\erdm_prod0\FGDB_MDS\Region10.gdb\AK_Tongass_NF_MultiRes_2018_RGB \\usda.net\FS\FS\GTAC_1\ERDM\Prod\erdm_prod0\Arc_Ovrviews\Region10.Overviews\AK_Tongass_NF_MultiRes_2018_RGB.Overviews # "-15074970.5561 7423625.0687 -14601478.7435 8075068.3937" # # 5120 5120 3 FORCE_OVERVIEW_TILES BILINEAR JPEG 80</Process>
<Process Date="20200812" Name="" Time="160146" ToolSource="e:\program files (x86)\arcgis\desktop10.4\ArcToolbox\Toolboxes\Data Management Tools.tbx\BuildOverviews" export="">BuildOverviews \\usda.net\FS\FS\GTAC_1\ERDM\Prod\erdm_prod0\FGDB_MDS\Region10.gdb\AK_Tongass_NF_MultiRes_2018_RGB # NO_DEFINE_MISSING_TILES GENERATE_OVERVIEWS GENERATE_MISSING_IMAGES REGENERATE_STALE_IMAGES</Process>
<Process Date="20240924" Time="175931" ToolSource="e:\program files\arcgis\pro\Resources\ArcToolbox\Toolboxes\Data Management Tools.tbx\CopyMultiple">CopyMultiple "\\usda.net\fs\FS\GTAC_1\ERDM\Prod\erdm_prod0\FGDB_MDS\Region10.gdb\AK_Chugach_1m_2006_Pan MosaicDataset;\\usda.net\fs\FS\GTAC_1\ERDM\Prod\erdm_prod0\FGDB_MDS\Region10.gdb\AK_Chugach_NF_30cm_2020 MosaicDataset;\\usda.net\fs\FS\GTAC_1\ERDM\Prod\erdm_prod0\FGDB_MDS\Region10.gdb\AK_Chugach_NF_60cm_2010_4Band MosaicDataset;\\usda.net\fs\FS\GTAC_1\ERDM\Prod\erdm_prod0\FGDB_MDS\Region10.gdb\AK_Chugach_NF_MultiRes_2016_RGB MosaicDataset;\\usda.net\fs\FS\GTAC_1\ERDM\Prod\erdm_prod0\FGDB_MDS\Region10.gdb\AK_Tongass_NF_1m_2006_2008_RGB MosaicDataset;\\usda.net\fs\FS\GTAC_1\ERDM\Prod\erdm_prod0\FGDB_MDS\Region10.gdb\AK_Tongass_NF_1m_2006Census_RGB MosaicDataset;\\usda.net\fs\FS\GTAC_1\ERDM\Prod\erdm_prod0\FGDB_MDS\Region10.gdb\AK_Tongass_NF_2m_1996to1998_Pan MosaicDataset;\\usda.net\fs\FS\GTAC_1\ERDM\Prod\erdm_prod0\FGDB_MDS\Region10.gdb\AK_Tongass_NF_30cm_2009_2010_4Band MosaicDataset;\\usda.net\fs\FS\GTAC_1\ERDM\Prod\erdm_prod0\FGDB_MDS\Region10.gdb\AK_Tongass_NF_HeenLatinee_30cm_2012_4band MosaicDataset;\\usda.net\fs\FS\GTAC_1\ERDM\Prod\erdm_prod0\FGDB_MDS\Region10.gdb\AK_Tongass_NF_Juneau_30cm_2006_RGB MosaicDataset;\\usda.net\fs\FS\GTAC_1\ERDM\Prod\erdm_prod0\FGDB_MDS\Region10.gdb\AK_Tongass_NF_MultiRes_2013_RGB MosaicDataset;\\usda.net\fs\FS\GTAC_1\ERDM\Prod\erdm_prod0\FGDB_MDS\Region10.gdb\AK_Tongass_NF_MultiRes_2014_RGB MosaicDataset;\\usda.net\fs\FS\GTAC_1\ERDM\Prod\erdm_prod0\FGDB_MDS\Region10.gdb\AK_Tongass_NF_MultiRes_2015_RGB MosaicDataset;\\usda.net\fs\FS\GTAC_1\ERDM\Prod\erdm_prod0\FGDB_MDS\Region10.gdb\AK_Tongass_NF_MultiRes_2016_RGB MosaicDataset;\\usda.net\fs\FS\GTAC_1\ERDM\Prod\erdm_prod0\FGDB_MDS\Region10.gdb\AK_Tongass_NF_MultiRes_2017_RGB MosaicDataset;\\usda.net\fs\FS\GTAC_1\ERDM\Prod\erdm_prod0\FGDB_MDS\Region10.gdb\AK_Tongass_NF_MultiRes_2018_RGB MosaicDataset;\\usda.net\fs\FS\GTAC_1\ERDM\Prod\erdm_prod0\FGDB_MDS\Region10.gdb\AK_Tongass_PrinceOfWales_KetchikanMisty_30cm_2019_VNIR MosaicDataset;\\usda.net\fs\FS\GTAC_1\ERDM\Prod\erdm_prod0\FGDB_MDS\Region10.gdb\AK_YukonFlats_NWR_1m_2011_4band MosaicDataset" \\usda.net\fs\FS\GTAC_1\ERDM\Prod\erdm_prod0\FGDB_Public_Services\fsgisx03\Region_10.gdb AK_Chugach_1m_2006_Pan;AK_Chugach_NF_30cm_2020;AK_Chugach_NF_60cm_2010_4Band_1;AK_Chugach_NF_MultiRes_2016_RGB;AK_Tongass_NF_1m_2006_2008_RGB;AK_Tongass_NF_1m_2006Census_RGB;AK_Tongass_NF_2m_1996to1998_Pan;AK_Tongass_NF_30cm_2009_2010_4Band;AK_Tongass_NF_HeenLatinee_30cm_2012_4band;AK_Tongass_NF_Juneau_30cm_2006_RGB;AK_Tongass_NF_MultiRes_2013_RGB;AK_Tongass_NF_MultiRes_2014_RGB;AK_Tongass_NF_MultiRes_2015_RGB;AK_Tongass_NF_MultiRes_2016_RGB;AK_Tongass_NF_MultiRes_2017_RGB;AK_Tongass_NF_MultiRes_2018_RGB;AK_Tongass_PrinceOfWales_KetchikanMisty_30cm_2019_VNIR;AK_YukonFlats_NWR_1m_2011_4band "AK_Chugach_1m_2006_Pan MosaicDataset AK_Chugach_1m_2006_Pan #;AK_Chugach_NF_30cm_2020 MosaicDataset AK_Chugach_NF_30cm_2020 #;AK_Chugach_NF_60cm_2010_4Band MosaicDataset AK_Chugach_NF_60cm_2010_4Band_1 #;AK_Chugach_NF_MultiRes_2016_RGB MosaicDataset AK_Chugach_NF_MultiRes_2016_RGB #;AK_Tongass_NF_1m_2006_2008_RGB MosaicDataset AK_Tongass_NF_1m_2006_2008_RGB #;AK_Tongass_NF_1m_2006Census_RGB MosaicDataset AK_Tongass_NF_1m_2006Census_RGB #;AK_Tongass_NF_2m_1996to1998_Pan MosaicDataset AK_Tongass_NF_2m_1996to1998_Pan #;AK_Tongass_NF_30cm_2009_2010_4Band MosaicDataset AK_Tongass_NF_30cm_2009_2010_4Band #;AK_Tongass_NF_HeenLatinee_30cm_2012_4band MosaicDataset AK_Tongass_NF_HeenLatinee_30cm_2012_4band #;AK_Tongass_NF_Juneau_30cm_2006_RGB MosaicDataset AK_Tongass_NF_Juneau_30cm_2006_RGB #;AK_Tongass_NF_MultiRes_2013_RGB MosaicDataset AK_Tongass_NF_MultiRes_2013_RGB #;AK_Tongass_NF_MultiRes_2014_RGB MosaicDataset AK_Tongass_NF_MultiRes_2014_RGB #;AK_Tongass_NF_MultiRes_2015_RGB MosaicDataset AK_Tongass_NF_MultiRes_2015_RGB #;AK_Tongass_NF_MultiRes_2016_RGB MosaicDataset AK_Tongass_NF_MultiRes_2016_RGB #;AK_Tongass_NF_MultiRes_2017_RGB MosaicDataset AK_Tongass_NF_MultiRes_2017_RGB #;AK_Tongass_NF_MultiRes_2018_RGB MosaicDataset AK_Tongass_NF_MultiRes_2018_RGB #;AK_Tongass_PrinceOfWales_KetchikanMisty_30cm_2019_VNIR MosaicDataset AK_Tongass_PrinceOfWales_KetchikanMisty_30cm_2019_VNIR #;AK_YukonFlats_NWR_1m_2011_4band MosaicDataset AK_YukonFlats_NWR_1m_2011_4band #"</Process>
</lineage>
<itemProps>
<itemName Sync="TRUE">AK_Tongass_NF_MultiRes_2018_RGB</itemName>
<itemLocation>
<linkage Sync="TRUE">file://\\usda.net\fs\FS\GTAC_1\ERDM\Prod\erdm_prod0\FGDB_Public_Services\fsgisx03\Region_10.gdb</linkage>
<protocol Sync="TRUE">Local Area Network</protocol>
</itemLocation>
<nativeExtBox>
<westBL Sync="TRUE">-15074970.556100</westBL>
<eastBL Sync="TRUE">-14601478.756100</eastBL>
<southBL Sync="TRUE">7423624.993700</southBL>
<northBL Sync="TRUE">8075068.393700</northBL>
<exTypeCode Sync="TRUE">1</exTypeCode>
</nativeExtBox>
</itemProps>
<coordRef>
<type Sync="TRUE">Projected</type>
<geogcsn Sync="TRUE">GCS_WGS_1984</geogcsn>
<csUnits Sync="TRUE">Linear Unit: Meter (1.000000)</csUnits>
<projcsn Sync="TRUE">WGS_1984_Web_Mercator_Auxiliary_Sphere</projcsn>
<peXml Sync="TRUE">&lt;ProjectedCoordinateSystem xsi:type='typens:ProjectedCoordinateSystem' xmlns:xsi='http://www.w3.org/2001/XMLSchema-instance' xmlns:xs='http://www.w3.org/2001/XMLSchema' xmlns:typens='http://www.esri.com/schemas/ArcGIS/10.7'&gt;&lt;WKT&gt;PROJCS[&amp;quot;WGS_1984_Web_Mercator_Auxiliary_Sphere&amp;quot;,GEOGCS[&amp;quot;GCS_WGS_1984&amp;quot;,DATUM[&amp;quot;D_WGS_1984&amp;quot;,SPHEROID[&amp;quot;WGS_1984&amp;quot;,6378137.0,298.257223563]],PRIMEM[&amp;quot;Greenwich&amp;quot;,0.0],UNIT[&amp;quot;Degree&amp;quot;,0.0174532925199433]],PROJECTION[&amp;quot;Mercator_Auxiliary_Sphere&amp;quot;],PARAMETER[&amp;quot;False_Easting&amp;quot;,0.0],PARAMETER[&amp;quot;False_Northing&amp;quot;,0.0],PARAMETER[&amp;quot;Central_Meridian&amp;quot;,0.0],PARAMETER[&amp;quot;Standard_Parallel_1&amp;quot;,0.0],PARAMETER[&amp;quot;Auxiliary_Sphere_Type&amp;quot;,0.0],UNIT[&amp;quot;Meter&amp;quot;,1.0],AUTHORITY[&amp;quot;EPSG&amp;quot;,3857]]&lt;/WKT&gt;&lt;XOrigin&gt;-20037700&lt;/XOrigin&gt;&lt;YOrigin&gt;-30241100&lt;/YOrigin&gt;&lt;XYScale&gt;148923141.92838538&lt;/XYScale&gt;&lt;ZOrigin&gt;-100000&lt;/ZOrigin&gt;&lt;ZScale&gt;10000&lt;/ZScale&gt;&lt;MOrigin&gt;-100000&lt;/MOrigin&gt;&lt;MScale&gt;10000&lt;/MScale&gt;&lt;XYTolerance&gt;0.001&lt;/XYTolerance&gt;&lt;ZTolerance&gt;0.001&lt;/ZTolerance&gt;&lt;MTolerance&gt;0.001&lt;/MTolerance&gt;&lt;HighPrecision&gt;true&lt;/HighPrecision&gt;&lt;WKID&gt;102100&lt;/WKID&gt;&lt;LatestWKID&gt;3857&lt;/LatestWKID&gt;&lt;/ProjectedCoordinateSystem&gt;</peXml>
</coordRef>
<RasterProperties>
<General>
<PixelDepth Sync="TRUE">8</PixelDepth>
<HasColormap Sync="TRUE">FALSE</HasColormap>
<CompressionType Sync="TRUE">None</CompressionType>
<NumBands Sync="TRUE">3</NumBands>
<Format Sync="TRUE">AMD</Format>
<HasPyramids Sync="TRUE">TRUE</HasPyramids>
<SourceType Sync="TRUE">continuous</SourceType>
<PixelType Sync="TRUE">unsigned integer</PixelType>
<NoDataValue Sync="TRUE">0</NoDataValue>
</General>
<Properties>
<MaxImageHeight Sync="TRUE">50000</MaxImageHeight>
<MaxImageWidth Sync="TRUE">50000</MaxImageWidth>
<MaxRecordCount Sync="TRUE">1000</MaxRecordCount>
<MaxDownloadImageCount Sync="TRUE">20</MaxDownloadImageCount>
<MaxDownloadSizeLimit Sync="TRUE">2048</MaxDownloadSizeLimit>
<MaxMosaicImageCount Sync="TRUE">20</MaxMosaicImageCount>
<DefaultCompressionQuality Sync="TRUE">75</DefaultCompressionQuality>
<DefaultCompressionTolerance Sync="TRUE">0.01</DefaultCompressionTolerance>
<BlendWidth Sync="TRUE">10</BlendWidth>
<ViewpointSpacingX Sync="TRUE">600</ViewpointSpacingX>
<ViewpointSpacingY Sync="TRUE">300</ViewpointSpacingY>
<AllowedItemMetadata Sync="TRUE">Basic</AllowedItemMetadata>
<DefaultResamplingMethod Sync="TRUE">1</DefaultResamplingMethod>
<AllowedMosaicMethods Sync="TRUE">NorthWest,Center,LockRaster,ByAttribute,Nadir,Viewpoint,Seamline,None</AllowedMosaicMethods>
<AllowedCompressions Sync="TRUE">None,JPEG,LZ77,LERC</AllowedCompressions>
<AllowedMensurationCapabilities Sync="TRUE">None</AllowedMensurationCapabilities>
<AvailableMensurationCapabilities Sync="TRUE">None,Basic,Base-Top Height,Top-Top Shadow Height,Base-Top Shadow Height,3D</AvailableMensurationCapabilities>
<ClipToBoundary Sync="TRUE">-1</ClipToBoundary>
<FootprintMayContainNoData Sync="TRUE">-1</FootprintMayContainNoData>
<CellSizeTolerance Sync="TRUE">0.8</CellSizeTolerance>
<MinimumPixelContribution Sync="TRUE">1</MinimumPixelContribution>
<AvailableMosaicMethods Sync="TRUE">NorthWest,Center,LockRaster,ByAttribute,Nadir,Viewpoint,Seamline,None</AvailableMosaicMethods>
<AvailableCompressionMethods Sync="TRUE">None,JPEG,LZ77,LERC</AvailableCompressionMethods>
<AvailableItemMetadataLevels Sync="TRUE">None,Basic,Full</AvailableItemMetadataLevels>
<ConfigKeyword Sync="TRUE"/>
<BandDefinitionKeyword Sync="TRUE">NONE</BandDefinitionKeyword>
<AllowedFields Sync="TRUE">Name,MinPS,MaxPS,LowPS,HighPS,Tag,GroupName,ProductName,CenterX,CenterY,ZOrder,Shape_Length,Shape_Area</AllowedFields>
<LowCellSize Sync="TRUE">9.99999999999992E-02</LowCellSize>
<HighCellSize Sync="TRUE">1866.24</HighCellSize>
<MaxCellSize Sync="TRUE">93312.0000000001</MaxCellSize>
<ApplyColorCorrection Sync="TRUE">0</ApplyColorCorrection>
<TimeStamp.RemoveItems Sync="TRUE">43264.6397150231</TimeStamp.RemoveItems>
<TimeStamp.UpdateExtent Sync="TRUE">43264.6397230671</TimeStamp.UpdateExtent>
<TimeValueFormat Sync="TRUE"/>
<EndTimeFieldName Sync="TRUE"/>
<StartTimeFieldName Sync="TRUE"/>
<TimeIntervalUnits Sync="TRUE"/>
<TimeInterval Sync="TRUE"/>
<MosaicOperator Sync="TRUE">1</MosaicOperator>
<BlendWidthUnits Sync="TRUE">1</BlendWidthUnits>
<UseTime Sync="TRUE">0</UseTime>
<SortAscending Sync="TRUE">-1</SortAscending>
<ClipToFootprint Sync="TRUE">0</ClipToFootprint>
<SortField Sync="TRUE">Name</SortField>
<SortValue Sync="TRUE">0</SortValue>
</Properties>
<Functions Sync="TRUE">
<Function Description="Performs on-the-fly mosaic on a raster catalog." Name="Mosaic Function"/>
</Functions>
</RasterProperties>
</DataProperties>
<SyncDate>20211014</SyncDate>
<SyncTime>12553000</SyncTime>
<ModDate>20211014</ModDate>
<ModTime>12555500</ModTime>
<scaleRange>
<minScale>150000000</minScale>
<maxScale>5000</maxScale>
</scaleRange>
<ArcGISProfile>ItemDescription</ArcGISProfile>
</Esri>
<dataIdInfo>
<envirDesc Sync="TRUE"> Version 6.2 (Build 9200) ; Esri ArcGIS 10.7.1.11595</envirDesc>
<dataLang>
<languageCode Sync="TRUE" value="eng"/>
<countryCode Sync="TRUE" value="USA"/>
</dataLang>
<idCitation>
<resTitle Sync="TRUE">Tongass_NF_MultiRes_2018_RGB</resTitle>
<presForm>
<PresFormCd Sync="TRUE" value="005"/>
</presForm>
</idCitation>
<spatRpType>
<SpatRepTypCd Sync="TRUE" value="002"/>
</spatRpType>
<dataExt>
<geoEle>
<GeoBndBox esriExtentType="search">
<exTypeCode Sync="TRUE">1</exTypeCode>
<westBL Sync="TRUE">-135.420765</westBL>
<eastBL Sync="TRUE">-131.167315</eastBL>
<northBL Sync="TRUE">58.509268</northBL>
<southBL Sync="TRUE">55.316954</southBL>
</GeoBndBox>
</geoEle>
</dataExt>
<idPurp>Imagery acquired with airborne sensors contain camera and terrain related distortions which make the images unsuitable for geospatial analysis as positions within the image may be significantly inaccurate. A digital orthophoto is a georeferenced image prepared from aerial imagery, or other remotely-sensed data in which the displacement within the image due to sensor orientation and terrain relief has been removed. Orthophotos combine the image characteristics of an image with the geometric qualities of a map. Orthoimages show ground features such as roads, buildings, and streams in their proper positions, without the distortion characteristic of unrectified aerial imagery. Digital Orthoimages formatted in quarter quarter quadrangle extents are known as Digital Orthophoto Quarter Quarter Quadrangles, or DOQQQs. Digital Orthoimages produced and used within the Forest Service are developed from imagery acquired through various national and regional image acquisition programs. The resulting orthoimages, also known as orthomaps, can be directly applied in remote sensing, GIS and mapping applications. They serve a variety of purposes, from interim maps to field Standards for Digital Orthophotos references for earth science investigations and analysis. Because of the orthographic property, an orthoimage can be used like a map for measurement of distances, angles, and areas with scale being constant everywhere. Also they can be used as map layers in GIS or other computer based manipulation, overlaying, and analysis. An orthoimage differs from a map in a manner of depiction of detail; on the map only selected detail is shown by conventional symbols, whereas on an orthoimage all details appear just as in original satellite imagery.</idPurp>
<idAbs>	Imagery acquired with airborne sensors contain camera and terrain related distortions which make the images unsuitable for geospatial analysis as positions within the image may be significantly inaccurate. A digital orthophoto is a georeferenced image prepared from aerial imagery, or other remotely-sensed data in which the displacement within the image due to sensor orientation and terrain relief has been removed. Orthophotos combine the image characteristics of an image with the geometric qualities of a map. Orthoimages show ground features such as roads, buildings, and streams in their proper positions, without the distortion characteristic of unrectified aerial imagery. Digital Orthoimages formatted in quarter quarter quadrangle extents are known as Digital Orthophoto Quarter Quarter Quadrangles, or DOQQQs. Digital Orthoimages produced and used within the Forest Service are developed from imagery acquired through various national and regional image acquisition programs. The resulting orthoimages, also known as orthomaps, can be directly applied in remote sensing, GIS and mapping applications. They serve a variety of purposes, from interim maps to field Standards for Digital Orthophotos references for earth science investigations and analysis. Because of the orthographic property, an orthoimage can be used like a map for measurement of distances, angles, and areas with scale being constant everywhere. Also they can be used as map layers in GIS or other computer based manipulation, overlaying, and analysis. An orthoimage differs from a map in a manner of depiction of detail; on the map only selected detail is shown by conventional symbols, whereas on an orthoimage all details appear just as in original satellite imagery.</idAbs>
<idCredit/>
<searchKeys>
<keyword>AK; Tongass; 2013; resource photography</keyword>
</searchKeys>
<resConst>
<Consts>
<useLimit/>
</Consts>
</resConst>
</dataIdInfo>
<mdLang>
<languageCode Sync="TRUE" value="eng"/>
<countryCode Sync="TRUE" value="USA"/>
</mdLang>
<refSysInfo>
<RefSystem>
<refSysID>
<identCode Sync="TRUE" code="3857"/>
<idCodeSpace Sync="TRUE">EPSG</idCodeSpace>
<idVersion Sync="TRUE">8.8(9.3.1.2)</idVersion>
</refSysID>
</RefSystem>
</refSysInfo>
<spatRepInfo>
<Georect>
<cellGeo>
<CellGeoCd Sync="TRUE" value="002"/>
</cellGeo>
<numDims Sync="TRUE">2</numDims>
<tranParaAv Sync="TRUE">1</tranParaAv>
<chkPtAv Sync="TRUE">0</chkPtAv>
<cornerPts>
<pos Sync="TRUE">-15074970.556100 7423624.993700</pos>
</cornerPts>
<cornerPts>
<pos Sync="TRUE">-15074970.556100 8075068.393700</pos>
</cornerPts>
<cornerPts>
<pos Sync="TRUE">-14601478.756100 8075068.393700</pos>
</cornerPts>
<cornerPts>
<pos Sync="TRUE">-14601478.756100 7423624.993700</pos>
</cornerPts>
<centerPt>
<pos Sync="TRUE">-14838224.656100 7749346.693700</pos>
</centerPt>
<axisDimension type="002">
<dimSize Sync="TRUE">4734918</dimSize>
<dimResol>
<value Sync="TRUE" uom="m">0.100000</value>
</dimResol>
</axisDimension>
<axisDimension type="001">
<dimSize Sync="TRUE">6514434</dimSize>
<dimResol>
<value Sync="TRUE" uom="m">0.100000</value>
</dimResol>
</axisDimension>
<ptInPixel>
<PixOrientCd Sync="TRUE" value="001"/>
</ptInPixel>
</Georect>
</spatRepInfo>
<contInfo>
<ImgDesc>
<contentTyp>
<ContentTypCd Sync="TRUE" value="001"/>
</contentTyp>
<covDim>
<Band>
<dimDescrp Sync="TRUE">Band_1</dimDescrp>
<maxVal Sync="TRUE">255.000000</maxVal>
<minVal Sync="TRUE">1.000000</minVal>
<bitsPerVal Sync="TRUE">8</bitsPerVal>
<valUnit>
<UOM type="length"/>
</valUnit>
</Band>
<Band>
<dimDescrp Sync="TRUE">Band_2</dimDescrp>
<maxVal Sync="TRUE">255.000000</maxVal>
<minVal Sync="TRUE">1.000000</minVal>
<bitsPerVal Sync="TRUE">8</bitsPerVal>
<valUnit>
<UOM type="length"/>
</valUnit>
</Band>
<Band>
<dimDescrp Sync="TRUE">Band_3</dimDescrp>
<maxVal Sync="TRUE">255.000000</maxVal>
<minVal Sync="TRUE">1.000000</minVal>
<bitsPerVal Sync="TRUE">8</bitsPerVal>
<valUnit>
<UOM type="length"/>
</valUnit>
</Band>
</covDim>
</ImgDesc>
</contInfo>
<mdDateSt Sync="TRUE">20211014</mdDateSt>
<mdHrLv>
<ScopeCd value="005"/>
</mdHrLv>
</metadata>
