{
 "currentVersion": 11.3,
 "serviceDescription": "r10/TongassNF_ExistingVegetation_QMD_GTE9inDBH_DRAFT",
 "name": "r10/TongassNF_ExistingVegetation_QMD_GTE9inDBH_DRAFT",
 "description": "",
 "extent": {
  "xmin": 468466.4419000087,
  "ymin": 312893.6608000294,
  "xmax": 1051881.4418999716,
  "ymax": 923488.6607999905,
  "spatialReference": {
   "wkt2": "PROJCRS[\"NAD_1983_StatePlane_Alaska_1_FIPS_5001\",BASEGEOGCRS[\"GCS_North_American_1983\",DATUM[\"D_North_American_1983\",ELLIPSOID[\"GRS_1980\",6378137.0,298.257222101,LENGTHUNIT[\"Meter\",1.0]]],PRIMEM[\"Greenwich\",0.0,ANGLEUNIT[\"Degree\",0.0174532925199433]],CS[ellipsoidal,2],ANGLEUNIT[\"Degree\",0.0174532925199433]],CONVERSION[\"Hotine_Oblique_Mercator_Azimuth_Natural_Origin\",METHOD[\"Hotine_Oblique_Mercator_Azimuth_Natural_Origin\"],PARAMETER[\"False_Easting\",5000000.0,LENGTHUNIT[\"Meter\",1.0]],PARAMETER[\"False_Northing\",-5000000.0,LENGTHUNIT[\"Meter\",1.0]],PARAMETER[\"Scale_Factor\",0.9999,SCALEUNIT[\"Unity\",1.0]],PARAMETER[\"Azimuth\",-36.8698976388889,ANGLEUNIT[\"Degree\",0.0174532925199433]],PARAMETER[\"Longitude_Of_Center\",-133.666666666667,ANGLEUNIT[\"Degree\",0.0174532925199433]],PARAMETER[\"Latitude_Of_Center\",57.0,ANGLEUNIT[\"Degree\",0.0174532925199433]]],CS[Cartesian,2],AXIS[\"Easting (X)\",east,ORDER[1]],AXIS[\"Northing (Y)\",north,ORDER[2]],LENGTHUNIT[\"Meter\",1.0]]",
   "wkt": "PROJCS[\"NAD_1983_StatePlane_Alaska_1_FIPS_5001\",GEOGCS[\"GCS_North_American_1983\",DATUM[\"D_North_American_1983\",SPHEROID[\"GRS_1980\",6378137.0,298.257222101]],PRIMEM[\"Greenwich\",0.0],UNIT[\"Degree\",0.0174532925199433]],PROJECTION[\"Hotine_Oblique_Mercator_Azimuth_Natural_Origin\"],PARAMETER[\"False_Easting\",5000000.0],PARAMETER[\"False_Northing\",-5000000.0],PARAMETER[\"Scale_Factor\",0.9999],PARAMETER[\"Azimuth\",-36.8698976388889],PARAMETER[\"Longitude_Of_Center\",-133.666666666667],PARAMETER[\"Latitude_Of_Center\",57.0],UNIT[\"Meter\",1.0]]"
  }
 },
 "initialExtent": {
  "xmin": 468466.4419000087,
  "ymin": 312893.6608000294,
  "xmax": 1051881.4418999716,
  "ymax": 923488.6607999905,
  "spatialReference": {
   "wkt2": "PROJCRS[\"NAD_1983_StatePlane_Alaska_1_FIPS_5001\",BASEGEOGCRS[\"GCS_North_American_1983\",DATUM[\"D_North_American_1983\",ELLIPSOID[\"GRS_1980\",6378137.0,298.257222101,LENGTHUNIT[\"Meter\",1.0]]],PRIMEM[\"Greenwich\",0.0,ANGLEUNIT[\"Degree\",0.0174532925199433]],CS[ellipsoidal,2],ANGLEUNIT[\"Degree\",0.0174532925199433]],CONVERSION[\"Hotine_Oblique_Mercator_Azimuth_Natural_Origin\",METHOD[\"Hotine_Oblique_Mercator_Azimuth_Natural_Origin\"],PARAMETER[\"False_Easting\",5000000.0,LENGTHUNIT[\"Meter\",1.0]],PARAMETER[\"False_Northing\",-5000000.0,LENGTHUNIT[\"Meter\",1.0]],PARAMETER[\"Scale_Factor\",0.9999,SCALEUNIT[\"Unity\",1.0]],PARAMETER[\"Azimuth\",-36.8698976388889,ANGLEUNIT[\"Degree\",0.0174532925199433]],PARAMETER[\"Longitude_Of_Center\",-133.666666666667,ANGLEUNIT[\"Degree\",0.0174532925199433]],PARAMETER[\"Latitude_Of_Center\",57.0,ANGLEUNIT[\"Degree\",0.0174532925199433]]],CS[Cartesian,2],AXIS[\"Easting (X)\",east,ORDER[1]],AXIS[\"Northing (Y)\",north,ORDER[2]],LENGTHUNIT[\"Meter\",1.0]]",
   "wkt": "PROJCS[\"NAD_1983_StatePlane_Alaska_1_FIPS_5001\",GEOGCS[\"GCS_North_American_1983\",DATUM[\"D_North_American_1983\",SPHEROID[\"GRS_1980\",6378137.0,298.257222101]],PRIMEM[\"Greenwich\",0.0],UNIT[\"Degree\",0.0174532925199433]],PROJECTION[\"Hotine_Oblique_Mercator_Azimuth_Natural_Origin\"],PARAMETER[\"False_Easting\",5000000.0],PARAMETER[\"False_Northing\",-5000000.0],PARAMETER[\"Scale_Factor\",0.9999],PARAMETER[\"Azimuth\",-36.8698976388889],PARAMETER[\"Longitude_Of_Center\",-133.666666666667],PARAMETER[\"Latitude_Of_Center\",57.0],UNIT[\"Meter\",1.0]]"
  }
 },
 "fullExtent": {
  "xmin": 468466.4419000087,
  "ymin": 312893.6608000294,
  "xmax": 1051881.4418999716,
  "ymax": 923488.6607999905,
  "spatialReference": {
   "wkt2": "PROJCRS[\"NAD_1983_StatePlane_Alaska_1_FIPS_5001\",BASEGEOGCRS[\"GCS_North_American_1983\",DATUM[\"D_North_American_1983\",ELLIPSOID[\"GRS_1980\",6378137.0,298.257222101,LENGTHUNIT[\"Meter\",1.0]]],PRIMEM[\"Greenwich\",0.0,ANGLEUNIT[\"Degree\",0.0174532925199433]],CS[ellipsoidal,2],ANGLEUNIT[\"Degree\",0.0174532925199433]],CONVERSION[\"Hotine_Oblique_Mercator_Azimuth_Natural_Origin\",METHOD[\"Hotine_Oblique_Mercator_Azimuth_Natural_Origin\"],PARAMETER[\"False_Easting\",5000000.0,LENGTHUNIT[\"Meter\",1.0]],PARAMETER[\"False_Northing\",-5000000.0,LENGTHUNIT[\"Meter\",1.0]],PARAMETER[\"Scale_Factor\",0.9999,SCALEUNIT[\"Unity\",1.0]],PARAMETER[\"Azimuth\",-36.8698976388889,ANGLEUNIT[\"Degree\",0.0174532925199433]],PARAMETER[\"Longitude_Of_Center\",-133.666666666667,ANGLEUNIT[\"Degree\",0.0174532925199433]],PARAMETER[\"Latitude_Of_Center\",57.0,ANGLEUNIT[\"Degree\",0.0174532925199433]]],CS[Cartesian,2],AXIS[\"Easting (X)\",east,ORDER[1]],AXIS[\"Northing (Y)\",north,ORDER[2]],LENGTHUNIT[\"Meter\",1.0]]",
   "wkt": "PROJCS[\"NAD_1983_StatePlane_Alaska_1_FIPS_5001\",GEOGCS[\"GCS_North_American_1983\",DATUM[\"D_North_American_1983\",SPHEROID[\"GRS_1980\",6378137.0,298.257222101]],PRIMEM[\"Greenwich\",0.0],UNIT[\"Degree\",0.0174532925199433]],PROJECTION[\"Hotine_Oblique_Mercator_Azimuth_Natural_Origin\"],PARAMETER[\"False_Easting\",5000000.0],PARAMETER[\"False_Northing\",-5000000.0],PARAMETER[\"Scale_Factor\",0.9999],PARAMETER[\"Azimuth\",-36.8698976388889],PARAMETER[\"Longitude_Of_Center\",-133.666666666667],PARAMETER[\"Latitude_Of_Center\",57.0],UNIT[\"Meter\",1.0]]"
  }
 },
 "sortableFields": "",
 "bandCount": 1,
 "pixelType": "F32",
 "minValues": [
  0
 ],
 "maxValues": [
  77.23999786377
 ],
 "meanValues": [
  9.7514936040898
 ],
 "stdvValues": [
  8.1133001046735
 ],
 "hasMultidimensions": false,
 "pixelSizeX": 4.999999999999682,
 "pixelSizeY": 4.999999999999682,
 "meanPixelSize": 4.999999999999682,
 "datasetFormat": "TIFF",
 "uncompressedSize": 56996378376,
 "blockWidth": 128,
 "blockHeight": 128,
 "compressionType": "LZW",
 "bandNames": [
  "Band_1"
 ],
 "allowCopy": true,
 "allowAnalysis": true,
 "itemAccess": false,
 "inspectionCapabilities": "",
 "noDataValue": 3.3999999521443642E38,
 "noDataValues": [
  3.3999999521443642E38
 ],
 "minPixelSize": 0,
 "maxPixelSize": 0,
 "copyrightText": "",
 "serviceDataType": "esriImageServiceDataTypeGeneric",
 "serviceSourceType": "esriImageServiceSourceTypeDataset",
 "objectIdField": "",
 "fields": [],
 "capabilities": "Mensuration,Image,Metadata",
 "defaultMosaicMethod": "Center",
 "allowedMosaicMethods": "",
 "sortField": "",
 "sortValue": null,
 "sortAscending": true,
 "mosaicOperator": "First",
 "defaultCompressionQuality": 75,
 "defaultResamplingMethod": "Bilinear",
 "maxImageHeight": 50000,
 "maxImageWidth": 50000,
 "allowRasterFunction": true,
 "rasterFunctionInfos": [
  {
   "name": "None",
   "description": "",
   "help": ""
  }
 ],
 "rasterTypeInfos": [
  {
   "name": "Raster Dataset",
   "description": "Supports all ArcGIS Raster Datasets",
   "help": ""
  }
 ],
 "mensurationCapabilities": "Basic",
 "hasHistograms": true,
 "hasColormap": false,
 "hasRasterAttributeTable": false,
 "minScale": 0,
 "maxScale": 0,
 "exportTilesAllowed": false,
 "supportsStatistics": false,
 "supportsAdvancedQueries": false,
 "editFieldsInfo": null,
 "ownershipBasedAccessControlForRasters": null,
 "allowComputeTiePoints": false,
 "useStandardizedQueries": true,
 "advancedQueryCapabilities": {
  "useStandardizedQueries": true,
  "supportsStatistics": false,
  "supportsOrderBy": false,
  "supportsDistinct": false,
  "supportsPagination": false
 },
 "spatialReference": {
  "wkt2": "PROJCRS[\"NAD_1983_StatePlane_Alaska_1_FIPS_5001\",BASEGEOGCRS[\"GCS_North_American_1983\",DATUM[\"D_North_American_1983\",ELLIPSOID[\"GRS_1980\",6378137.0,298.257222101,LENGTHUNIT[\"Meter\",1.0]]],PRIMEM[\"Greenwich\",0.0,ANGLEUNIT[\"Degree\",0.0174532925199433]],CS[ellipsoidal,2],ANGLEUNIT[\"Degree\",0.0174532925199433]],CONVERSION[\"Hotine_Oblique_Mercator_Azimuth_Natural_Origin\",METHOD[\"Hotine_Oblique_Mercator_Azimuth_Natural_Origin\"],PARAMETER[\"False_Easting\",5000000.0,LENGTHUNIT[\"Meter\",1.0]],PARAMETER[\"False_Northing\",-5000000.0,LENGTHUNIT[\"Meter\",1.0]],PARAMETER[\"Scale_Factor\",0.9999,SCALEUNIT[\"Unity\",1.0]],PARAMETER[\"Azimuth\",-36.8698976388889,ANGLEUNIT[\"Degree\",0.0174532925199433]],PARAMETER[\"Longitude_Of_Center\",-133.666666666667,ANGLEUNIT[\"Degree\",0.0174532925199433]],PARAMETER[\"Latitude_Of_Center\",57.0,ANGLEUNIT[\"Degree\",0.0174532925199433]]],CS[Cartesian,2],AXIS[\"Easting (X)\",east,ORDER[1]],AXIS[\"Northing (Y)\",north,ORDER[2]],LENGTHUNIT[\"Meter\",1.0]]",
  "wkt": "PROJCS[\"NAD_1983_StatePlane_Alaska_1_FIPS_5001\",GEOGCS[\"GCS_North_American_1983\",DATUM[\"D_North_American_1983\",SPHEROID[\"GRS_1980\",6378137.0,298.257222101]],PRIMEM[\"Greenwich\",0.0],UNIT[\"Degree\",0.0174532925199433]],PROJECTION[\"Hotine_Oblique_Mercator_Azimuth_Natural_Origin\"],PARAMETER[\"False_Easting\",5000000.0],PARAMETER[\"False_Northing\",-5000000.0],PARAMETER[\"Scale_Factor\",0.9999],PARAMETER[\"Azimuth\",-36.8698976388889],PARAMETER[\"Longitude_Of_Center\",-133.666666666667],PARAMETER[\"Latitude_Of_Center\",57.0],UNIT[\"Meter\",1.0]]"
 },
 "resampling": false
}
