{
 "currentVersion": 11.3,
 "serviceDescription": "r10-Kenai_TallShrub_CanopyPopUp",
 "name": "r10/Kenai_TallShrub_CanopyPopUp",
 "description": "r10-Kenai_TallShrub_CanopyPopUp",
 "extent": {
  "xmin": 214155.0004,
  "ymin": 6558486.77692824,
  "xmax": 416085.0004,
  "ymax": 6773066.77692824,
  "spatialReference": {
   "wkid": 26906,
   "latestWkid": 26906
  }
 },
 "initialExtent": {
  "xmin": 214155.0004,
  "ymin": 6558486.77692824,
  "xmax": 416085.0004,
  "ymax": 6773066.77692824,
  "spatialReference": {
   "wkid": 26906,
   "latestWkid": 26906
  }
 },
 "fullExtent": {
  "xmin": 214155.0004,
  "ymin": 6558486.77692824,
  "xmax": 416085.0004,
  "ymax": 6773066.77692824,
  "spatialReference": {
   "wkid": 26906,
   "latestWkid": 26906
  }
 },
 "sortableFields": "",
 "bandCount": 1,
 "pixelType": "S8",
 "minValues": [
  0
 ],
 "maxValues": [
  101
 ],
 "meanValues": [
  88.64179119568209
 ],
 "stdvValues": [
  29.26761074981292
 ],
 "hasMultidimensions": false,
 "pixelSizeX": 5.000000000000001,
 "pixelSizeY": 5,
 "meanPixelSize": 5,
 "datasetFormat": "GRID",
 "uncompressedSize": 1733205576,
 "blockWidth": 256,
 "blockHeight": 16,
 "compressionType": "RLE",
 "bandNames": [
  "shrubcanopy3"
 ],
 "allowCopy": true,
 "allowAnalysis": true,
 "itemAccess": false,
 "inspectionCapabilities": "",
 "noDataValue": -128,
 "noDataValues": [
  -128
 ],
 "minPixelSize": 0,
 "maxPixelSize": 0,
 "copyrightText": "",
 "serviceDataType": "esriImageServiceDataTypeThematic",
 "serviceSourceType": "esriImageServiceSourceTypeDataset",
 "objectIdField": "",
 "fields": [],
 "capabilities": "Image,Metadata,Mensuration",
 "defaultMosaicMethod": "Center",
 "allowedMosaicMethods": "",
 "sortField": "",
 "sortValue": null,
 "sortAscending": true,
 "mosaicOperator": "First",
 "maxDownloadSizeLimit": 2097196,
 "defaultCompressionQuality": 75,
 "defaultResamplingMethod": "Bilinear",
 "maxImageHeight": 4100,
 "maxImageWidth": 15000,
 "allowRasterFunction": true,
 "rasterFunctionInfos": [
  {
   "name": "None",
   "description": "",
   "help": ""
  }
 ],
 "rasterTypeInfos": [
  {
   "name": "Raster Dataset",
   "description": "Supports all ArcGIS Raster Datasets",
   "help": ""
  }
 ],
 "mensurationCapabilities": "Basic",
 "hasHistograms": false,
 "hasColormap": false,
 "hasRasterAttributeTable": true,
 "minScale": 0,
 "maxScale": 0,
 "exportTilesAllowed": false,
 "supportsStatistics": false,
 "supportsAdvancedQueries": false,
 "editFieldsInfo": null,
 "ownershipBasedAccessControlForRasters": null,
 "allowComputeTiePoints": false,
 "useStandardizedQueries": true,
 "advancedQueryCapabilities": {
  "useStandardizedQueries": true,
  "supportsStatistics": false,
  "supportsOrderBy": false,
  "supportsDistinct": false,
  "supportsPagination": false
 },
 "spatialReference": {
  "wkid": 26906,
  "latestWkid": 26906
 }
}
