{
 "currentVersion": 11.3,
 "serviceDescription": "This is a mosaic dataset of LiDAR derived canopy height digital surface models. The Canopy Height digital surface model (DSM) is created using a Light Detection And Ranging (LiDAR) point cloud. The algorithm used to create the Canopy Surface DSM assigns the elevation of the highest return within each 0.5 meter grid cell to the grid cell center. Specialized logic preserves local maxima in the surface while smoothing (3x3 median) to force the surface to adhere to the tops of trees. For additional information regarding the creation of Canopy Height DSM, please refer to the Fusion software manual. http://forsys.cfr.washington.edu/fusion/FUSION_manual.pdf.",
 "name": "r06/R06_lidar_R_CanopyHeight",
 "description": "This is a mosaic dataset of LiDAR derived canopy height digital surface models. The Canopy Height digital surface model (DSM) is created using a Light Detection And Ranging (LiDAR) point cloud. The algorithm used to create the Canopy Surface DSM assigns the elevation of the highest return within each 0.5 meter grid cell to the grid cell center. Specialized logic preserves local maxima in the surface while smoothing (3x3 median) to force the surface to adhere to the tops of trees. For additional information regarding the creation of Canopy Height DSM, please refer to the Fusion software manual. http://forsys.cfr.washington.edu/fusion/FUSION_manual.pdf.",
 "extent": {
  "xmin": 226610.25689876848,
  "ymin": 874009.1721715238,
  "xmax": 882141.7568987685,
  "ymax": 1663677.6721715238,
  "spatialReference": {
   "wkid": 102218,
   "latestWkid": 9674
  }
 },
 "initialExtent": {
  "xmin": 226610.25689876848,
  "ymin": 874009.1721715238,
  "xmax": 882141.7568987685,
  "ymax": 1663677.6721715238,
  "spatialReference": {
   "wkid": 102218,
   "latestWkid": 9674
  }
 },
 "fullExtent": {
  "xmin": 226610.25689876848,
  "ymin": 874009.1721715238,
  "xmax": 882141.7568987685,
  "ymax": 1663677.6721715238,
  "spatialReference": {
   "wkid": 102218,
   "latestWkid": 9674
  }
 },
 "sortableFields": "",
 "bandCount": 1,
 "pixelType": "F32",
 "minValues": [
  0
 ],
 "maxValues": [
  123.24154663085938
 ],
 "meanValues": [
  9.979067306348172
 ],
 "stdvValues": [
  12.076084877983183
 ],
 "hasMultidimensions": false,
 "pixelSizeX": 0.5,
 "pixelSizeY": 0.5,
 "meanPixelSize": 0.5,
 "datasetFormat": "AMD",
 "uncompressedSize": 8282441220924,
 "blockWidth": 2048,
 "blockHeight": 256,
 "compressionType": "None",
 "bandNames": [
  "Band_1"
 ],
 "allowCopy": true,
 "allowAnalysis": true,
 "itemAccess": false,
 "inspectionCapabilities": "",
 "minPixelSize": 0,
 "maxPixelSize": 0,
 "copyrightText": "Data Resources Management (DRM), Pacific Northwest Region, Forest Service, U.S. Department of Agriculture",
 "serviceDataType": "esriImageServiceDataTypeGeneric",
 "serviceSourceType": "esriImageServiceSourceTypeMosaicDataset",
 "objectIdField": "OBJECTID",
 "fields": [
  {
   "name": "OBJECTID",
   "type": "esriFieldTypeOID",
   "alias": "OBJECTID",
   "domain": null
  },
  {
   "name": "Shape",
   "type": "esriFieldTypeGeometry",
   "alias": "Shape",
   "domain": null
  },
  {
   "name": "Name",
   "type": "esriFieldTypeString",
   "alias": "Name",
   "domain": null,
   "length": 200
  },
  {
   "name": "MinPS",
   "type": "esriFieldTypeDouble",
   "alias": "MinPS",
   "domain": null
  },
  {
   "name": "MaxPS",
   "type": "esriFieldTypeDouble",
   "alias": "MaxPS",
   "domain": null
  },
  {
   "name": "LowPS",
   "type": "esriFieldTypeDouble",
   "alias": "LowPS",
   "domain": null
  },
  {
   "name": "HighPS",
   "type": "esriFieldTypeDouble",
   "alias": "HighPS",
   "domain": null
  },
  {
   "name": "Category",
   "type": "esriFieldTypeInteger",
   "alias": "Category",
   "domain": {
    "type": "codedValue",
    "name": "MosaicCatalogItemCategoryDomain",
    "description": "Catalog item categories.",
    "codedValues": [
     {
      "name": "Unknown",
      "code": 0
     },
     {
      "name": "Primary",
      "code": 1
     },
     {
      "name": "Overview",
      "code": 2
     },
     {
      "name": "Unprocessed Overview",
      "code": 3
     },
     {
      "name": "Partial Overview",
      "code": 4
     },
     {
      "name": "Inactive",
      "code": 5
     },
     {
      "name": "Uploaded",
      "code": 253
     },
     {
      "name": "Incomplete",
      "code": 254
     },
     {
      "name": "Custom",
      "code": 255
     }
    ],
    "mergePolicy": "esriMPTDefaultValue",
    "splitPolicy": "esriSPTDefaultValue"
   }
  },
  {
   "name": "Tag",
   "type": "esriFieldTypeString",
   "alias": "Tag",
   "domain": null,
   "length": 100
  },
  {
   "name": "GroupName",
   "type": "esriFieldTypeString",
   "alias": "GroupName",
   "domain": null,
   "length": 100
  },
  {
   "name": "ProductName",
   "type": "esriFieldTypeString",
   "alias": "ProductName",
   "domain": null,
   "length": 100
  },
  {
   "name": "CenterX",
   "type": "esriFieldTypeDouble",
   "alias": "CenterX",
   "domain": null
  },
  {
   "name": "CenterY",
   "type": "esriFieldTypeDouble",
   "alias": "CenterY",
   "domain": null
  },
  {
   "name": "ZOrder",
   "type": "esriFieldTypeInteger",
   "alias": "ZOrder",
   "domain": null
  },
  {
   "name": "Shape_Length",
   "type": "esriFieldTypeDouble",
   "alias": "Shape_Length",
   "domain": null
  },
  {
   "name": "Shape_Area",
   "type": "esriFieldTypeDouble",
   "alias": "Shape_Area",
   "domain": null
  },
  {
   "name": "Year",
   "type": "esriFieldTypeInteger",
   "alias": "Year",
   "domain": null
  },
  {
   "name": "Forest",
   "type": "esriFieldTypeString",
   "alias": "Forest",
   "domain": null,
   "length": 5
  }
 ],
 "capabilities": "Image,Metadata,Catalog,Mensuration",
 "defaultMosaicMethod": "ByAttribute",
 "allowedMosaicMethods": "ByAttribute",
 "sortField": "Year",
 "sortValue": "0",
 "sortAscending": false,
 "mosaicOperator": "First",
 "maxDownloadSizeLimit": 2048,
 "defaultCompressionQuality": 75,
 "defaultResamplingMethod": "Nearest",
 "maxImageHeight": 4100,
 "maxImageWidth": 15000,
 "maxRecordCount": 1000,
 "maxDownloadImageCount": 25,
 "maxMosaicImageCount": 25,
 "allowRasterFunction": true,
 "rasterFunctionInfos": [
  {
   "name": "None",
   "description": "A No-Op Function.",
   "help": ""
  }
 ],
 "rasterTypeInfos": [
  {
   "name": "Raster Dataset",
   "description": "Supports all ArcGIS Raster Datasets",
   "help": ""
  }
 ],
 "mensurationCapabilities": "Basic",
 "hasHistograms": true,
 "hasColormap": false,
 "hasRasterAttributeTable": false,
 "minScale": 0,
 "maxScale": 0,
 "exportTilesAllowed": false,
 "supportsStatistics": true,
 "supportsAdvancedQueries": true,
 "editFieldsInfo": null,
 "ownershipBasedAccessControlForRasters": null,
 "allowComputeTiePoints": false,
 "useStandardizedQueries": true,
 "advancedQueryCapabilities": {
  "useStandardizedQueries": true,
  "supportsStatistics": true,
  "supportsOrderBy": true,
  "supportsDistinct": true,
  "supportsPagination": true
 },
 "spatialReference": {
  "wkid": 102218,
  "latestWkid": 9674
 }
}
