{
 "currentVersion": 11.3,
 "serviceDescription": "Below ground biomass in kg/m2 for southern California in 2021. Schrader-Patton and Underwood, 2021.charlie.schrader-patton@usda.gov",
 "name": "wwetac/BGBM_2021",
 "description": "Below ground biomass in kg/m2 for southern California in 2021. Schrader-Patton and Underwood, 2021.charlie.schrader-patton@usda.gov",
 "extent": {
  "xmin": -121.9612774368787,
  "ymin": 32.47119915956309,
  "xmax": -115.2260000399875,
  "ymax": 36.78889586172798,
  "spatialReference": {
   "wkid": 4326,
   "latestWkid": 4326
  }
 },
 "initialExtent": {
  "xmin": -121.9612774368787,
  "ymin": 32.47119915956309,
  "xmax": -115.2260000399875,
  "ymax": 36.78889586172798,
  "spatialReference": {
   "wkid": 4326,
   "latestWkid": 4326
  }
 },
 "fullExtent": {
  "xmin": -121.9612774368787,
  "ymin": 32.47119915956309,
  "xmax": -115.2260000399875,
  "ymax": 36.78889586172798,
  "spatialReference": {
   "wkid": 4326,
   "latestWkid": 4326
  }
 },
 "sortableFields": "",
 "bandCount": 1,
 "pixelType": "F32",
 "minValues": [
  0
 ],
 "maxValues": [
  23.651851654053
 ],
 "meanValues": [
  0.65125746396858
 ],
 "stdvValues": [
  0.90828119136588
 ],
 "hasMultidimensions": false,
 "pixelSizeX": 3.5810705002611685E-4,
 "pixelSizeY": 3.581070500261166E-4,
 "meanPixelSize": 39.864294458388656,
 "datasetFormat": "TIFF",
 "uncompressedSize": 907072224,
 "blockWidth": 128,
 "blockHeight": 128,
 "compressionType": "None",
 "bandNames": [
  "Band_1"
 ],
 "allowCopy": true,
 "allowAnalysis": true,
 "itemAccess": false,
 "inspectionCapabilities": "",
 "noDataValue": -3.4028234663852886E38,
 "noDataValues": [
  -3.4028234663852886E38
 ],
 "minPixelSize": 0,
 "maxPixelSize": 0,
 "copyrightText": "",
 "serviceDataType": "esriImageServiceDataTypeThematic",
 "serviceSourceType": "esriImageServiceSourceTypeDataset",
 "objectIdField": "",
 "fields": [],
 "capabilities": "Image,Metadata,Mensuration",
 "defaultMosaicMethod": "Center",
 "allowedMosaicMethods": "",
 "sortField": "",
 "sortValue": null,
 "sortAscending": true,
 "mosaicOperator": "First",
 "maxDownloadSizeLimit": 2097196,
 "defaultCompressionQuality": 75,
 "defaultResamplingMethod": "Bilinear",
 "maxImageHeight": 4100,
 "maxImageWidth": 15000,
 "allowRasterFunction": true,
 "rasterFunctionInfos": [
  {
   "name": "None",
   "description": "",
   "help": ""
  }
 ],
 "rasterTypeInfos": [
  {
   "name": "Raster Dataset",
   "description": "Supports all ArcGIS Raster Datasets",
   "help": ""
  }
 ],
 "mensurationCapabilities": "Basic",
 "hasHistograms": false,
 "hasColormap": false,
 "hasRasterAttributeTable": false,
 "minScale": 0,
 "maxScale": 0,
 "exportTilesAllowed": false,
 "supportsStatistics": false,
 "supportsAdvancedQueries": false,
 "editFieldsInfo": null,
 "ownershipBasedAccessControlForRasters": null,
 "allowComputeTiePoints": false,
 "useStandardizedQueries": true,
 "advancedQueryCapabilities": {
  "useStandardizedQueries": true,
  "supportsStatistics": false,
  "supportsOrderBy": false,
  "supportsDistinct": false,
  "supportsPagination": false
 },
 "spatialReference": {
  "wkid": 4326,
  "latestWkid": 4326
 }
}
