{
 "currentVersion": 11.3,
 "serviceDescription": "This dataset is the 2020 version of wildfire hazard potential (WHP) for the United States. The files included in this data publication represent an update to any previous versions of WHP or wildland fire potential (WFP) published by the USDA Forest Service. WHP is an index that quantifies the relative potential for wildfire that may be difficult to control, used as a measure to help prioritize where fuel treatments may be needed. This 2020 version of WHP was created as part of the Wildfire Risk to Communities project (https://wildfirerisk.org) and this dataset is a 270-meter (m) resolution companion to the WHP published in Scott et al. (2020). Vegetation and wildland fuels data from LANDFIRE 2014 (version 1.4.0) form the foundation for this version of the WHP. As such, the data presented here reflect landscape conditions as of the end of 2014. National wildfire hazard datasets of annual burn probability and fire intensity were generated from the LANDFIRE 2014 data by the USDA Forest Service, Rocky Mountain Research Station (Short et al. 2020) using the large fire simulation system (FSim). We also used LANDFIRE 2014 vegetation and fuels data directly in the WHP mapping process, as well as point locations of fire occurrence ca. 1992 - 2015 (Short 2017). With these datasets as inputs, we produced an index of WHP for all of the conterminous United States at 270-m resolution. We present the final WHP map in two forms: 1) continuous integer values, and 2) five WHP classes of very low, low, moderate, high, and very high. On its own, WHP is not an explicit map of wildfire threat or risk, but when paired with spatial data depicting highly valued resources and assets such as structures or powerlines, it can approximate relative wildfire risk to those specific resources and assets. WHP is also not a forecast or wildfire outlook for any particular season, as it does not include any information on current or forecasted weather or fuel moisture conditions. It is instead intended for long-term strategic fuels management.",
 "name": "RDW_Wildfire/RMRS_WildfireHazardPotential_continuous_2020",
 "description": "This dataset is the 2020 version of wildfire hazard potential (WHP) for the United States. The files included in this data publication represent an update to any previous versions of WHP or wildland fire potential (WFP) published by the USDA Forest Service. WHP is an index that quantifies the relative potential for wildfire that may be difficult to control, used as a measure to help prioritize where fuel treatments may be needed. This 2020 version of WHP was created as part of the Wildfire Risk to Communities project (https://wildfirerisk.org) and this dataset is a 270-meter (m) resolution companion to the WHP published in Scott et al. (2020). Vegetation and wildland fuels data from LANDFIRE 2014 (version 1.4.0) form the foundation for this version of the WHP. As such, the data presented here reflect landscape conditions as of the end of 2014. National wildfire hazard datasets of annual burn probability and fire intensity were generated from the LANDFIRE 2014 data by the USDA Forest Service, Rocky Mountain Research Station (Short et al. 2020) using the large fire simulation system (FSim). We also used LANDFIRE 2014 vegetation and fuels data directly in the WHP mapping process, as well as point locations of fire occurrence ca. 1992 - 2015 (Short 2017). With these datasets as inputs, we produced an index of WHP for all of the conterminous United States at 270-m resolution. We present the final WHP map in two forms: 1) continuous integer values, and 2) five WHP classes of very low, low, moderate, high, and very high. On its own, WHP is not an explicit map of wildfire threat or risk, but when paired with spatial data depicting highly valued resources and assets such as structures or powerlines, it can approximate relative wildfire risk to those specific resources and assets. WHP is also not a forecast or wildfire outlook for any particular season, as it does not include any information on current or forecasted weather or fuel moisture conditions. It is instead intended for long-term strategic fuels management.",
 "extent": {
  "xmin": -2.00375070672E7,
  "ymin": 2135965.2324,
  "xmax": 2.0037507842788246E7,
  "ymax": 1.15573452324E7,
  "spatialReference": {
   "wkid": 102100,
   "latestWkid": 3857
  }
 },
 "initialExtent": {
  "xmin": -2.00375070672E7,
  "ymin": 2135965.2324,
  "xmax": 2.0037507842788246E7,
  "ymax": 1.15573452324E7,
  "spatialReference": {
   "wkid": 102100,
   "latestWkid": 3857
  }
 },
 "fullExtent": {
  "xmin": -2.00375070672E7,
  "ymin": 2135965.2324,
  "xmax": 2.0037507842788246E7,
  "ymax": 1.15573452324E7,
  "spatialReference": {
   "wkid": 102100,
   "latestWkid": 3857
  }
 },
 "sortableFields": "",
 "bandCount": 1,
 "pixelType": "S32",
 "minValues": [
  0
 ],
 "maxValues": [
  64717
 ],
 "meanValues": [
  729.794924438761
 ],
 "stdvValues": [
  2748.122792926876
 ],
 "hasMultidimensions": false,
 "pixelSizeX": 269.99996570673767,
 "pixelSizeY": 270,
 "meanPixelSize": 269.9999828533688,
 "datasetFormat": "AMD",
 "uncompressedSize": 20716707376,
 "blockWidth": 2048,
 "blockHeight": 256,
 "compressionType": "None",
 "bandNames": [
  "Band_1"
 ],
 "allowCopy": true,
 "allowAnalysis": true,
 "itemAccess": false,
 "inspectionCapabilities": "",
 "minPixelSize": 0,
 "maxPixelSize": 0,
 "copyrightText": "",
 "serviceDataType": "esriImageServiceDataTypeGeneric",
 "serviceSourceType": "esriImageServiceSourceTypeMosaicDataset",
 "objectIdField": "OBJECTID",
 "fields": [
  {
   "name": "OBJECTID",
   "type": "esriFieldTypeOID",
   "alias": "OBJECTID",
   "domain": null
  },
  {
   "name": "Shape",
   "type": "esriFieldTypeGeometry",
   "alias": "Shape",
   "domain": null
  },
  {
   "name": "Name",
   "type": "esriFieldTypeString",
   "alias": "Name",
   "domain": null,
   "length": 200
  },
  {
   "name": "MinPS",
   "type": "esriFieldTypeDouble",
   "alias": "MinPS",
   "domain": null
  },
  {
   "name": "MaxPS",
   "type": "esriFieldTypeDouble",
   "alias": "MaxPS",
   "domain": null
  },
  {
   "name": "LowPS",
   "type": "esriFieldTypeDouble",
   "alias": "LowPS",
   "domain": null
  },
  {
   "name": "HighPS",
   "type": "esriFieldTypeDouble",
   "alias": "HighPS",
   "domain": null
  },
  {
   "name": "Category",
   "type": "esriFieldTypeInteger",
   "alias": "Category",
   "domain": {
    "type": "codedValue",
    "name": "MosaicCatalogItemCategoryDomain",
    "description": "Catalog item categories.",
    "codedValues": [
     {
      "name": "Unknown",
      "code": 0
     },
     {
      "name": "Primary",
      "code": 1
     },
     {
      "name": "Overview",
      "code": 2
     },
     {
      "name": "Unprocessed Overview",
      "code": 3
     },
     {
      "name": "Partial Overview",
      "code": 4
     },
     {
      "name": "Inactive",
      "code": 5
     },
     {
      "name": "Uploaded",
      "code": 253
     },
     {
      "name": "Incomplete",
      "code": 254
     },
     {
      "name": "Custom",
      "code": 255
     }
    ],
    "mergePolicy": "esriMPTDefaultValue",
    "splitPolicy": "esriSPTDefaultValue"
   }
  },
  {
   "name": "Tag",
   "type": "esriFieldTypeString",
   "alias": "Tag",
   "domain": null,
   "length": 100
  },
  {
   "name": "GroupName",
   "type": "esriFieldTypeString",
   "alias": "GroupName",
   "domain": null,
   "length": 100
  },
  {
   "name": "ProductName",
   "type": "esriFieldTypeString",
   "alias": "ProductName",
   "domain": null,
   "length": 100
  },
  {
   "name": "CenterX",
   "type": "esriFieldTypeDouble",
   "alias": "CenterX",
   "domain": null
  },
  {
   "name": "CenterY",
   "type": "esriFieldTypeDouble",
   "alias": "CenterY",
   "domain": null
  },
  {
   "name": "ZOrder",
   "type": "esriFieldTypeInteger",
   "alias": "ZOrder",
   "domain": null
  },
  {
   "name": "Shape_Length",
   "type": "esriFieldTypeDouble",
   "alias": "Shape_Length",
   "domain": null
  },
  {
   "name": "Shape_Area",
   "type": "esriFieldTypeDouble",
   "alias": "Shape_Area",
   "domain": null
  }
 ],
 "capabilities": "Image,Metadata,Catalog,Mensuration",
 "defaultMosaicMethod": "Northwest",
 "allowedMosaicMethods": "NorthWest,Center,LockRaster,ByAttribute,Nadir,Viewpoint,Seamline,None",
 "sortField": "",
 "sortValue": null,
 "sortAscending": true,
 "mosaicOperator": "First",
 "maxDownloadSizeLimit": 2048,
 "defaultCompressionQuality": 75,
 "defaultResamplingMethod": "Bilinear",
 "maxImageHeight": 4100,
 "maxImageWidth": 15000,
 "maxRecordCount": 1000,
 "maxDownloadImageCount": 20,
 "maxMosaicImageCount": 20,
 "allowRasterFunction": true,
 "rasterFunctionInfos": [
  {
   "name": "None",
   "description": "A No-Op Function.",
   "help": ""
  }
 ],
 "rasterTypeInfos": [
  {
   "name": "Raster Dataset",
   "description": "Supports all ArcGIS Raster Datasets",
   "help": ""
  }
 ],
 "mensurationCapabilities": "Basic",
 "hasHistograms": true,
 "hasColormap": false,
 "hasRasterAttributeTable": false,
 "minScale": 0,
 "maxScale": 0,
 "exportTilesAllowed": false,
 "supportsStatistics": true,
 "supportsAdvancedQueries": true,
 "editFieldsInfo": null,
 "ownershipBasedAccessControlForRasters": null,
 "allowComputeTiePoints": false,
 "useStandardizedQueries": true,
 "advancedQueryCapabilities": {
  "useStandardizedQueries": true,
  "supportsStatistics": true,
  "supportsOrderBy": true,
  "supportsDistinct": true,
  "supportsPagination": true
 },
 "spatialReference": {
  "wkid": 102100,
  "latestWkid": 3857
 }
}
