{ "currentVersion": 11.3, "serviceDescription": "
The data included in this publication depict components of wildfire risk specifically for populated areas in the United States. These datasets represent where people live in the United States and the in situ risk from wildfire, i.e., the risk at the location where the adverse effects take place.<\/span><\/p> National wildfire hazard datasets of annual burn probability and fire intensity, generated by the USDA Forest Service, Rocky Mountain Research Station and Pyrologix LLC, form the foundation of the Wildfire Risk to Communities data. Vegetation and wildland fuels data from LANDFIRE 2020 (version 2.2.0) were used as input to two different but related geospatial fire simulation systems. Annual burn probability was produced with the USFS geospatial fire simulator (FSim) at a relatively coarse cell size of 270 meters (m). To bring the burn probability raster data down to a finer resolution more useful for assessing hazard and risk to communities, we upsampled them to the native 30 m resolution of the LANDFIRE fuel and vegetation data. In this upsampling process, we also spread values of modeled burn probability into developed areas represented in LANDFIRE fuels data as non-burnable. Burn probability rasters represent landscape conditions as of the end of 2020. Fire intensity characteristics were modeled at 30 m resolution using a process that performs a comprehensive set of FlamMap runs spanning the full range of weather-related characteristics that occur during a fire season and then integrates those runs into a variety of results based on the likelihood of those weather types occurring. Before the fire intensity modeling, the LANDFIRE 2020 data were updated to reflect fuels disturbances occurring in 2021 and 2022. As such, the fire intensity datasets represent landscape conditions as of the end of 2022. The data products in this publication that represent where people live, reflect 2021 estimates of housing unit and population counts from the U.S. Census Bureau, combined with building footprint data from Onegeo and USA Structures, both reflecting 2022 conditions.<\/span><\/p> The specific raster datasets included in this publication include:<\/span><\/p> Building Count: Building Count is a 30-m raster representing the count of buildings in the building footprint dataset located within each 30-m pixel.<\/span><\/p> Building Density: Building Density is a 30-m raster representing the density of buildings in the building footprint dataset (buildings per square kilometer [km²]).<\/span><\/p> Building Coverage: Building Coverage is a 30-m raster depicting the percentage of habitable land area covered by building footprints.<\/span><\/p> Population Count (PopCount): PopCount is a 30-m raster with pixel values representing residential population count (persons) in each pixel.<\/span><\/p> Population Density (PopDen): PopDen is a 30-m raster of residential population density (people/km²).<\/span><\/p> Housing Unit Count (HUCount): HUCount is a 30-m raster representing the number of housing units in each pixel.<\/span><\/p> Housing Unit Density (HUDen): HUDen is a 30-m raster of housing-unit density (housing units/km²).<\/span><\/p> Housing Unit Exposure (HUExposure): HUExposure is a 30-m raster that represents the expected number of housing units within a pixel potentially exposed to wildfire in a year. This is a long-term annual average and not intended to represent the actual number of housing units exposed in any specific year.<\/span><\/p> Housing Unit Impact (HUImpact): HUImpact is a 30-m raster that represents the relative potential impact of fire to housing units at any pixel, if a fire were to occur. It is an index that incorporates the general consequences of fire on a home as a function of fire intensity and uses flame length probabilities from wildfire modeling to capture likely intensity of fire.<\/span><\/p> Housing Unit Risk (HURisk): HURisk is a 30-m raster that integrates all four primary elements of wildfire risk - likelihood, intensity, susceptibility, and exposure - on pixels where housing unit density is greater than zero.<\/span><\/p> <\/p><\/div><\/div><\/div>",
"name": "RDW_Wildfire/RMRS_WRC_BurnProbability",
"description": " The data included in this publication depict the 2024 version of components of wildfire risk for all lands in the United States that: 1) are landscape-wide (i.e., measurable at every pixel across the landscape); and 2) represent in situ risk - risk at the location where the adverse effects take place on the landscape.<\/span><\/p> National wildfire hazard datasets of annual burn probability and fire intensity, generated by the USDA Forest Service, Rocky Mountain Research Station and Pyrologix LLC, form the foundation of the Wildfire Risk to Communities data. Vegetation and wildland fuels data from LANDFIRE 2020 (version 2.2.0) were used as input to two different but related geospatial fire simulation systems. Annual burn probability was produced with the USFS geospatial fire simulator (FSim) at a relatively coarse cell size of 270 meters (m). To bring the burn probability raster data down to a finer resolution more useful for assessing hazard and risk to communities, we upsampled them to the native 30 m resolution of the LANDFIRE fuel and vegetation data. In this upsampling process, we also spread values of modeled burn probability into developed areas represented in LANDFIRE fuels data as non-burnable. Burn probability rasters represent landscape conditions as of the end of 2020. Fire intensity characteristics were modeled at 30 m resolution using a process that performs a comprehensive set of FlamMap runs spanning the full range of weather-related characteristics that occur during a fire season and then integrates those runs into a variety of results based on the likelihood of those weather types occurring. Before the fire intensity modeling, the LANDFIRE 2020 data were updated to reflect fuels disturbances occurring in 2021 and 2022. As such, the fire intensity datasets represent landscape conditions as of the end of 2022. Additional methodology documentation is provided in a methods document (\\Supplements\\WRC_V2_Methods_Landscape-wideRisk.pdf) packaged in the data download.<\/span><\/p> The specific raster datasets in this publication include:<\/span><\/p> Risk to Potential Structures (RPS): A measure that integrates wildfire likelihood and intensity with generalized consequences to a home on every pixel. For every place on the landscape, it poses the hypothetical question, \"What would be the relative risk to a house if one existed here?\" This allows comparison of wildfire risk in places where homes already exist to places where new construction may be proposed. This dataset is referred to as Risk to Homes in the Wildfire Risk to Communities web application.<\/span><\/p> Conditional Risk to Potential Structures (cRPS): The potential consequences of fire to a home at a given location, if a fire occurs there and if a home were located there. Referred to as Wildfire Consequence in the Wildfire Risk to Communities web application.<\/span><\/p> Exposure Type: Exposure is the spatial coincidence of wildfire likelihood and intensity with communities. This layer delineates where homes are directly exposed to wildfire from adjacent wildland vegetation, indirectly exposed to wildfire from indirect sources such as embers and home-to-home ignition, or not exposed to wildfire due to distance from direct and indirect ignition sources.<\/span><\/p> Burn Probability (BP): The annual probability of wildfire burning in a specific location. Referred to as Wildfire Likelihood in the Wildfire Risk to Communities web application.<\/span><\/p> Conditional Flame Length (CFL): The mean flame length for a fire burning in the direction of maximum spread (headfire) at a given location if a fire were to occur; an average measure of wildfire intensity.<\/span><\/p> Flame Length Exceedance Probability - 4 ft (FLEP4): The conditional probability that flame length at a pixel will exceed 4 feet if a fire occurs; indicates the potential for moderate to high wildfire intensity.<\/span><\/p> Flame Length Exceedance Probability - 8 ft (FLEP8): the conditional probability that flame length at a pixel will exceed 8 feet if a fire occurs; indicates the potential for high wildfire intensity.<\/span><\/p> Wildfire Hazard Potential (WHP): An index that quantifies the relative potential for wildfire that may be difficult to manage, used as a measure to help prioritize where fuel treatments may be needed.<\/span><\/p><\/div><\/div><\/div>",
"extent": {
"xmin": -2.00375070672E7,
"ymin": 2136104.6613000035,
"xmax": 2.0037507842788246E7,
"ymax": 1.1596994661300004E7,
"spatialReference": {
"wkid": 102100,
"latestWkid": 3857
}
},
"initialExtent": {
"xmin": -2.00375070672E7,
"ymin": 2136104.6613000035,
"xmax": 2.0037507842788246E7,
"ymax": 1.1596994661300004E7,
"spatialReference": {
"wkid": 102100,
"latestWkid": 3857
}
},
"fullExtent": {
"xmin": -2.00375070672E7,
"ymin": 2136104.6613000035,
"xmax": 2.0037507842788246E7,
"ymax": 1.1596994661300004E7,
"spatialReference": {
"wkid": 102100,
"latestWkid": 3857
}
},
"sortableFields": "",
"bandCount": 1,
"pixelType": "S32",
"minValues": [
0
],
"maxValues": [
1236
],
"meanValues": [
30.274341530909783
],
"stdvValues": [
67.26347403859741
],
"hasMultidimensions": false,
"pixelSizeX": 29.99999618963752,
"pixelSizeY": 30,
"meanPixelSize": 29.99999809481876,
"datasetFormat": "AMD",
"uncompressedSize": 1685090470968,
"blockWidth": 2048,
"blockHeight": 256,
"compressionType": "None",
"bandNames": [
"Band_1"
],
"allowCopy": true,
"allowAnalysis": true,
"itemAccess": false,
"inspectionCapabilities": "",
"minPixelSize": 0,
"maxPixelSize": 0,
"copyrightText": "Funding for this project provided by USDA Forest Service, Fire and Aviation Management. Funding also provided by USDA Forest Service, Fire Modeling Institute, which is part of the Rocky Mountain Research Station, Fire, Fuel and Smoke Science Program. Work on dataset development was primarily completed by the USDA Forest Service, Fire Modeling Institute. Some salary was provided by FMI through an ORISE agreement under the U.S. Department of Energy (DE-SC0014664).\n\nAuthor information:\n\nMelissa R. Jaffe\nPyrologix, LLC\nhttps://orcid.org/0009-0002-8623-407X\n\nJoe H. Scott\nPyrologix, LLC\nhttps://orcid.org/0009-0008-3246-1190\n\nMichael N. Callahan\nPyrologix, LLC\nhttps://orcid.org/0009-0009-4937-5405\n\nGregory K. Dillon\nUSDA Forest Service, Rocky Mountain Research Station\nhttps://orcid.org/0009-0006-6304-650X\n\nEva C. Karau\nUSDA Forest Service, Rocky Mountain Research Station\nhttps://orcid.org/0009-0009-6776-9387\n\nMitchell T. Lazarz\nUSDA Forest Service, Rocky Mountain Research Station\nhttps://orcid.org/0000-0002-4558-4949",
"serviceDataType": "esriImageServiceDataTypeThematic",
"serviceSourceType": "esriImageServiceSourceTypeMosaicDataset",
"objectIdField": "OBJECTID",
"fields": [
{
"name": "OBJECTID",
"type": "esriFieldTypeOID",
"alias": "OBJECTID",
"domain": null
},
{
"name": "Shape",
"type": "esriFieldTypeGeometry",
"alias": "Shape",
"domain": null
},
{
"name": "Name",
"type": "esriFieldTypeString",
"alias": "Name",
"domain": null,
"length": 200
},
{
"name": "MinPS",
"type": "esriFieldTypeDouble",
"alias": "MinPS",
"domain": null
},
{
"name": "MaxPS",
"type": "esriFieldTypeDouble",
"alias": "MaxPS",
"domain": null
},
{
"name": "LowPS",
"type": "esriFieldTypeDouble",
"alias": "LowPS",
"domain": null
},
{
"name": "HighPS",
"type": "esriFieldTypeDouble",
"alias": "HighPS",
"domain": null
},
{
"name": "Category",
"type": "esriFieldTypeInteger",
"alias": "Category",
"domain": {
"type": "codedValue",
"name": "MosaicCatalogItemCategoryDomain",
"description": "Catalog item categories.",
"codedValues": [
{
"name": "Unknown",
"code": 0
},
{
"name": "Primary",
"code": 1
},
{
"name": "Overview",
"code": 2
},
{
"name": "Unprocessed Overview",
"code": 3
},
{
"name": "Partial Overview",
"code": 4
},
{
"name": "Inactive",
"code": 5
},
{
"name": "Uploaded",
"code": 253
},
{
"name": "Incomplete",
"code": 254
},
{
"name": "Custom",
"code": 255
}
],
"mergePolicy": "esriMPTDefaultValue",
"splitPolicy": "esriSPTDefaultValue"
}
},
{
"name": "Tag",
"type": "esriFieldTypeString",
"alias": "Tag",
"domain": null,
"length": 100
},
{
"name": "GroupName",
"type": "esriFieldTypeString",
"alias": "GroupName",
"domain": null,
"length": 100
},
{
"name": "ProductName",
"type": "esriFieldTypeString",
"alias": "ProductName",
"domain": null,
"length": 100
},
{
"name": "CenterX",
"type": "esriFieldTypeDouble",
"alias": "CenterX",
"domain": null
},
{
"name": "CenterY",
"type": "esriFieldTypeDouble",
"alias": "CenterY",
"domain": null
},
{
"name": "ZOrder",
"type": "esriFieldTypeInteger",
"alias": "ZOrder",
"domain": null
},
{
"name": "Shape_Length",
"type": "esriFieldTypeDouble",
"alias": "Shape_Length",
"domain": null
},
{
"name": "Shape_Area",
"type": "esriFieldTypeDouble",
"alias": "Shape_Area",
"domain": null
}
],
"capabilities": "Image,Metadata,Catalog",
"defaultMosaicMethod": "Northwest",
"allowedMosaicMethods": "NorthWest,Center,LockRaster,ByAttribute,Nadir,Viewpoint,Seamline,None",
"sortField": "",
"sortValue": null,
"sortAscending": true,
"mosaicOperator": "First",
"maxDownloadSizeLimit": 2048,
"defaultCompressionQuality": 75,
"defaultResamplingMethod": "Nearest",
"maxImageHeight": 50000,
"maxImageWidth": 50000,
"maxRecordCount": 1000,
"maxDownloadImageCount": 20,
"maxMosaicImageCount": 20,
"allowRasterFunction": true,
"rasterFunctionInfos": [
{
"name": "BurnProbability2024",
"description": "Raster Function Template",
"help": ""
},
{
"name": "None",
"description": "Make a Raster or Raster Dataset into a Function Raster Dataset.",
"help": ""
}
],
"rasterTypeInfos": [
{
"name": "Raster Dataset",
"description": "Supports all ArcGIS Raster Datasets",
"help": ""
}
],
"mensurationCapabilities": "None",
"hasHistograms": true,
"hasColormap": false,
"hasRasterAttributeTable": false,
"minScale": 0,
"maxScale": 0,
"exportTilesAllowed": false,
"supportsStatistics": true,
"supportsAdvancedQueries": true,
"editFieldsInfo": null,
"ownershipBasedAccessControlForRasters": null,
"allowComputeTiePoints": false,
"useStandardizedQueries": true,
"advancedQueryCapabilities": {
"useStandardizedQueries": true,
"supportsStatistics": true,
"supportsOrderBy": true,
"supportsDistinct": true,
"supportsPagination": true
},
"spatialReference": {
"wkid": 102100,
"latestWkid": 3857
}
}