{ "currentVersion": 11.3, "serviceDescription": "
National data on burn probability (BP) and conditional flame-length probability (FLP) were generated for the conterminous United States (CONUS), Alaska, and Hawaii using a geospatial Fire Simulation (FSim) system developed by the USDA Forest Service Missoula Fire Sciences Laboratory. The FSim system includes modules for weather generation, wildfire occurrence, fire growth, and fire suppression. FSim is designed to simulate the occurrence and growth of wildfires under tens of thousands of hypothetical contemporary fire seasons in order to estimate the probability of a given area (i.e., pixel) burning under current landscape conditions and fire management practices. The data presented here represent modeled BP and FLPs for the United States (US) at a 270-meter grid spatial resolution. Flame-length probability is estimated for six standard Fire Intensity Levels. The six FLPs correspond to flame-length classes as follows: FLP1 = < 2 feet (ft); FLP2 = 2 < 4 ft.; FLP3 = 4 < 6 ft.; FLP4 = 6 < 8 ft.; FLP5 = 8 < 12 ft.; FLP6 = 12+ ft. Because they indicate conditional probabilities (i.e., representing the likelihood of burning at a certain intensity level, given that a fire occurs), the FLP data must be used in conjunction with the BP data for risk assessment.<\/span><\/p><\/div><\/div><\/div>",
"name": "RDW_Wildfire/RMRS_ProbabilisticWildfireRisk_FLP2_CONUS",
"description": " National data on burn probability (BP) and conditional flame-length probability (FLP) were generated for the conterminous United States (CONUS), Alaska, and Hawaii using a geospatial Fire Simulation (FSim) system developed by the USDA Forest Service Missoula Fire Sciences Laboratory. The FSim system includes modules for weather generation, wildfire occurrence, fire growth, and fire suppression. FSim is designed to simulate the occurrence and growth of wildfires under tens of thousands of hypothetical contemporary fire seasons in order to estimate the probability of a given area (i.e., pixel) burning under current landscape conditions and fire management practices. The data presented here represent modeled BP and FLPs for the United States (US) at a 270-meter grid spatial resolution. Flame-length probability is estimated for six standard Fire Intensity Levels. The six FLPs correspond to flame-length classes as follows: FLP1 = < 2 feet (ft); FLP2 = 2 < 4 ft.; FLP3 = 4 < 6 ft.; FLP4 = 6 < 8 ft.; FLP5 = 8 < 12 ft.; FLP6 = 12+ ft. Because they indicate conditional probabilities (i.e., representing the likelihood of burning at a certain intensity level, given that a fire occurs), the FLP data must be used in conjunction with the BP data for risk assessment.<\/span><\/p><\/div><\/div><\/div>",
"extent": {
"xmin": -2362635.000000001,
"ymin": 221264.99999999814,
"xmax": 2327804.999999999,
"ymax": 3267674.999999998,
"spatialReference": {
"wkid": 5070,
"latestWkid": 5070
}
},
"initialExtent": {
"xmin": -2362635.000000001,
"ymin": 221264.99999999814,
"xmax": 2327804.999999999,
"ymax": 3267674.999999998,
"spatialReference": {
"wkid": 5070,
"latestWkid": 5070
}
},
"fullExtent": {
"xmin": -2362635.000000001,
"ymin": 221264.99999999814,
"xmax": 2327804.999999999,
"ymax": 3267674.999999998,
"spatialReference": {
"wkid": 5070,
"latestWkid": 5070
}
},
"sortableFields": "",
"bandCount": 1,
"pixelType": "S8",
"minValues": [
0
],
"maxValues": [
100
],
"meanValues": [
25.33611983071
],
"stdvValues": [
27.689682183398
],
"hasMultidimensions": false,
"pixelSizeX": 270,
"pixelSizeY": 270,
"meanPixelSize": 270,
"datasetFormat": "TIFF",
"uncompressedSize": 196008276,
"blockWidth": 128,
"blockHeight": 128,
"compressionType": "LZW",
"bandNames": [
"Band_1"
],
"allowCopy": true,
"allowAnalysis": true,
"itemAccess": false,
"inspectionCapabilities": "",
"noDataValue": -128,
"noDataValues": [
-128
],
"minPixelSize": 0,
"maxPixelSize": 0,
"copyrightText": "USDA Forest Service, Rocky Mountain Research Station, Missoula Fire Sciences Laboratory This contact information was current as original publication date. For current information see Contact Us page on: https://doi.org/10.2737/RDS.",
"serviceDataType": "esriImageServiceDataTypeThematic",
"serviceSourceType": "esriImageServiceSourceTypeDataset",
"objectIdField": "",
"fields": [],
"capabilities": "Mensuration,Image,Metadata",
"defaultMosaicMethod": "Center",
"allowedMosaicMethods": "",
"sortField": "",
"sortValue": null,
"sortAscending": true,
"mosaicOperator": "First",
"defaultCompressionQuality": 75,
"defaultResamplingMethod": "Nearest",
"maxImageHeight": 4100,
"maxImageWidth": 15000,
"allowRasterFunction": true,
"rasterFunctionInfos": [
{
"name": "None",
"description": "",
"help": ""
}
],
"rasterTypeInfos": [
{
"name": "Raster Dataset",
"description": "Supports all ArcGIS Raster Datasets",
"help": ""
}
],
"mensurationCapabilities": "Basic",
"hasHistograms": true,
"hasColormap": false,
"hasRasterAttributeTable": true,
"minScale": 0,
"maxScale": 0,
"exportTilesAllowed": false,
"supportsStatistics": false,
"supportsAdvancedQueries": false,
"editFieldsInfo": null,
"ownershipBasedAccessControlForRasters": null,
"allowComputeTiePoints": false,
"useStandardizedQueries": true,
"advancedQueryCapabilities": {
"useStandardizedQueries": true,
"supportsStatistics": false,
"supportsOrderBy": false,
"supportsDistinct": false,
"supportsPagination": false
},
"spatialReference": {
"wkid": 5070,
"latestWkid": 5070
},
"resampling": false
}