{
 "currentVersion": 11.3,
 "serviceDescription": "The USDA Forest Service Rapid Assessment of Vegetation Condition after Wildfire (RAVG) program produces geospatial data and maps of post-fire vegetation condition using standardized change detection methods based on Landsat or similar multispectral satellite imagery. RAVG data products characterize vegetation condition within a fire perimeter, and include estimates of percent change in basal area (BA), percent change in canopy cover (CC), and a standardized composite burn index (CBI). Standard thematic products include 7-class percent change in basal area (BA-7), 5-class percent change in canopy cover (CC-5), and 4-class CBI (CBI-4). Contingent upon the availability of suitable imagery, RAVG products are prepared for all wildland fires reported within the conterminous United States (CONUS) that include at least 1000 acres of forested National Forest System (NFS) land (500 acres for Regions 8 and 9 as of 2016). Data for individual fires are typically made available within 45 days after fire containment (\"initial assessments\"). Late-season fires, however, may be deferred until the following spring or summer (\"extended assessments\"). National mosaics of each thematic product are prepared annually. The associated burned area perimeters are available via the Enterprise Data Warehouse (EDW, see https://data.fs.usda.gov/geodata/edw/datasets.php). Assessment type (initial or extended assessment) for each fire is included as an attribute in the perimeter dataset.",
 "name": "RDW_Wildfire/RAVG_BasalAreaPercentChange",
 "description": "The USDA Forest Service Rapid Assessment of Vegetation Condition after Wildfire (RAVG) program produces geospatial data and maps of post-fire vegetation condition using standardized change detection methods based on Landsat or similar multispectral satellite imagery. RAVG data products characterize vegetation condition within a fire perimeter, and include estimates of percent change in basal area (BA), percent change in canopy cover (CC), and a standardized composite burn index (CBI). Standard thematic products include 7-class percent change in basal area (BA-7), 5-class percent change in canopy cover (CC-5), and 4-class CBI (CBI-4). Contingent upon the availability of suitable imagery, RAVG products are prepared for all wildland fires reported within the conterminous United States (CONUS) that include at least 1000 acres of forested National Forest System (NFS) land (500 acres for Regions 8 and 9 as of 2016). Data for individual fires are typically made available within 45 days after fire containment (\"initial assessments\"). Late-season fires, however, may be deferred until the following spring or summer (\"extended assessments\"). National mosaics of each thematic product are prepared annually. The associated burned area perimeters are available via the Enterprise Data Warehouse (EDW, see https://data.fs.usda.gov/geodata/edw/datasets.php). Assessment type (initial or extended assessment) for each fire is included as an attribute in the perimeter dataset.",
 "extent": {
  "xmin": -1.4125823192200001E7,
  "ymin": 3195967.6213999987,
  "xmax": -8078393.192200001,
  "ymax": 6670777.621399999,
  "spatialReference": {
   "wkid": 102100,
   "latestWkid": 3857
  }
 },
 "initialExtent": {
  "xmin": -1.4125823192200001E7,
  "ymin": 3195967.6213999987,
  "xmax": -8078393.192200001,
  "ymax": 6670777.621399999,
  "spatialReference": {
   "wkid": 102100,
   "latestWkid": 3857
  }
 },
 "fullExtent": {
  "xmin": -1.4125823192200001E7,
  "ymin": 3195967.6213999987,
  "xmax": -8078393.192200001,
  "ymax": 6670777.621399999,
  "spatialReference": {
   "wkid": 102100,
   "latestWkid": 3857
  }
 },
 "sortableFields": "MinPS,MaxPS,LowPS,HighPS,CenterX,CenterY,ZOrder,Shape_Length,Shape_Area,Year",
 "bandCount": 1,
 "pixelType": "U8",
 "minValues": [
  0
 ],
 "maxValues": [
  9
 ],
 "meanValues": [
  4.128709953721194
 ],
 "stdvValues": [
  2.578707325266532
 ],
 "hasMultidimensions": false,
 "timeInfo": {
  "startTimeField": "BeginTime",
  "endTimeField": "EndTime",
  "timeExtent": [
   1325376000000,
   1703980800000
  ],
  "timeReference": null
 },
 "pixelSizeX": 30,
 "pixelSizeY": 30,
 "meanPixelSize": 30,
 "datasetFormat": "AMD",
 "uncompressedSize": 23348522487,
 "blockWidth": 2048,
 "blockHeight": 256,
 "compressionType": "None",
 "bandNames": [
  "Band_1"
 ],
 "allowCopy": true,
 "allowAnalysis": true,
 "itemAccess": false,
 "inspectionCapabilities": "",
 "minPixelSize": 0,
 "maxPixelSize": 0,
 "copyrightText": "",
 "serviceDataType": "esriImageServiceDataTypeThematic",
 "serviceSourceType": "esriImageServiceSourceTypeMosaicDataset",
 "objectIdField": "OBJECTID",
 "fields": [
  {
   "name": "OBJECTID",
   "type": "esriFieldTypeOID",
   "alias": "OBJECTID",
   "domain": null
  },
  {
   "name": "Shape",
   "type": "esriFieldTypeGeometry",
   "alias": "Shape",
   "domain": null
  },
  {
   "name": "Name",
   "type": "esriFieldTypeString",
   "alias": "Name",
   "domain": null,
   "length": 200
  },
  {
   "name": "MinPS",
   "type": "esriFieldTypeDouble",
   "alias": "MinPS",
   "domain": null
  },
  {
   "name": "MaxPS",
   "type": "esriFieldTypeDouble",
   "alias": "MaxPS",
   "domain": null
  },
  {
   "name": "LowPS",
   "type": "esriFieldTypeDouble",
   "alias": "LowPS",
   "domain": null
  },
  {
   "name": "HighPS",
   "type": "esriFieldTypeDouble",
   "alias": "HighPS",
   "domain": null
  },
  {
   "name": "Category",
   "type": "esriFieldTypeInteger",
   "alias": "Category",
   "domain": {
    "type": "codedValue",
    "name": "MosaicCatalogItemCategoryDomain",
    "description": "Catalog item categories.",
    "codedValues": [
     {
      "name": "Unknown",
      "code": 0
     },
     {
      "name": "Primary",
      "code": 1
     },
     {
      "name": "Overview",
      "code": 2
     },
     {
      "name": "Unprocessed Overview",
      "code": 3
     },
     {
      "name": "Partial Overview",
      "code": 4
     },
     {
      "name": "Inactive",
      "code": 5
     },
     {
      "name": "Uploaded",
      "code": 253
     },
     {
      "name": "Incomplete",
      "code": 254
     },
     {
      "name": "Custom",
      "code": 255
     }
    ],
    "mergePolicy": "esriMPTDefaultValue",
    "splitPolicy": "esriSPTDefaultValue"
   }
  },
  {
   "name": "Tag",
   "type": "esriFieldTypeString",
   "alias": "Tag",
   "domain": null,
   "length": 100
  },
  {
   "name": "GroupName",
   "type": "esriFieldTypeString",
   "alias": "GroupName",
   "domain": null,
   "length": 100
  },
  {
   "name": "ProductName",
   "type": "esriFieldTypeString",
   "alias": "ProductName",
   "domain": null,
   "length": 100
  },
  {
   "name": "CenterX",
   "type": "esriFieldTypeDouble",
   "alias": "CenterX",
   "domain": null
  },
  {
   "name": "CenterY",
   "type": "esriFieldTypeDouble",
   "alias": "CenterY",
   "domain": null
  },
  {
   "name": "ZOrder",
   "type": "esriFieldTypeInteger",
   "alias": "ZOrder",
   "domain": null
  },
  {
   "name": "Shape_Length",
   "type": "esriFieldTypeDouble",
   "alias": "Shape_Length",
   "domain": null
  },
  {
   "name": "Shape_Area",
   "type": "esriFieldTypeDouble",
   "alias": "Shape_Area",
   "domain": null
  },
  {
   "name": "Year",
   "type": "esriFieldTypeSmallInteger",
   "alias": "Year",
   "domain": null
  },
  {
   "name": "BeginTime",
   "type": "esriFieldTypeString",
   "alias": "BeginTime",
   "domain": null,
   "length": 8
  },
  {
   "name": "EndTime",
   "type": "esriFieldTypeString",
   "alias": "EndTime",
   "domain": null,
   "length": 8
  }
 ],
 "capabilities": "Image,Metadata,Catalog,Mensuration",
 "defaultMosaicMethod": "Northwest",
 "allowedMosaicMethods": "NorthWest,Center,LockRaster,ByAttribute,Nadir,Viewpoint,Seamline,None",
 "sortField": "",
 "sortValue": null,
 "sortAscending": true,
 "mosaicOperator": "First",
 "maxDownloadSizeLimit": 2048,
 "defaultCompressionQuality": 75,
 "defaultResamplingMethod": "Nearest",
 "maxImageHeight": 4100,
 "maxImageWidth": 15000,
 "maxRecordCount": 1000,
 "maxDownloadImageCount": 20,
 "maxMosaicImageCount": 50,
 "allowRasterFunction": true,
 "rasterFunctionInfos": [
  {
   "name": "RAVG_BasalAreaPercentageChange_2024",
   "description": "\nRAVG Basal Area Percentage Change Template ",
   "help": ""
  },
  {
   "name": "None",
   "description": "Make a Raster or Raster Dataset into a Function Raster Dataset.",
   "help": ""
  }
 ],
 "rasterTypeInfos": [
  {
   "name": "Raster Dataset",
   "description": "Supports all ArcGIS Raster Datasets",
   "help": ""
  }
 ],
 "mensurationCapabilities": "Basic",
 "hasHistograms": true,
 "hasColormap": false,
 "hasRasterAttributeTable": false,
 "minScale": 0,
 "maxScale": 0,
 "exportTilesAllowed": false,
 "supportsStatistics": true,
 "supportsAdvancedQueries": true,
 "editFieldsInfo": null,
 "ownershipBasedAccessControlForRasters": null,
 "allowComputeTiePoints": false,
 "useStandardizedQueries": true,
 "advancedQueryCapabilities": {
  "useStandardizedQueries": true,
  "supportsStatistics": true,
  "supportsOrderBy": true,
  "supportsDistinct": true,
  "supportsPagination": true
 },
 "spatialReference": {
  "wkid": 102100,
  "latestWkid": 3857
 }
}
