{ "currentVersion": 11.1, "serviceDescription": "

National burn probability (BP) and conditional fire intensity level (FIL) data were generated for the conterminous United States (US) using a geospatial Fire Simulation (FSim) system developed by the US Forest Service Missoula Fire Sciences Laboratory to estimate probabilistic components of wildfire risk (Finney et al. [2011]). The FSim system includes modules for weather generation, wildfire occurrence, fire growth, and fire suppression. FSim is designed to simulate the occurrence and growth of wildfires under tens of thousands of hypothetical contemporary fire seasons in order to estimate the probability of a given area (i.e., pixel) burning under current landscape conditions and fire management practices. The data presented here represent modeled BP and FIL for the conterminous US at a 270-meter grid spatial resolution. The six FILs correspond to flame-length classes as follows: FIL1 = < 2 feet (ft); FIL2 = 2 < 4 ft.; FIL3 = 4 < 6 ft.; FIL4 = 6 < 8 ft.; FIL5 = 8 < 12 ft.; FIL6 = 12+ ft. Because they indicate conditional probabilities (i.e., representing the likelihood of burning at a certain intensity level, given that a fire occurs), the FIL*_20160830 data must be used in conjunction with the BP_20160830 data for risk assessment.<\/SPAN><\/P><\/DIV>", "name": "RDW_Wildfire/Probabilistic_Wildfire_Risk_FLP_HI", "description": "

National burn probability (BP) and conditional fire intensity level (FIL) data were generated for the conterminous United States (US) using a geospatial Fire Simulation (FSim) system developed by the US Forest Service Missoula Fire Sciences Laboratory to estimate probabilistic components of wildfire risk (Finney et al. [2011]). The FSim system includes modules for weather generation, wildfire occurrence, fire growth, and fire suppression. FSim is designed to simulate the occurrence and growth of wildfires under tens of thousands of hypothetical contemporary fire seasons in order to estimate the probability of a given area (i.e., pixel) burning under current landscape conditions and fire management practices. The data presented here represent modeled BP and FIL for the conterminous US at a 270-meter grid spatial resolution. The six FILs correspond to flame-length classes as follows: FIL1 = < 2 feet (ft); FIL2 = 2 < 4 ft.; FIL3 = 4 < 6 ft.; FIL4 = 6 < 8 ft.; FIL5 = 8 < 12 ft.; FIL6 = 12+ ft. Because they indicate conditional probabilities (i.e., representing the likelihood of burning at a certain intensity level, given that a fire occurs), the FIL*_20160830 data must be used in conjunction with the BP_20160830 data for risk assessment.<\/SPAN><\/P><\/DIV>", "extent": { "xmin": -1.78787591705E7, "ymin": 2135770.209299999, "xmax": -1.72242791705E7, "ymax": 2547250.209299999, "spatialReference": { "wkid": 102100, "latestWkid": 3857 } }, "initialExtent": { "xmin": -1.78787591705E7, "ymin": 2135770.209299999, "xmax": -1.72242791705E7, "ymax": 2547250.209299999, "spatialReference": { "wkid": 102100, "latestWkid": 3857 } }, "fullExtent": { "xmin": -1.78787591705E7, "ymin": 2135770.209299999, "xmax": -1.72242791705E7, "ymax": 2547250.209299999, "spatialReference": { "wkid": 102100, "latestWkid": 3857 } }, "sortableFields": "MinPS,MaxPS,LowPS,HighPS,CenterX,CenterY,ZOrder,Shape_Length,Shape_Area", "bandCount": 6, "pixelType": "F32", "minValues": [ 0, 0, 0, 0, 0, 0 ], "maxValues": [ 1, 1, 1, 1, 1, 1 ], "meanValues": [ 0.031624955235693836, 0.1513417107961673, 0.1257088577388376, 0.08035988159519011, 0.06367913645456874, 0.038227503981493625 ], "stdvValues": [ 0.11991131982759234, 0.23418222381888928, 0.1695682344595149, 0.12372381264588404, 0.12181275825082614, 0.13278750346492496 ], "hasMultidimensions": false, "pixelSizeX": 270, "pixelSizeY": 270, "datasetFormat": "AMD", "uncompressedSize": 88660224, "blockWidth": 2048, "blockHeight": 256, "compressionType": "None", "bandNames": [ "Less than 2 ft", "2 to 4 ft", "4 to 6 ft", "6 to 8 ft", "8 to 12 ft", "Greater than 12 ft" ], "allowCopy": true, "allowAnalysis": true, "itemAccess": false, "minPixelSize": 0, "maxPixelSize": 0, "copyrightText": "USDA Forest Service, Rocky Mountain Research Station, Missoula Fire Sciences Laboratory\nThis contact information was current as original publication date. For current information see Contact Us page on: https://doi.org/10.2737/RDS.", "serviceDataType": "esriImageServiceDataTypeThematic", "serviceSourceType": "esriImageServiceSourceTypeMosaicDataset", "objectIdField": "OBJECTID", "fields": [ { "name": "OBJECTID", "type": "esriFieldTypeOID", "alias": "OBJECTID", "domain": null }, { "name": "Shape", "type": "esriFieldTypeGeometry", "alias": "Shape", "domain": null }, { "name": "Name", "type": "esriFieldTypeString", "alias": "Name", "domain": null, "length": 200 }, { "name": "MinPS", "type": "esriFieldTypeDouble", "alias": "MinPS", "domain": null }, { "name": "MaxPS", "type": "esriFieldTypeDouble", "alias": "MaxPS", "domain": null }, { "name": "LowPS", "type": "esriFieldTypeDouble", "alias": "LowPS", "domain": null }, { "name": "HighPS", "type": "esriFieldTypeDouble", "alias": "HighPS", "domain": null }, { "name": "Category", "type": "esriFieldTypeInteger", "alias": "Category", "domain": { "type": "codedValue", "name": "MosaicCatalogItemCategoryDomain", "description": "Catalog item categories.", "codedValues": [ { "name": "Unknown", "code": 0 }, { "name": "Primary", "code": 1 }, { "name": "Overview", "code": 2 }, { "name": "Unprocessed Overview", "code": 3 }, { "name": "Partial Overview", "code": 4 }, { "name": "Inactive", "code": 5 }, { "name": "Uploaded", "code": 253 }, { "name": "Incomplete", "code": 254 }, { "name": "Custom", "code": 255 } ], "mergePolicy": "esriMPTDefaultValue", "splitPolicy": "esriSPTDefaultValue" } }, { "name": "Tag", "type": "esriFieldTypeString", "alias": "Tag", "domain": null, "length": 100 }, { "name": "GroupName", "type": "esriFieldTypeString", "alias": "GroupName", "domain": null, "length": 100 }, { "name": "ProductName", "type": "esriFieldTypeString", "alias": "ProductName", "domain": null, "length": 100 }, { "name": "CenterX", "type": "esriFieldTypeDouble", "alias": "CenterX", "domain": null }, { "name": "CenterY", "type": "esriFieldTypeDouble", "alias": "CenterY", "domain": null }, { "name": "ZOrder", "type": "esriFieldTypeInteger", "alias": "ZOrder", "domain": null }, { "name": "Shape_Length", "type": "esriFieldTypeDouble", "alias": "Shape_Length", "domain": null }, { "name": "Shape_Area", "type": "esriFieldTypeDouble", "alias": "Shape_Area", "domain": null } ], "capabilities": "Image,Metadata,Catalog,Mensuration", "defaultMosaicMethod": "Northwest", "allowedMosaicMethods": "NorthWest,Center,LockRaster,ByAttribute,Nadir,Viewpoint,Seamline,None", "sortField": "", "sortValue": null, "sortAscending": true, "mosaicOperator": "First", "maxDownloadSizeLimit": 2048, "defaultCompressionQuality": 75, "defaultResamplingMethod": "Nearest", "maxImageHeight": 4100, "maxImageWidth": 15000, "maxRecordCount": 1000, "maxDownloadImageCount": 20, "maxMosaicImageCount": 50, "allowRasterFunction": true, "rasterFunctionInfos": [ { "name": "None", "description": "Make a Raster or Raster Dataset into a Function Raster Dataset.", "help": "" }, { "name": "None", "description": "Make a Raster or Raster Dataset into a Function Raster Dataset.", "help": "" } ], "rasterTypeInfos": [ { "name": "Raster Dataset", "description": "Supports all ArcGIS Raster Datasets", "help": "" } ], "mensurationCapabilities": "", "hasHistograms": true, "hasColormap": false, "hasRasterAttributeTable": false, "minScale": 0, "maxScale": 0, "exportTilesAllowed": false, "supportsStatistics": true, "supportsAdvancedQueries": true, "editFieldsInfo": null, "ownershipBasedAccessControlForRasters": null, "allowComputeTiePoints": false, "useStandardizedQueries": true, "advancedQueryCapabilities": { "useStandardizedQueries": true, "supportsStatistics": true, "supportsOrderBy": true, "supportsDistinct": true, "supportsPagination": true }, "spatialReference": { "wkid": 102100, "latestWkid": 3857 } }