{
 "currentVersion": 11.5,
 "serviceDescription": "The USDA Forest Service Burned Area Emergency Response (BAER) Imagery Support program produces geospatial data of post-fire burn severities using standardized change detection methods based on Landsat, Sentinel-2, or similar multispectral satellite imagery. The BAER Imagery Support program provides an initial Burned Area Reflectance Classification (BARC) product to BAER teams. The BARC is a preliminary vegetation burn severity product which assesses severity based on the magnitude of detectable change to above ground biomass. The BAER teams collect field data on post-fire soil conditions that is used with the BARC to create the final soil burn severity (SBS) classification product for each BAER assessment. The SBS data is preferred for sharing publicly since it has been validated by the BAER team in the field. BAER teams use the soil burn severity product to assess the need for and application of emergency soil stabilization treatments following a wildfire. National mosaics compiling SBS classification products from individual BAER assessments are prepared on an annual basis. This SBS dataset is a compilation of final burn severity data products created by USDA Forest Service BAER teams from 2017 through the most recent completed fire year. It is a thematic raster dataset with four burn severity classes: unburned to very low, low, moderate, and high. The spatial resolution is variable based on the imagery used to create the initial BARC product and subsequent processing by the BAER teams. Datasets are typically 30m for Landsat assessments and 20m for Sentinel-2 assessments.",
 "name": "RDW_Wildfire/BAER_SoilBurnSeverityClassification",
 "description": "The USDA Forest Service Burned Area Emergency Response (BAER) Imagery Support program produces geospatial data of post-fire burn severities using standardized change detection methods based on Landsat, Sentinel-2, or similar multispectral satellite imagery. The BAER Imagery Support program provides an initial Burned Area Reflectance Classification (BARC) product to BAER teams. The BARC is a preliminary vegetation burn severity product which assesses severity based on the magnitude of detectable change to above ground biomass. The BAER teams collect field data on post-fire soil conditions that is used with the BARC to create the final soil burn severity (SBS) classification product for each BAER assessment. The SBS data is preferred for sharing publicly since it has been validated by the BAER team in the field. BAER teams use the soil burn severity product to assess the need for and application of emergency soil stabilization treatments following a wildfire. National mosaics compiling SBS classification products from individual BAER assessments are prepared on an annual basis. This SBS dataset is a compilation of final burn severity data products created by USDA Forest Service BAER teams from 2017 through the most recent completed fire year. It is a thematic raster dataset with four burn severity classes: unburned to very low, low, moderate, and high. The spatial resolution is variable based on the imagery used to create the initial BARC product and subsequent processing by the BAER teams. Datasets are typically 30m for Landsat assessments and 20m for Sentinel-2 assessments.",
 "extent": {
  "xmin": -1.3855856934799999E7,
  "ymin": 3690364.859499999,
  "xmax": -8561485.934799999,
  "ymax": 6450607.859499998,
  "spatialReference": {
   "wkid": 102100,
   "latestWkid": 3857
  }
 },
 "initialExtent": {
  "xmin": -1.3855856934799999E7,
  "ymin": 3690364.859499999,
  "xmax": -8561485.934799999,
  "ymax": 6450607.859499998,
  "spatialReference": {
   "wkid": 102100,
   "latestWkid": 3857
  }
 },
 "fullExtent": {
  "xmin": -1.3855856934799999E7,
  "ymin": 3690364.859499999,
  "xmax": -8561485.934799999,
  "ymax": 6450607.859499998,
  "spatialReference": {
   "wkid": 102100,
   "latestWkid": 3857
  }
 },
 "sortableFields": "MinPS,MaxPS,LowPS,HighPS,CenterX,CenterY,ZOrder,Shape_Length,Shape_Area,Year",
 "bandCount": 1,
 "pixelType": "U8",
 "minValues": [
  0
 ],
 "maxValues": [
  255
 ],
 "meanValues": [
  68.08969816767308
 ],
 "stdvValues": [
  111.61917254589129
 ],
 "serviceProperties": "NorthWest<\/MosaicMethod>First<\/MosaicOperator>false<\/SortAscending><\/LockImageID>Year<\/TileOrderField><\/TileOrderBase>600.000000<\/AvgImageSpacingX>300.000000<\/AvgImageSpacingY>0.0<\/ViewPointX>0.0<\/ViewPointY>0.0<\/ViewPointDefShiftX>0.0<\/ViewPointDefShiftY>None<\/CompressionMethod>75<\/CompressionQuality>0.010000<\/CompressionTolerance>Nearest<\/SamplingMethod><\/ImageServiceProperties><\/ImageServer>",
 "allowedFields": "Name,MinPS,MaxPS,LowPS,HighPS,Tag,GroupName,ProductName,CenterX,CenterY,ZOrder,Shape_Length,Shape_Area,Year",
 "hasMultidimensions": false,
 "timeInfo": {
  "startTimeField": "Year",
  "endTimeField": null,
  "timeExtent": [
   1483228800000,
   1704067200000
  ],
  "timeReference": null
 },
 "pixelSizeX": 8.2,
 "pixelSizeY": 8.2,
 "meanPixelSize": 8.2,
 "datasetFormat": "AMD",
 "uncompressedSize": 217337157825,
 "blockWidth": 2048,
 "blockHeight": 256,
 "compressionType": "None",
 "bandNames": [
  "Band_1"
 ],
 "allowCopy": true,
 "allowAnalysis": true,
 "itemAccess": false,
 "inspectionCapabilities": "",
 "minPixelSize": 0,
 "maxPixelSize": 0,
 "copyrightText": "BAER Imagery Support Program: baerimagery@fs.fed.us",
 "serviceDataType": "esriImageServiceDataTypeThematic",
 "serviceSourceType": "esriImageServiceSourceTypeMosaicDataset",
 "objectIdField": "OBJECTID",
 "fields": [
  {
   "name": "OBJECTID",
   "type": "esriFieldTypeOID",
   "alias": "OBJECTID",
   "domain": null
  },
  {
   "name": "Shape",
   "type": "esriFieldTypeGeometry",
   "alias": "Shape",
   "domain": null
  },
  {
   "name": "Name",
   "type": "esriFieldTypeString",
   "alias": "Name",
   "domain": null,
   "length": 200
  },
  {
   "name": "MinPS",
   "type": "esriFieldTypeDouble",
   "alias": "MinPS",
   "domain": null
  },
  {
   "name": "MaxPS",
   "type": "esriFieldTypeDouble",
   "alias": "MaxPS",
   "domain": null
  },
  {
   "name": "LowPS",
   "type": "esriFieldTypeDouble",
   "alias": "LowPS",
   "domain": null
  },
  {
   "name": "HighPS",
   "type": "esriFieldTypeDouble",
   "alias": "HighPS",
   "domain": null
  },
  {
   "name": "Category",
   "type": "esriFieldTypeInteger",
   "alias": "Category",
   "domain": {
    "type": "codedValue",
    "name": "MosaicCatalogItemCategoryDomain",
    "description": "Catalog item categories.",
    "codedValues": [
     {
      "name": "Unknown",
      "code": 0
     },
     {
      "name": "Primary",
      "code": 1
     },
     {
      "name": "Overview",
      "code": 2
     },
     {
      "name": "Unprocessed Overview",
      "code": 3
     },
     {
      "name": "Partial Overview",
      "code": 4
     },
     {
      "name": "Inactive",
      "code": 5
     },
     {
      "name": "Uploaded",
      "code": 253
     },
     {
      "name": "Incomplete",
      "code": 254
     },
     {
      "name": "Custom",
      "code": 255
     }
    ],
    "mergePolicy": "esriMPTDefaultValue",
    "splitPolicy": "esriSPTDefaultValue"
   }
  },
  {
   "name": "Tag",
   "type": "esriFieldTypeString",
   "alias": "Tag",
   "domain": null,
   "length": 100
  },
  {
   "name": "GroupName",
   "type": "esriFieldTypeString",
   "alias": "GroupName",
   "domain": null,
   "length": 100
  },
  {
   "name": "ProductName",
   "type": "esriFieldTypeString",
   "alias": "ProductName",
   "domain": null,
   "length": 100
  },
  {
   "name": "CenterX",
   "type": "esriFieldTypeDouble",
   "alias": "CenterX",
   "domain": null
  },
  {
   "name": "CenterY",
   "type": "esriFieldTypeDouble",
   "alias": "CenterY",
   "domain": null
  },
  {
   "name": "ZOrder",
   "type": "esriFieldTypeInteger",
   "alias": "ZOrder",
   "domain": null
  },
  {
   "name": "Shape_Length",
   "type": "esriFieldTypeDouble",
   "alias": "Shape_Length",
   "domain": null
  },
  {
   "name": "Shape_Area",
   "type": "esriFieldTypeDouble",
   "alias": "Shape_Area",
   "domain": null
  },
  {
   "name": "Year",
   "type": "esriFieldTypeSmallInteger",
   "alias": "Year",
   "domain": null
  }
 ],
 "capabilities": "Catalog,Mensuration,Pixels,Image,Metadata",
 "defaultMosaicMethod": "Northwest",
 "allowedMosaicMethods": "NorthWest,Center,LockRaster,ByAttribute,Nadir,Viewpoint,Seamline,None",
 "sortField": "",
 "sortValue": null,
 "sortAscending": false,
 "mosaicOperator": "First",
 "maxDownloadSizeLimit": 2048,
 "defaultCompressionQuality": 75,
 "defaultResamplingMethod": "Nearest",
 "maxImageHeight": 50000,
 "maxImageWidth": 50000,
 "maxRecordCount": 1000,
 "maxDownloadImageCount": 20,
 "maxMosaicImageCount": 80,
 "allowRasterFunction": true,
 "rasterFunctionInfos": [
  {
   "name": "BAER SBS Colormap",
   "description": "RDW BAER Soil Burn Severity Color",
   "help": ""
  },
  {
   "name": "None",
   "description": "Make a Raster or Raster Dataset into a Function Raster Dataset.",
   "help": ""
  }
 ],
 "rasterTypeInfos": [
  {
   "name": "Raster Dataset",
   "description": "Supports all ArcGIS Raster Datasets",
   "help": ""
  }
 ],
 "mensurationCapabilities": "Basic",
 "hasHistograms": true,
 "hasColormap": false,
 "hasRasterAttributeTable": false,
 "minScale": 0,
 "maxScale": 0,
 "exportTilesAllowed": false,
 "supportsStatistics": true,
 "supportsAdvancedQueries": true,
 "editFieldsInfo": null,
 "ownershipBasedAccessControlForRasters": null,
 "allowComputeTiePoints": false,
 "useStandardizedQueries": true,
 "advancedQueryCapabilities": {
  "useStandardizedQueries": true,
  "supportsStatistics": true,
  "supportsOrderBy": true,
  "supportsDistinct": true,
  "supportsPagination": true
 },
 "spatialReference": {
  "wkid": 102100,
  "latestWkid": 3857
 },
 "resampling": false
}
