{
 "currentVersion": 11.1,
 "serviceDescription": "The USDA Forest Service (USFS) builds multiple versions of percent tree canopy cover data, in order to serve needs of multiple user communities. These datasets encompass CONUS, Coastal Alaska, Hawaii, U.S. Virgin Islands and Puerto Rico. There are three versions of data within the 2016 TCC Product Suite, which include:The initial model outputs referred to as the Analytical data;A masked version of the initial output referred to as Cartographic data;And a modified version built for the National Land Cover Database and referred to as NLCD data, which includes a canopy cover change dataset derived from subtraction of datasets for the nominal years of 2011 and 2016.The Analytical data are the initial model outputs generated in the production workflow. These data are best suited for users who will carry out their own detailed statistical and uncertainty analyses on the dataset and place lower priority on the visual appearance of the dataset for cartographic purposes. Datasets for the nominal years of 2011 and 2016 are available. The Cartographic products mask the initial model outputs to improve the visual appearance of the datasets. These data are best suited for users who prioritize visual appearance of the data for cartographic and illustrative purposes. Datasets for the nominal years of 2011 and 2016 are available. The NLCD data are the result of further processing of the masked data. The goal was to generate three coordinated components. The components are (1) a dataset for the nominal year of 2011, (2) a dataset for the nominal year of 2016, and (3) a dataset that captures the change in canopy cover between the two nominal years of 2011 and 2016. For the NLCD data, the three components meet the criterion of ?2011 TCC + change in TCC = 2016 TCC?. These NLCD data are best suited for users who require a coordinated three-component data stack where each pixel?s values meet the criterion of ?2011 TCC + change in TCC = 2016 TCC?. Datasets for the nominal years of 2011 and 2016 are available, as well as a dataset that captures the change (loss or gain) in canopy cover between those two nominal years of 2011 and 2016, in areas where change was identified.These tree canopy cover data are accessible for multiple user communities, through multiple channels and platforms, as listed below:AnalyticalUSFS Tree Canopy Cover DatasetsUSFS Enterprise Data WarehouseCartographicUSFS Tree Canopy Cover DatasetsNLCDMulti-Resolution Land Characteristics (MRLC) ConsortiumUSFS Enterprise Data WarehouseThe Coastal Alaska TCC 2016 NLCD dataset is comprised of a single layer. The pixel values range from 0 to 91 percent. The background is represented by the value 255. Data gaps (which are explained in more detail below) are represented by the value 127.The NLCD data include three components: 2011 NLCD TCC, 2016 NLCD TCC, and 2011-to-2016 change in TCC. For nearly all pixels, the values meet the criterion of ?2011 TCC + change in TCC = 2016 TCC?. However, there are some pixels with no TCC values because of a lack of imagery in persistently cloudy areas. These data gaps were given a value 127. In summary, if a data gap was present in the original 2011 or 2016 data, that data gap was carried through to all three components of the NLCD data. Recall that the three NLCD components (2011 NLCD TCC, 2016 NLCD TCC, and change between the two nominal years) are intended to coordinate and ?line up?.The USFS?s GTAC also makes available the original 2011 and 2016 TCC datasets (prior to development of any integrated data stack for NLCD) that are output as part of the production workflows. If a user would like the original datasets for the nominal years of 2011 and 2016 (prior to integrating into a common data stack for NLCD), they should visit https://data.fs.usda.gov/geodata/rastergateway/treecanopycover/and download the ?FS-Cartographic? version of the 2011 and/or 2016 datasets for their cartographic applications.",
 "name": "RDW_LandscapeAndWildlife/USFS_Analytical_2016_TreeCanopy_StdError_CoastalAK",
 "description": "The USDA Forest Service (USFS) builds multiple versions of percent tree canopy cover data, in order to serve needs of multiple user communities. These datasets encompass CONUS, Coastal Alaska, Hawaii, U.S. Virgin Islands and Puerto Rico. There are three versions of data within the 2016 TCC Product Suite, which include:The initial model outputs referred to as the Analytical data;A masked version of the initial output referred to as Cartographic data;And a modified version built for the National Land Cover Database and referred to as NLCD data, which includes a canopy cover change dataset derived from subtraction of datasets for the nominal years of 2011 and 2016.The Analytical data are the initial model outputs generated in the production workflow. These data are best suited for users who will carry out their own detailed statistical and uncertainty analyses on the dataset and place lower priority on the visual appearance of the dataset for cartographic purposes. Datasets for the nominal years of 2011 and 2016 are available. The Cartographic products mask the initial model outputs to improve the visual appearance of the datasets. These data are best suited for users who prioritize visual appearance of the data for cartographic and illustrative purposes. Datasets for the nominal years of 2011 and 2016 are available. The NLCD data are the result of further processing of the masked data. The goal was to generate three coordinated components. The components are (1) a dataset for the nominal year of 2011, (2) a dataset for the nominal year of 2016, and (3) a dataset that captures the change in canopy cover between the two nominal years of 2011 and 2016. For the NLCD data, the three components meet the criterion of ?2011 TCC + change in TCC = 2016 TCC?. These NLCD data are best suited for users who require a coordinated three-component data stack where each pixel?s values meet the criterion of ?2011 TCC + change in TCC = 2016 TCC?. Datasets for the nominal years of 2011 and 2016 are available, as well as a dataset that captures the change (loss or gain) in canopy cover between those two nominal years of 2011 and 2016, in areas where change was identified.These tree canopy cover data are accessible for multiple user communities, through multiple channels and platforms, as listed below:AnalyticalUSFS Tree Canopy Cover DatasetsUSFS Enterprise Data WarehouseCartographicUSFS Tree Canopy Cover DatasetsNLCDMulti-Resolution Land Characteristics (MRLC) ConsortiumUSFS Enterprise Data WarehouseThe Coastal Alaska TCC 2016 NLCD dataset is comprised of a single layer. The pixel values range from 0 to 91 percent. The background is represented by the value 255. Data gaps (which are explained in more detail below) are represented by the value 127.The NLCD data include three components: 2011 NLCD TCC, 2016 NLCD TCC, and 2011-to-2016 change in TCC. For nearly all pixels, the values meet the criterion of ?2011 TCC + change in TCC = 2016 TCC?. However, there are some pixels with no TCC values because of a lack of imagery in persistently cloudy areas. These data gaps were given a value 127. In summary, if a data gap was present in the original 2011 or 2016 data, that data gap was carried through to all three components of the NLCD data. Recall that the three NLCD components (2011 NLCD TCC, 2016 NLCD TCC, and change between the two nominal years) are intended to coordinate and ?line up?.The USFS?s GTAC also makes available the original 2011 and 2016 TCC datasets (prior to development of any integrated data stack for NLCD) that are output as part of the production workflows. If a user would like the original datasets for the nominal years of 2011 and 2016 (prior to integrating into a common data stack for NLCD), they should visit https://data.fs.usda.gov/geodata/rastergateway/treecanopycover/and download the ?FS-Cartographic? version of the 2011 and/or 2016 datasets for their cartographic applications.",
 "extent": {
  "xmin": -1.72469711846E7,
  "ymin": 7176990.977200003,
  "xmax": -1.41509411846E7,
  "ymax": 8824110.977200003,
  "spatialReference": {
   "wkid": 102100,
   "latestWkid": 3857
  }
 },
 "initialExtent": {
  "xmin": -1.72469711846E7,
  "ymin": 7176990.977200003,
  "xmax": -1.41509411846E7,
  "ymax": 8824110.977200003,
  "spatialReference": {
   "wkid": 102100,
   "latestWkid": 3857
  }
 },
 "fullExtent": {
  "xmin": -1.72469711846E7,
  "ymin": 7176990.977200003,
  "xmax": -1.41509411846E7,
  "ymax": 8824110.977200003,
  "spatialReference": {
   "wkid": 102100,
   "latestWkid": 3857
  }
 },
 "sortableFields": "",
 "bandCount": 1,
 "pixelType": "U8",
 "minValues": [
  0
 ],
 "maxValues": [
  255
 ],
 "meanValues": [
  189.56270670117692
 ],
 "stdvValues": [
  108.55393386236531
 ],
 "hasMultidimensions": false,
 "pixelSizeX": 30,
 "pixelSizeY": 30,
 "datasetFormat": "AMD",
 "uncompressedSize": 5666147704,
 "blockWidth": 2048,
 "blockHeight": 256,
 "compressionType": "None",
 "bandNames": [
  "Band_1"
 ],
 "allowCopy": true,
 "allowAnalysis": true,
 "itemAccess": false,
 "minPixelSize": 0,
 "maxPixelSize": 0,
 "copyrightText": "",
 "serviceDataType": "esriImageServiceDataTypeGeneric",
 "serviceSourceType": "esriImageServiceSourceTypeMosaicDataset",
 "objectIdField": "OBJECTID",
 "fields": [
  {
   "name": "OBJECTID",
   "type": "esriFieldTypeOID",
   "alias": "OBJECTID",
   "domain": null
  },
  {
   "name": "Shape",
   "type": "esriFieldTypeGeometry",
   "alias": "Shape",
   "domain": null
  },
  {
   "name": "Name",
   "type": "esriFieldTypeString",
   "alias": "Name",
   "domain": null,
   "length": 200
  },
  {
   "name": "MinPS",
   "type": "esriFieldTypeDouble",
   "alias": "MinPS",
   "domain": null
  },
  {
   "name": "MaxPS",
   "type": "esriFieldTypeDouble",
   "alias": "MaxPS",
   "domain": null
  },
  {
   "name": "LowPS",
   "type": "esriFieldTypeDouble",
   "alias": "LowPS",
   "domain": null
  },
  {
   "name": "HighPS",
   "type": "esriFieldTypeDouble",
   "alias": "HighPS",
   "domain": null
  },
  {
   "name": "Category",
   "type": "esriFieldTypeInteger",
   "alias": "Category",
   "domain": {
    "type": "codedValue",
    "name": "MosaicCatalogItemCategoryDomain",
    "description": "Catalog item categories.",
    "codedValues": [
     {
      "name": "Unknown",
      "code": 0
     },
     {
      "name": "Primary",
      "code": 1
     },
     {
      "name": "Overview",
      "code": 2
     },
     {
      "name": "Unprocessed Overview",
      "code": 3
     },
     {
      "name": "Partial Overview",
      "code": 4
     },
     {
      "name": "Inactive",
      "code": 5
     },
     {
      "name": "Uploaded",
      "code": 253
     },
     {
      "name": "Incomplete",
      "code": 254
     },
     {
      "name": "Custom",
      "code": 255
     }
    ],
    "mergePolicy": "esriMPTDefaultValue",
    "splitPolicy": "esriSPTDefaultValue"
   }
  },
  {
   "name": "Tag",
   "type": "esriFieldTypeString",
   "alias": "Tag",
   "domain": null,
   "length": 100
  },
  {
   "name": "GroupName",
   "type": "esriFieldTypeString",
   "alias": "GroupName",
   "domain": null,
   "length": 100
  },
  {
   "name": "ProductName",
   "type": "esriFieldTypeString",
   "alias": "ProductName",
   "domain": null,
   "length": 100
  },
  {
   "name": "CenterX",
   "type": "esriFieldTypeDouble",
   "alias": "CenterX",
   "domain": null
  },
  {
   "name": "CenterY",
   "type": "esriFieldTypeDouble",
   "alias": "CenterY",
   "domain": null
  },
  {
   "name": "ZOrder",
   "type": "esriFieldTypeInteger",
   "alias": "ZOrder",
   "domain": null
  },
  {
   "name": "Shape_Length",
   "type": "esriFieldTypeDouble",
   "alias": "Shape_Length",
   "domain": null
  },
  {
   "name": "Shape_Area",
   "type": "esriFieldTypeDouble",
   "alias": "Shape_Area",
   "domain": null
  }
 ],
 "capabilities": "Image,Metadata,Catalog,Mensuration",
 "defaultMosaicMethod": "Northwest",
 "allowedMosaicMethods": "NorthWest,Center,LockRaster,ByAttribute,Nadir,Viewpoint,Seamline,None",
 "sortField": "",
 "sortValue": null,
 "sortAscending": true,
 "mosaicOperator": "First",
 "maxDownloadSizeLimit": 2048,
 "defaultCompressionQuality": 75,
 "defaultResamplingMethod": "Bilinear",
 "maxImageHeight": 4100,
 "maxImageWidth": 15000,
 "maxRecordCount": 1000,
 "maxDownloadImageCount": 20,
 "maxMosaicImageCount": 20,
 "allowRasterFunction": true,
 "rasterFunctionInfos": [
  {
   "name": "None",
   "description": "",
   "help": ""
  }
 ],
 "rasterTypeInfos": [
  {
   "name": "Raster Dataset",
   "description": "Supports all ArcGIS Raster Datasets",
   "help": ""
  }
 ],
 "mensurationCapabilities": "Basic",
 "hasHistograms": true,
 "hasColormap": false,
 "hasRasterAttributeTable": false,
 "minScale": 0,
 "maxScale": 0,
 "exportTilesAllowed": false,
 "supportsStatistics": true,
 "supportsAdvancedQueries": true,
 "editFieldsInfo": null,
 "ownershipBasedAccessControlForRasters": null,
 "allowComputeTiePoints": false,
 "useStandardizedQueries": true,
 "advancedQueryCapabilities": {
  "useStandardizedQueries": true,
  "supportsStatistics": true,
  "supportsOrderBy": true,
  "supportsDistinct": true,
  "supportsPagination": true
 },
 "spatialReference": {
  "wkid": 102100,
  "latestWkid": 3857
 }
}
