{
 "currentVersion": 11.3,
 "serviceDescription": "The USDA Forest Service (USFS) builds multiple versions of percent tree canopy cover data, in order to serve needs of multiple user communities. These datasets encompass CONUS, Coastal Alaska, Hawaii, U.S. Virgin Islands and Puerto Rico. There are three versions of data within the 2016 TCC Product Suite, which include: The initial model outputs referred to as the Analytical data; A masked version of the initial output referred to as Cartographic data; And a modified version built for the National Land Cover Database and referred to as NLCD data, which includes a canopy cover change dataset derived from subtraction of datasets for the nominal years of 2011 and 2016. The Analytical data are the initial model outputs generated in the production workflow. These data are best suited for users who will carry out their own detailed statistical and uncertainty analyses on the dataset and place lower priority on the visual appearance of the dataset for cartographic purposes. Datasets for the nominal years of 2011 and 2016 are available. The Cartographic products mask the initial model outputs to improve the visual appearance of the datasets. These data are best suited for users who prioritize visual appearance of the data for cartographic and illustrative purposes. Datasets for the nominal years of 2011 and 2016 are available. The NLCD data are the result of further processing of the masked data. The goal was to generate three coordinated components. The components are (1) a dataset for the nominal year of 2011, (2) a dataset for the nominal year of 2016, and (3) a dataset that captures the change in canopy cover between the two nominal years of 2011 and 2016. For the NLCD data, the three components meet the criterion of ?2011 TCC + change in TCC = 2016 TCC?. These NLCD data are best suited for users who require a coordinated three-component data stack where each pixel?s values meet the criterion of ?2011 TCC + change in TCC = 2016 TCC?. Datasets for the nominal years of 2011 and 2016 are available, as well as a dataset that captures the change (loss or gain) in canopy cover between those two nominal years of 2011 and 2016, in areas where change was identified.These tree canopy cover data are accessible for multiple user communities, through multiple channels and platforms, as listed below: Analytical USFS Tree Canopy Cover Datasets (Download) USFS Enterprise Data Warehouse (Image Service) Cartographic USFS Tree Canopy Cover Datasets (Download) USFS Enterprise Data Warehouse (Map Service) NLCD Multi-Resolution Land Characteristics (MRLC) Consortium (Download) USFS Enterprise Data Warehouse (Image Service) The Puerto Rico and the US Virgin Islands TCC 2016 analytical dataset has two images: percent tree canopy cover (PTCC) and standard error. For the PTCC image, the pixel values range from 0 to 99 percent. For the standard error image, the pixel values range from 0 to 40 percent. For both images, 255 represents the background value. The standard error represents the model uncertainty associated with the corresponding pixel in the PTCC image. The PTCC image was produced using a random forests regression algorithm and the standard error image was calculated from the variance of the canopy cover estimates from the random forest regression trees. The dataset has data gaps due to consistent clouds/shadows in the Landsat images used for modeling. These data gaps are represented by the value 127.",
 "name": "RDW_LandscapeAndWildlife/USFS_Analytical_2016_TreeCanopy_PR_USVI",
 "description": "The USDA Forest Service (USFS) builds multiple versions of percent tree canopy cover data, in order to serve needs of multiple user communities. These datasets encompass CONUS, Coastal Alaska, Hawaii, U.S. Virgin Islands and Puerto Rico. There are three versions of data within the 2016 TCC Product Suite, which include: The initial model outputs referred to as the Analytical data; A masked version of the initial output referred to as Cartographic data; And a modified version built for the National Land Cover Database and referred to as NLCD data, which includes a canopy cover change dataset derived from subtraction of datasets for the nominal years of 2011 and 2016. The Analytical data are the initial model outputs generated in the production workflow. These data are best suited for users who will carry out their own detailed statistical and uncertainty analyses on the dataset and place lower priority on the visual appearance of the dataset for cartographic purposes. Datasets for the nominal years of 2011 and 2016 are available. The Cartographic products mask the initial model outputs to improve the visual appearance of the datasets. These data are best suited for users who prioritize visual appearance of the data for cartographic and illustrative purposes. Datasets for the nominal years of 2011 and 2016 are available. The NLCD data are the result of further processing of the masked data. The goal was to generate three coordinated components. The components are (1) a dataset for the nominal year of 2011, (2) a dataset for the nominal year of 2016, and (3) a dataset that captures the change in canopy cover between the two nominal years of 2011 and 2016. For the NLCD data, the three components meet the criterion of ?2011 TCC + change in TCC = 2016 TCC?. These NLCD data are best suited for users who require a coordinated three-component data stack where each pixel?s values meet the criterion of ?2011 TCC + change in TCC = 2016 TCC?. Datasets for the nominal years of 2011 and 2016 are available, as well as a dataset that captures the change (loss or gain) in canopy cover between those two nominal years of 2011 and 2016, in areas where change was identified.These tree canopy cover data are accessible for multiple user communities, through multiple channels and platforms, as listed below: Analytical USFS Tree Canopy Cover Datasets (Download) USFS Enterprise Data Warehouse (Image Service) Cartographic USFS Tree Canopy Cover Datasets (Download) USFS Enterprise Data Warehouse (Map Service) NLCD Multi-Resolution Land Characteristics (MRLC) Consortium (Download) USFS Enterprise Data Warehouse (Image Service) The Puerto Rico and the US Virgin Islands TCC 2016 analytical dataset has two images: percent tree canopy cover (PTCC) and standard error. For the PTCC image, the pixel values range from 0 to 99 percent. For the standard error image, the pixel values range from 0 to 40 percent. For both images, 255 represents the background value. The standard error represents the model uncertainty associated with the corresponding pixel in the PTCC image. The PTCC image was produced using a random forests regression algorithm and the standard error image was calculated from the variance of the canopy cover estimates from the random forest regression trees. The dataset has data gaps due to consistent clouds/shadows in the Landsat images used for modeling. These data gaps are represented by the value 127.",
 "extent": {
  "xmin": -7750972.9048,
  "ymin": 1709657.5439999998,
  "xmax": -6948832.9048,
  "ymax": 2376527.5439999998,
  "spatialReference": {
   "wkid": 102100,
   "latestWkid": 3857
  }
 },
 "initialExtent": {
  "xmin": -7750972.9048,
  "ymin": 1709657.5439999998,
  "xmax": -6948832.9048,
  "ymax": 2376527.5439999998,
  "spatialReference": {
   "wkid": 102100,
   "latestWkid": 3857
  }
 },
 "fullExtent": {
  "xmin": -7750972.9048,
  "ymin": 1709657.5439999998,
  "xmax": -6948832.9048,
  "ymax": 2376527.5439999998,
  "spatialReference": {
   "wkid": 102100,
   "latestWkid": 3857
  }
 },
 "sortableFields": "",
 "bandCount": 1,
 "pixelType": "U8",
 "minValues": [
  0
 ],
 "maxValues": [
  255
 ],
 "meanValues": [
  248.6409034662687
 ],
 "stdvValues": [
  35.0714627534055
 ],
 "hasMultidimensions": false,
 "pixelSizeX": 30,
 "pixelSizeY": 30,
 "meanPixelSize": 30,
 "datasetFormat": "AMD",
 "uncompressedSize": 594359002,
 "blockWidth": 2048,
 "blockHeight": 256,
 "compressionType": "None",
 "bandNames": [
  "Band_1"
 ],
 "allowCopy": true,
 "allowAnalysis": true,
 "itemAccess": false,
 "inspectionCapabilities": "",
 "minPixelSize": 0,
 "maxPixelSize": 0,
 "copyrightText": "",
 "serviceDataType": "esriImageServiceDataTypeGeneric",
 "serviceSourceType": "esriImageServiceSourceTypeMosaicDataset",
 "objectIdField": "OBJECTID",
 "fields": [
  {
   "name": "OBJECTID",
   "type": "esriFieldTypeOID",
   "alias": "OBJECTID",
   "domain": null
  },
  {
   "name": "Shape",
   "type": "esriFieldTypeGeometry",
   "alias": "Shape",
   "domain": null
  },
  {
   "name": "Name",
   "type": "esriFieldTypeString",
   "alias": "Name",
   "domain": null,
   "length": 200
  },
  {
   "name": "MinPS",
   "type": "esriFieldTypeDouble",
   "alias": "MinPS",
   "domain": null
  },
  {
   "name": "MaxPS",
   "type": "esriFieldTypeDouble",
   "alias": "MaxPS",
   "domain": null
  },
  {
   "name": "LowPS",
   "type": "esriFieldTypeDouble",
   "alias": "LowPS",
   "domain": null
  },
  {
   "name": "HighPS",
   "type": "esriFieldTypeDouble",
   "alias": "HighPS",
   "domain": null
  },
  {
   "name": "Category",
   "type": "esriFieldTypeInteger",
   "alias": "Category",
   "domain": {
    "type": "codedValue",
    "name": "MosaicCatalogItemCategoryDomain",
    "description": "Catalog item categories.",
    "codedValues": [
     {
      "name": "Unknown",
      "code": 0
     },
     {
      "name": "Primary",
      "code": 1
     },
     {
      "name": "Overview",
      "code": 2
     },
     {
      "name": "Unprocessed Overview",
      "code": 3
     },
     {
      "name": "Partial Overview",
      "code": 4
     },
     {
      "name": "Inactive",
      "code": 5
     },
     {
      "name": "Uploaded",
      "code": 253
     },
     {
      "name": "Incomplete",
      "code": 254
     },
     {
      "name": "Custom",
      "code": 255
     }
    ],
    "mergePolicy": "esriMPTDefaultValue",
    "splitPolicy": "esriSPTDefaultValue"
   }
  },
  {
   "name": "Tag",
   "type": "esriFieldTypeString",
   "alias": "Tag",
   "domain": null,
   "length": 100
  },
  {
   "name": "GroupName",
   "type": "esriFieldTypeString",
   "alias": "GroupName",
   "domain": null,
   "length": 100
  },
  {
   "name": "ProductName",
   "type": "esriFieldTypeString",
   "alias": "ProductName",
   "domain": null,
   "length": 100
  },
  {
   "name": "CenterX",
   "type": "esriFieldTypeDouble",
   "alias": "CenterX",
   "domain": null
  },
  {
   "name": "CenterY",
   "type": "esriFieldTypeDouble",
   "alias": "CenterY",
   "domain": null
  },
  {
   "name": "ZOrder",
   "type": "esriFieldTypeInteger",
   "alias": "ZOrder",
   "domain": null
  },
  {
   "name": "Shape_Length",
   "type": "esriFieldTypeDouble",
   "alias": "Shape_Length",
   "domain": null
  },
  {
   "name": "Shape_Area",
   "type": "esriFieldTypeDouble",
   "alias": "Shape_Area",
   "domain": null
  }
 ],
 "capabilities": "Image,Metadata,Catalog,Mensuration",
 "defaultMosaicMethod": "Northwest",
 "allowedMosaicMethods": "NorthWest,Center,LockRaster,ByAttribute,Nadir,Viewpoint,Seamline,None",
 "sortField": "",
 "sortValue": null,
 "sortAscending": true,
 "mosaicOperator": "First",
 "maxDownloadSizeLimit": 2048,
 "defaultCompressionQuality": 75,
 "defaultResamplingMethod": "Bilinear",
 "maxImageHeight": 500000,
 "maxImageWidth": 500000,
 "maxRecordCount": 1000,
 "maxDownloadImageCount": 20,
 "maxMosaicImageCount": 20,
 "allowRasterFunction": true,
 "rasterFunctionInfos": [
  {
   "name": "None",
   "description": "A No-Op Function.",
   "help": ""
  }
 ],
 "rasterTypeInfos": [
  {
   "name": "Raster Dataset",
   "description": "Supports all ArcGIS Raster Datasets",
   "help": ""
  }
 ],
 "mensurationCapabilities": "Basic",
 "hasHistograms": true,
 "hasColormap": false,
 "hasRasterAttributeTable": false,
 "minScale": 0,
 "maxScale": 0,
 "exportTilesAllowed": false,
 "supportsStatistics": true,
 "supportsAdvancedQueries": true,
 "editFieldsInfo": null,
 "ownershipBasedAccessControlForRasters": null,
 "allowComputeTiePoints": false,
 "useStandardizedQueries": true,
 "advancedQueryCapabilities": {
  "useStandardizedQueries": true,
  "supportsStatistics": true,
  "supportsOrderBy": true,
  "supportsDistinct": true,
  "supportsPagination": true
 },
 "spatialReference": {
  "wkid": 102100,
  "latestWkid": 3857
 }
}
