{
 "currentVersion": 11.3,
 "serviceDescription": "This image service contains high-resolution land cover data for the states of Nebraska, South Dakota, and North Dakota. These data are a digital representation of land cover derived from 1-meter aerial imagery from the USDA National Agriculture Imagery Program (NAIP.) The year of NAIP used for each state was 2014.Data are intended for use in rural areas and therefore do not include land cover in cities and towns. Land cover classes (tree cover, other land cover, or water) were mapped using an object-based image analysis approach and supervised classification.These data are designed for conducting geospatial analyses and for producing cartographic products. In particular, these data are intended to depict the location of tree cover in the county. The mapping procedures were developed specifically for agricultural landscapes that are dominated by annual crops, rangeland, and pasture and where tree cover is often found in narrow configurations, such as windbreaks and riparian corridors. Because much of the tree cover in agricultural areas of the United States occurs in windbreaks and narrow riparian corridors, many geospatial datasets derived from coarser-resolution satellite data (such as Landsat), do not capture these landscape features. This dataset is intended to address this particular data gap.",
 "name": "RDW_LandscapeAndWildlife/Northern_Plains_High_Resolution_Land_Cover",
 "description": "This image service contains high-resolution land cover data for the states of Nebraska, South Dakota, and North Dakota. These data are a digital representation of land cover derived from 1-meter aerial imagery from the USDA National Agriculture Imagery Program (NAIP.) The year of NAIP used for each state was 2014.Data are intended for use in rural areas and therefore do not include land cover in cities and towns. Land cover classes (tree cover, other land cover, or water) were mapped using an object-based image analysis approach and supervised classification.These data are designed for conducting geospatial analyses and for producing cartographic products. In particular, these data are intended to depict the location of tree cover in the county. The mapping procedures were developed specifically for agricultural landscapes that are dominated by annual crops, rangeland, and pasture and where tree cover is often found in narrow configurations, such as windbreaks and riparian corridors. Because much of the tree cover in agricultural areas of the United States occurs in windbreaks and narrow riparian corridors, many geospatial datasets derived from coarser-resolution satellite data (such as Landsat), do not capture these landscape features. This dataset is intended to address this particular data gap.",
 "extent": {
  "xmin": 73634.63532238983,
  "ymin": 4423325.582940336,
  "xmax": 820752.6353223887,
  "ymax": 5441283.582940334,
  "spatialReference": {
   "wkid": 26914,
   "latestWkid": 26914
  }
 },
 "initialExtent": {
  "xmin": 73634.63532238983,
  "ymin": 4423325.582940336,
  "xmax": 820752.6353223887,
  "ymax": 5441283.582940334,
  "spatialReference": {
   "wkid": 26914,
   "latestWkid": 26914
  }
 },
 "fullExtent": {
  "xmin": 73634.63532238983,
  "ymin": 4423325.582940336,
  "xmax": 820752.6353223887,
  "ymax": 5441283.582940334,
  "spatialReference": {
   "wkid": 26914,
   "latestWkid": 26914
  }
 },
 "sortableFields": "",
 "bandCount": 1,
 "pixelType": "U4",
 "minValues": [
  1
 ],
 "maxValues": [
  15
 ],
 "meanValues": [
  2.094609533595847
 ],
 "stdvValues": [
  1.3143084695891916
 ],
 "hasMultidimensions": false,
 "pixelSizeX": 0.9999999999999984,
 "pixelSizeY": 0.9999999999999982,
 "meanPixelSize": 0.9999999999999983,
 "datasetFormat": "AMD",
 "uncompressedSize": 380267372522,
 "blockWidth": 2048,
 "blockHeight": 256,
 "compressionType": "None",
 "bandNames": [
  "Band_1"
 ],
 "allowCopy": true,
 "allowAnalysis": true,
 "itemAccess": false,
 "inspectionCapabilities": "",
 "minPixelSize": 0,
 "maxPixelSize": 0,
 "copyrightText": "This project was funded by the USDA Forest Service, Northern Research Station, Forest Inventory and Analysis and the USDA National Agroforestry Center.",
 "serviceDataType": "esriImageServiceDataTypeThematic",
 "serviceSourceType": "esriImageServiceSourceTypeMosaicDataset",
 "objectIdField": "OBJECTID",
 "fields": [
  {
   "name": "OBJECTID",
   "type": "esriFieldTypeOID",
   "alias": "OBJECTID",
   "domain": null
  },
  {
   "name": "Shape",
   "type": "esriFieldTypeGeometry",
   "alias": "Shape",
   "domain": null
  },
  {
   "name": "Name",
   "type": "esriFieldTypeString",
   "alias": "Name",
   "domain": null,
   "length": 200
  },
  {
   "name": "MinPS",
   "type": "esriFieldTypeDouble",
   "alias": "MinPS",
   "domain": null
  },
  {
   "name": "MaxPS",
   "type": "esriFieldTypeDouble",
   "alias": "MaxPS",
   "domain": null
  },
  {
   "name": "LowPS",
   "type": "esriFieldTypeDouble",
   "alias": "LowPS",
   "domain": null
  },
  {
   "name": "HighPS",
   "type": "esriFieldTypeDouble",
   "alias": "HighPS",
   "domain": null
  },
  {
   "name": "Category",
   "type": "esriFieldTypeInteger",
   "alias": "Category",
   "domain": {
    "type": "codedValue",
    "name": "MosaicCatalogItemCategoryDomain",
    "description": "Catalog item categories.",
    "codedValues": [
     {
      "name": "Unknown",
      "code": 0
     },
     {
      "name": "Primary",
      "code": 1
     },
     {
      "name": "Overview",
      "code": 2
     },
     {
      "name": "Unprocessed Overview",
      "code": 3
     },
     {
      "name": "Partial Overview",
      "code": 4
     },
     {
      "name": "Inactive",
      "code": 5
     },
     {
      "name": "Uploaded",
      "code": 253
     },
     {
      "name": "Incomplete",
      "code": 254
     },
     {
      "name": "Custom",
      "code": 255
     }
    ],
    "mergePolicy": "esriMPTDefaultValue",
    "splitPolicy": "esriSPTDefaultValue"
   }
  },
  {
   "name": "Tag",
   "type": "esriFieldTypeString",
   "alias": "Tag",
   "domain": null,
   "length": 100
  },
  {
   "name": "GroupName",
   "type": "esriFieldTypeString",
   "alias": "GroupName",
   "domain": null,
   "length": 100
  },
  {
   "name": "ProductName",
   "type": "esriFieldTypeString",
   "alias": "ProductName",
   "domain": null,
   "length": 100
  },
  {
   "name": "CenterX",
   "type": "esriFieldTypeDouble",
   "alias": "CenterX",
   "domain": null
  },
  {
   "name": "CenterY",
   "type": "esriFieldTypeDouble",
   "alias": "CenterY",
   "domain": null
  },
  {
   "name": "ZOrder",
   "type": "esriFieldTypeInteger",
   "alias": "ZOrder",
   "domain": null
  },
  {
   "name": "Shape_Length",
   "type": "esriFieldTypeDouble",
   "alias": "Shape_Length",
   "domain": null
  },
  {
   "name": "Shape_Area",
   "type": "esriFieldTypeDouble",
   "alias": "Shape_Area",
   "domain": null
  }
 ],
 "capabilities": "Image,Metadata,Catalog,Mensuration",
 "defaultMosaicMethod": "Northwest",
 "allowedMosaicMethods": "NorthWest,Center,LockRaster,ByAttribute,Nadir,Viewpoint,Seamline,None",
 "sortField": "",
 "sortValue": null,
 "sortAscending": true,
 "mosaicOperator": "First",
 "maxDownloadSizeLimit": 2048,
 "defaultCompressionQuality": 75,
 "defaultResamplingMethod": "Nearest",
 "maxImageHeight": 50000,
 "maxImageWidth": 50000,
 "maxRecordCount": 1000,
 "maxDownloadImageCount": 20,
 "maxMosaicImageCount": 20,
 "allowRasterFunction": true,
 "rasterFunctionInfos": [
  {
   "name": "None",
   "description": "A No-Op Function.",
   "help": ""
  }
 ],
 "rasterTypeInfos": [
  {
   "name": "Raster Dataset",
   "description": "Supports all ArcGIS Raster Datasets",
   "help": ""
  }
 ],
 "mensurationCapabilities": "Basic",
 "hasHistograms": true,
 "hasColormap": false,
 "hasRasterAttributeTable": true,
 "minScale": 0,
 "maxScale": 0,
 "exportTilesAllowed": false,
 "supportsStatistics": true,
 "supportsAdvancedQueries": true,
 "editFieldsInfo": null,
 "ownershipBasedAccessControlForRasters": null,
 "allowComputeTiePoints": false,
 "useStandardizedQueries": true,
 "advancedQueryCapabilities": {
  "useStandardizedQueries": true,
  "supportsStatistics": true,
  "supportsOrderBy": true,
  "supportsDistinct": true,
  "supportsPagination": true
 },
 "spatialReference": {
  "wkid": 26914,
  "latestWkid": 26914
 }
}
