{ "currentVersion": 11.3, "serviceDescription": "
This raster contains historical April 1 snow water equivalent values calculated using a spatial analog model. <\/span>The model ingests mean winter average temperature and precipitation. For more information about the model, please see Luce et al., [<\/span><\/span>2014<\/span><\/span><\/a>] and Lute and Luce [<\/span><\/span>2017<\/span><\/span><\/a>]. Absolute changes in April 1 SWE is in units of millimeters. The temperature and precipitation data are ensemble mean values across 20 global climate models from the CMIP5 experiment [<\/span><\/span>Taylor et al., 2012<\/span><\/span><\/a>], downscaled to a 4km grid. For more information on the downscaling method and to access the raw data used to create this dataset, please see Abatzoglou and Brown, [<\/span><\/span>2012<\/span><\/span><\/a>] and the <\/span><\/span>Northwest Climate Science Center<\/span><\/span><\/a>. We used the MACAv2-metdata monthly precipitation and minimum and maximum temperature datasets for the period 1975-2005. Average temperature was calculated as the arithmetic mean of minimum and maximum temperature datasets. Average temperature was averaged over the winter months (November through March) and precipitation was summed over the winter months. More information on the project associated with this dataset is available from the U.S. Forest Service <\/span>Rocky Mountain Research Station<\/span><\/span><\/a>, including <\/span><\/span>detailed metadata<\/span><\/span><\/a>; these raster data are available for download <\/span><\/span>here<\/span><\/span><\/a>.<\/span><\/span><\/p><\/div><\/div><\/div>",
"name": "RDW_Climate/SnowWaterEquivApril1_Historical",
"description": " This raster contains historical April 1 snow water equivalent values calculated using a spatial analog model. <\/span>The model ingests mean winter average temperature and precipitation. For more information about the model, please see Luce et al., [<\/span><\/span>2014<\/span><\/span><\/a>] and Lute and Luce [<\/span><\/span>2017<\/span><\/span><\/a>]. Absolute changes in April 1 SWE is in units of millimeters. The temperature and precipitation data are ensemble mean values across 20 global climate models from the CMIP5 experiment [<\/span><\/span>Taylor et al., 2012<\/span><\/span><\/a>], downscaled to a 4km grid. For more information on the downscaling method and to access the raw data used to create this dataset, please see Abatzoglou and Brown, [<\/span><\/span>2012<\/span><\/span><\/a>] and the <\/span><\/span>Northwest Climate Science Center<\/span><\/span><\/a>. We used the MACAv2-metdata monthly precipitation and minimum and maximum temperature datasets for the period 1975-2005. Average temperature was calculated as the arithmetic mean of minimum and maximum temperature datasets. Average temperature was averaged over the winter months (November through March) and precipitation was summed over the winter months. More information on the project associated with this dataset is available from the U.S. Forest Service <\/span>Rocky Mountain Research Station<\/span><\/span><\/a>, including <\/span><\/span>detailed metadata<\/span><\/span><\/a>; these raster data are available for download <\/span><\/span>here<\/span><\/span><\/a>.<\/span><\/span><\/p><\/div><\/div><\/div>",
"extent": {
"xmin": -1.50184871125E7,
"ymin": 2401774.544926799,
"xmax": -6334157.187063497,
"ymax": 6867468.623599999,
"spatialReference": {
"wkid": 102100,
"latestWkid": 3857
}
},
"initialExtent": {
"xmin": -1.50184871125E7,
"ymin": 2401774.544926799,
"xmax": -6334157.187063497,
"ymax": 6867468.623599999,
"spatialReference": {
"wkid": 102100,
"latestWkid": 3857
}
},
"fullExtent": {
"xmin": -1.50184871125E7,
"ymin": 2401774.544926799,
"xmax": -6334157.187063497,
"ymax": 6867468.623599999,
"spatialReference": {
"wkid": 102100,
"latestWkid": 3857
}
},
"sortableFields": "",
"bandCount": 1,
"pixelType": "F64",
"minValues": [
0
],
"maxValues": [
1938.4654629754987
],
"meanValues": [
87.62456655920084
],
"stdvValues": [
155.36856962273455
],
"hasMultidimensions": false,
"pixelSizeX": 4661.476073771607,
"pixelSizeY": 4661.476073771607,
"meanPixelSize": 4661.476073771607,
"datasetFormat": "AMD",
"uncompressedSize": 14278032,
"blockWidth": 2048,
"blockHeight": 256,
"compressionType": "None",
"bandNames": [
"Band_1"
],
"allowCopy": true,
"allowAnalysis": true,
"itemAccess": false,
"inspectionCapabilities": "",
"noDataValue": -1.7E308,
"noDataValues": [
-1.7E308
],
"minPixelSize": 0,
"maxPixelSize": 0,
"copyrightText": "",
"serviceDataType": "esriImageServiceDataTypeThematic",
"serviceSourceType": "esriImageServiceSourceTypeMosaicDataset",
"objectIdField": "OBJECTID",
"fields": [
{
"name": "OBJECTID",
"type": "esriFieldTypeOID",
"alias": "OBJECTID",
"domain": null
},
{
"name": "Shape",
"type": "esriFieldTypeGeometry",
"alias": "Shape",
"domain": null
},
{
"name": "Name",
"type": "esriFieldTypeString",
"alias": "Name",
"domain": null,
"length": 200
},
{
"name": "MinPS",
"type": "esriFieldTypeDouble",
"alias": "MinPS",
"domain": null
},
{
"name": "MaxPS",
"type": "esriFieldTypeDouble",
"alias": "MaxPS",
"domain": null
},
{
"name": "LowPS",
"type": "esriFieldTypeDouble",
"alias": "LowPS",
"domain": null
},
{
"name": "HighPS",
"type": "esriFieldTypeDouble",
"alias": "HighPS",
"domain": null
},
{
"name": "Category",
"type": "esriFieldTypeInteger",
"alias": "Category",
"domain": {
"type": "codedValue",
"name": "MosaicCatalogItemCategoryDomain",
"description": "Catalog item categories.",
"codedValues": [
{
"name": "Unknown",
"code": 0
},
{
"name": "Primary",
"code": 1
},
{
"name": "Overview",
"code": 2
},
{
"name": "Unprocessed Overview",
"code": 3
},
{
"name": "Partial Overview",
"code": 4
},
{
"name": "Uploaded",
"code": 253
},
{
"name": "Incomplete",
"code": 254
},
{
"name": "Custom",
"code": 255
}
],
"mergePolicy": "esriMPTDefaultValue",
"splitPolicy": "esriSPTDefaultValue"
}
},
{
"name": "Tag",
"type": "esriFieldTypeString",
"alias": "Tag",
"domain": null,
"length": 100
},
{
"name": "GroupName",
"type": "esriFieldTypeString",
"alias": "GroupName",
"domain": null,
"length": 100
},
{
"name": "ProductName",
"type": "esriFieldTypeString",
"alias": "ProductName",
"domain": null,
"length": 100
},
{
"name": "CenterX",
"type": "esriFieldTypeDouble",
"alias": "CenterX",
"domain": null
},
{
"name": "CenterY",
"type": "esriFieldTypeDouble",
"alias": "CenterY",
"domain": null
},
{
"name": "ZOrder",
"type": "esriFieldTypeInteger",
"alias": "ZOrder",
"domain": null
},
{
"name": "Shape_Length",
"type": "esriFieldTypeDouble",
"alias": "Shape_Length",
"domain": null
},
{
"name": "Shape_Area",
"type": "esriFieldTypeDouble",
"alias": "Shape_Area",
"domain": null
}
],
"capabilities": "Image,Metadata,Catalog",
"defaultMosaicMethod": "Northwest",
"allowedMosaicMethods": "NorthWest,Center,LockRaster,ByAttribute,Nadir,Viewpoint,Seamline,None",
"sortField": "",
"sortValue": null,
"sortAscending": true,
"mosaicOperator": "First",
"maxDownloadSizeLimit": 2048,
"defaultCompressionQuality": 75,
"defaultResamplingMethod": "Nearest",
"maxImageHeight": 2000,
"maxImageWidth": 2000,
"maxRecordCount": 1000,
"maxDownloadImageCount": 20,
"maxMosaicImageCount": 20,
"allowRasterFunction": true,
"rasterFunctionInfos": [
{
"name": "SWE",
"description": "A raster function template.",
"help": ""
},
{
"name": "None",
"description": "A No-Op Function.",
"help": ""
}
],
"rasterTypeInfos": [
{
"name": "Raster Dataset",
"description": "Supports all ArcGIS Raster Datasets",
"help": ""
}
],
"mensurationCapabilities": "None",
"hasHistograms": true,
"hasColormap": false,
"hasRasterAttributeTable": false,
"minScale": 0,
"maxScale": 0,
"exportTilesAllowed": false,
"supportsStatistics": true,
"supportsAdvancedQueries": true,
"editFieldsInfo": null,
"ownershipBasedAccessControlForRasters": null,
"allowComputeTiePoints": false,
"useStandardizedQueries": true,
"advancedQueryCapabilities": {
"useStandardizedQueries": true,
"supportsStatistics": true,
"supportsOrderBy": true,
"supportsDistinct": true,
"supportsPagination": true
},
"spatialReference": {
"wkid": 102100,
"latestWkid": 3857
}
}