{
 "currentVersion": 11.3,
 "serviceDescription": "The Moisture Deficit and Surplus map uses moisture difference z-score (MDZ) datasets developed by scientists Frank Koch, John Coulston, and William Smith of the Forest Service Southern Research Station to represent drought and moisture surplus across the contiguous United States. A z-score is a statistical method for assessing how different a value is from the mean. Mean moisture values over 3-year windows were derived from monthly historical precipitation and temperature data from PRISM, between 1900 and 2023, and compared against a 1900-2017 baseline. The greater the z-value, the larger the departure from average conditions, indicating larger moisture deficits (droughts) or surpluses. Thus, the dark orange areas on the map indicate a 3-year window with extreme drought, relative to the average conditions over the past century. For further reading on the methodology used to build these maps, see the publication here: https://www.fs.usda.gov/treesearch/pubs/43361",
 "name": "RDW_Climate/Moisture_Difference_ZScore_3yr",
 "description": "Detailed technical methods for this analysis are available here:\n https://www.fs.usda.gov/treesearch/pubs/43361. This is derived from monthly PRISM\n temperature and precipitation data, located here: ftp://prism.nacse.org/monthly/.\n Monthly temperature data are used to calculate potential evapotranspiration (PET)\n using the Thornthwaite PET equation. Monthly precipitation and PET data are then\n used to calculate a moisture index (MI) for each month within a 3-year time window.\n The mean moisture index (MMI) across the months of the target window is compared to\n an appropriate long-term normal, in this case the average of the MMI for all windows\n between 1900 and 2017. Then, a moisture difference z-score (MDZ) is calculated from\n the MMI for the window of interest. This is done by subtracting the 1900-2017 normal\n MMI from the MMI for a given year, and then dividing by the standard deviation over\n the baseline period. Equations for calculating modified moisture index are adopted\n from Willmott, C.J. and Feddema, J.J. 1992. A more rational climatic moisture index.\n Professional Geographer 44(1): 84-87. The z-score values were then reclassified\n using the classification scheme below: z-score less than -2 -- extremely dry\n compared to normal conditions z-score -2 to -1.5 -- severely dry compared to normal\n conditions z-score -1.5 to -1 -- moderately dry compared to normal conditions\n z-score -1 to -0.5 - mildly dry compared to normal conditions z-score -0.5 to 0.5 --\n near normal conditions z-score 0.5 to 1 -- mildly wet compared to normal conditions\n z-score 1 to 1.5 -- moderately wet compared to normal conditions z-score 1.5 to 2 --\n severely wet compared to normal conditions z-score more than 2 -- extremely wet\n compared to normal conditions",
 "extent": {
  "xmin": -1.39172572777E7,
  "ymin": 2761917.5216925843,
  "xmax": -7400428.754124975,
  "ymax": 6435460.7179000005,
  "spatialReference": {
   "wkid": 102100,
   "latestWkid": 3857
  }
 },
 "initialExtent": {
  "xmin": -1.39172572777E7,
  "ymin": 2761917.5216925843,
  "xmax": -7400428.754124975,
  "ymax": 6435460.7179000005,
  "spatialReference": {
   "wkid": 102100,
   "latestWkid": 3857
  }
 },
 "fullExtent": {
  "xmin": -1.39172572777E7,
  "ymin": 2761917.5216925843,
  "xmax": -7400428.754124975,
  "ymax": 6435460.7179000005,
  "spatialReference": {
   "wkid": 102100,
   "latestWkid": 3857
  }
 },
 "sortableFields": "",
 "bandCount": 1,
 "pixelType": "S8",
 "minValues": [],
 "maxValues": [],
 "meanValues": [],
 "stdvValues": [],
 "hasMultidimensions": false,
 "timeInfo": {
  "startTimeField": "Year",
  "endTimeField": "Year",
  "timeExtent": [
   -2208988800000,
   1672531200000
  ],
  "timeReference": null
 },
 "pixelSizeX": 4638.312116423505,
 "pixelSizeY": 4638.312116423505,
 "meanPixelSize": 4638.312116423505,
 "datasetFormat": "AMD",
 "uncompressedSize": 1112760,
 "blockWidth": 2048,
 "blockHeight": 256,
 "compressionType": "None",
 "bandNames": [
  "Band_1"
 ],
 "allowCopy": true,
 "allowAnalysis": true,
 "itemAccess": false,
 "inspectionCapabilities": "",
 "minPixelSize": 0,
 "maxPixelSize": 0,
 "copyrightText": "USDA Forest Service Office of Sustainability and Climate; Southern Research\n Station",
 "serviceDataType": "esriImageServiceDataTypeThematic",
 "serviceSourceType": "esriImageServiceSourceTypeMosaicDataset",
 "objectIdField": "OBJECTID",
 "fields": [
  {
   "name": "OBJECTID",
   "type": "esriFieldTypeOID",
   "alias": "OBJECTID",
   "domain": null
  },
  {
   "name": "Shape",
   "type": "esriFieldTypeGeometry",
   "alias": "Shape",
   "domain": null
  },
  {
   "name": "Name",
   "type": "esriFieldTypeString",
   "alias": "Name",
   "domain": null,
   "length": 200
  },
  {
   "name": "MinPS",
   "type": "esriFieldTypeDouble",
   "alias": "MinPS",
   "domain": null
  },
  {
   "name": "MaxPS",
   "type": "esriFieldTypeDouble",
   "alias": "MaxPS",
   "domain": null
  },
  {
   "name": "LowPS",
   "type": "esriFieldTypeDouble",
   "alias": "LowPS",
   "domain": null
  },
  {
   "name": "HighPS",
   "type": "esriFieldTypeDouble",
   "alias": "HighPS",
   "domain": null
  },
  {
   "name": "Category",
   "type": "esriFieldTypeInteger",
   "alias": "Category",
   "domain": {
    "type": "codedValue",
    "name": "MosaicCatalogItemCategoryDomain",
    "description": "Catalog item categories.",
    "codedValues": [
     {
      "name": "Unknown",
      "code": 0
     },
     {
      "name": "Primary",
      "code": 1
     },
     {
      "name": "Overview",
      "code": 2
     },
     {
      "name": "Unprocessed Overview",
      "code": 3
     },
     {
      "name": "Partial Overview",
      "code": 4
     },
     {
      "name": "Inactive",
      "code": 5
     },
     {
      "name": "Uploaded",
      "code": 253
     },
     {
      "name": "Incomplete",
      "code": 254
     },
     {
      "name": "Custom",
      "code": 255
     }
    ],
    "mergePolicy": "esriMPTDefaultValue",
    "splitPolicy": "esriSPTDefaultValue"
   }
  },
  {
   "name": "Tag",
   "type": "esriFieldTypeString",
   "alias": "Tag",
   "domain": null,
   "length": 100
  },
  {
   "name": "GroupName",
   "type": "esriFieldTypeString",
   "alias": "GroupName",
   "domain": null,
   "length": 100
  },
  {
   "name": "ProductName",
   "type": "esriFieldTypeString",
   "alias": "ProductName",
   "domain": null,
   "length": 100
  },
  {
   "name": "CenterX",
   "type": "esriFieldTypeDouble",
   "alias": "CenterX",
   "domain": null
  },
  {
   "name": "CenterY",
   "type": "esriFieldTypeDouble",
   "alias": "CenterY",
   "domain": null
  },
  {
   "name": "ZOrder",
   "type": "esriFieldTypeInteger",
   "alias": "ZOrder",
   "domain": null
  },
  {
   "name": "Shape_Length",
   "type": "esriFieldTypeDouble",
   "alias": "Shape_Length",
   "domain": null
  },
  {
   "name": "Shape_Area",
   "type": "esriFieldTypeDouble",
   "alias": "Shape_Area",
   "domain": null
  },
  {
   "name": "Year",
   "type": "esriFieldTypeSmallInteger",
   "alias": "Year",
   "domain": null
  }
 ],
 "capabilities": "Catalog,Mensuration,Image,Metadata",
 "defaultMosaicMethod": "Northwest",
 "allowedMosaicMethods": "NorthWest,Center,LockRaster,ByAttribute,Nadir,Viewpoint,Seamline,None",
 "sortField": "",
 "sortValue": null,
 "sortAscending": true,
 "mosaicOperator": "First",
 "maxDownloadSizeLimit": 2048,
 "defaultCompressionQuality": 75,
 "defaultResamplingMethod": "Nearest",
 "maxImageHeight": 50000,
 "maxImageWidth": 50000,
 "maxRecordCount": 1000,
 "maxDownloadImageCount": 20,
 "maxMosaicImageCount": 20,
 "allowRasterFunction": true,
 "rasterFunctionInfos": [
  {
   "name": "MDZ_color_table",
   "description": "A raster function template.",
   "help": ""
  },
  {
   "name": "None",
   "description": "Make a Raster or Raster Dataset into a Function Raster Dataset.",
   "help": ""
  }
 ],
 "rasterTypeInfos": [
  {
   "name": "Raster Dataset",
   "description": "Supports all ArcGIS Raster Datasets",
   "help": ""
  }
 ],
 "mensurationCapabilities": "Basic",
 "hasHistograms": false,
 "hasColormap": false,
 "hasRasterAttributeTable": false,
 "minScale": 0,
 "maxScale": 0,
 "exportTilesAllowed": false,
 "supportsStatistics": true,
 "supportsAdvancedQueries": true,
 "editFieldsInfo": null,
 "ownershipBasedAccessControlForRasters": null,
 "allowComputeTiePoints": false,
 "useStandardizedQueries": true,
 "advancedQueryCapabilities": {
  "useStandardizedQueries": true,
  "supportsStatistics": true,
  "supportsOrderBy": true,
  "supportsDistinct": true,
  "supportsPagination": true
 },
 "spatialReference": {
  "wkid": 102100,
  "latestWkid": 3857
 },
 "resampling": false
}
