{ "currentVersion": 11.3, "serviceDescription": "
Heat Zones map the distribution of potential heat stress for plants and animals, including humans. Heat zones, defined as the number of days per year with maximum daily temperature >= 30 °C (86 °F). Daily maximum temperature values >= 30 °C during the period 2070 - 2099 were tallied annually and are reported as the average annual number of days during a 30-year period. <\/span><\/p><\/div><\/div><\/div>",
"name": "RDW_Climate/ClimateChangePressures_HeatZones_MeanDaysOver30DegreesCelsius_RCP45_2070_2099",
"description": " Heat Zones map the distribution of potential heat stress for plants and animals, including humans. Heat zones, defined as the number of days per year with maximum daily temperature >= 30 °C (86 °F). Daily maximum temperature values >= 30 °C during the period 2070 - 2099 were tallied annually and are reported as the average annual number of days during a 30-year period. <\/span><\/p><\/div><\/div><\/div>",
"extent": {
"xmin": -124.8125,
"ymin": 25.0625,
"xmax": -67.0625,
"ymax": 52.8125,
"spatialReference": {
"wkid": 4326,
"latestWkid": 4326
}
},
"initialExtent": {
"xmin": -124.8125,
"ymin": 25.0625,
"xmax": -67.0625,
"ymax": 52.8125,
"spatialReference": {
"wkid": 4326,
"latestWkid": 4326
}
},
"fullExtent": {
"xmin": -124.8125,
"ymin": 25.0625,
"xmax": -67.0625,
"ymax": 52.8125,
"spatialReference": {
"wkid": 4326,
"latestWkid": 4326
}
},
"sortableFields": "",
"bandCount": 1,
"pixelType": "F32",
"minValues": [
0
],
"maxValues": [
333.63333129883
],
"meanValues": [
84.683436614377
],
"stdvValues": [
63.257479125052
],
"hasMultidimensions": false,
"pixelSizeX": 0.125,
"pixelSizeY": 0.125,
"meanPixelSize": 13914.936349159196,
"datasetFormat": "IMAGINE Image",
"uncompressedSize": 410256,
"blockWidth": 64,
"blockHeight": 64,
"compressionType": "RLE",
"bandNames": [
"Layer_1"
],
"allowCopy": true,
"allowAnalysis": true,
"itemAccess": false,
"inspectionCapabilities": "",
"noDataValue": -3.4028230607370965E38,
"noDataValues": [
-3.4028230607370965E38
],
"minPixelSize": 0,
"maxPixelSize": 0,
"copyrightText": "",
"serviceDataType": "esriImageServiceDataTypeGeneric",
"serviceSourceType": "esriImageServiceSourceTypeDataset",
"objectIdField": "",
"fields": [],
"capabilities": "Image,Metadata,Mensuration",
"defaultMosaicMethod": "Center",
"allowedMosaicMethods": "",
"sortField": "",
"sortValue": null,
"sortAscending": true,
"mosaicOperator": "First",
"defaultCompressionQuality": 75,
"defaultResamplingMethod": "Bilinear",
"maxImageHeight": 4100,
"maxImageWidth": 15000,
"allowRasterFunction": true,
"rasterFunctionInfos": [
{
"name": "None",
"description": "",
"help": ""
}
],
"rasterTypeInfos": [
{
"name": "Raster Dataset",
"description": "Supports all ArcGIS Raster Datasets",
"help": ""
}
],
"mensurationCapabilities": "Basic",
"hasHistograms": true,
"hasColormap": false,
"hasRasterAttributeTable": false,
"minScale": 0,
"maxScale": 0,
"exportTilesAllowed": false,
"supportsStatistics": false,
"supportsAdvancedQueries": false,
"editFieldsInfo": null,
"ownershipBasedAccessControlForRasters": null,
"allowComputeTiePoints": false,
"useStandardizedQueries": true,
"advancedQueryCapabilities": {
"useStandardizedQueries": true,
"supportsStatistics": false,
"supportsOrderBy": false,
"supportsDistinct": false,
"supportsPagination": false
},
"spatialReference": {
"wkid": 4326,
"latestWkid": 4326
}
}