{
 "currentVersion": 11.3,
 "serviceDescription": "The National Forest Climate Change Maps project was developed to meet the need of National Forest managers for information on projected climate changes at a scale relevant to decision making processes, including Forest Plans. The maps use state-of-the-art science and are available for every National Forest in the contiguous United States with relevant data coverage. Currently, the map sets include variables related to precipitation and air temperature, including both Alaskan and lower 48 datasets. Data from the lower 48 were downloaded from here: https://www.fs.usda.gov/rm/boise/AWAE/projects/national-forest-climate-change-maps.html, and Alaskan data came from here: https://www.snap.uaf.edu/tools/data-downloads. Historical data are compared with RCP 8.5 projections from the 2080s.",
 "name": "RDW_Climate/AvgSummerPrecipProjected2071_2090_AK",
 "description": "The National Forest Climate Change Maps project was developed to meet the need of National Forest managers for information on projected climate changes at a scale relevant to decision making processes, including Forest Plans. The maps use state-of-the-art science and are available for every National Forest in the contiguous United States with relevant data coverage. Currently, the map sets include variables related to precipitation and air temperature, including both Alaskan and lower 48 datasets. Data from the lower 48 were downloaded from here: https://www.fs.usda.gov/rm/boise/AWAE/projects/national-forest-climate-change-maps.html, and Alaskan data came from here: https://www.snap.uaf.edu/tools/data-downloads. Historical data are compared with RCP 8.5 projections from the 2080s.",
 "extent": {
  "xmin": -2.00375070672E7,
  "ymin": 6292937.086900003,
  "xmax": 2.0037507842788246E7,
  "ymax": 1.1551157086900003E7,
  "spatialReference": {
   "wkid": 102100,
   "latestWkid": 3857
  }
 },
 "initialExtent": {
  "xmin": -2.00375070672E7,
  "ymin": 6292937.086900003,
  "xmax": 2.0037507842788246E7,
  "ymax": 1.1551157086900003E7,
  "spatialReference": {
   "wkid": 102100,
   "latestWkid": 3857
  }
 },
 "fullExtent": {
  "xmin": -2.00375070672E7,
  "ymin": 6292937.086900003,
  "xmax": 2.0037507842788246E7,
  "ymax": 1.1551157086900003E7,
  "spatialReference": {
   "wkid": 102100,
   "latestWkid": 3857
  }
 },
 "sortableFields": "",
 "bandCount": 1,
 "pixelType": "F32",
 "minValues": [
  89.75
 ],
 "maxValues": [
  2972.89990234375
 ],
 "meanValues": [
  279.305187318047
 ],
 "stdvValues": [
  197.7515399876026
 ],
 "hasMultidimensions": false,
 "pixelSizeX": 770.9995557733704,
 "pixelSizeY": 771,
 "meanPixelSize": 770.9997778866853,
 "datasetFormat": "AMD",
 "uncompressedSize": 1417959840,
 "blockWidth": 2048,
 "blockHeight": 256,
 "compressionType": "None",
 "bandNames": [
  "Band_1"
 ],
 "allowCopy": true,
 "allowAnalysis": true,
 "itemAccess": false,
 "inspectionCapabilities": "",
 "noDataValue": -3.40282346639E38,
 "noDataValues": [
  -3.40282346639E38
 ],
 "minPixelSize": 0,
 "maxPixelSize": 0,
 "copyrightText": "Lute, A., & Luce, C. H. (2017, April 5). National Forest Climate Change Maps: Your Guide to the Future. Retrieved July 1, 2017, from https://www.fs.fed.us/rm/boise/AWAE/projects/national-forest-climate-change-maps.html. Scenarios Network for Alaska and Arctic Planning, University of Alaska. 2018. Historical Monthly and Derived Temperature Products - 771m CRU TS, Projected Monthly and Derived Temperature Products - 771m CMIP5/AR5, Historical Monthly and Derived Precipitation Products - 771m CRU TS, Projected Monthly and Derived Precipitation Products - 771m CMIP5/AR5. Retrieved February 15, 2018 from http://ckan.snap.uaf.edu/dataset.The USDA Forest Service makes no warranty, expressed or implied, including the warranties of merchantability and fitness for a particular purpose, nor assumes any legal liability or responsibility for the accuracy, reliability, completeness or utility of these geospatial data, or for the improper or incorrect use of these geospatial data. These geospatial data and related maps or graphics are not legal documents and are not intended to be used as such. The data and maps may not be used to determine title, ownership, legal descriptions or boundaries, legal jurisdiction, or restrictions that may be in place on either public or private land. Natural hazards may or may not be depicted on the data and maps, and land users should exercise due caution. The data are dynamic and may change over time. The user is responsible to verify the limitations of the geospatial data and to use the data accordingly.",
 "serviceDataType": "esriImageServiceDataTypeThematic",
 "serviceSourceType": "esriImageServiceSourceTypeMosaicDataset",
 "objectIdField": "OBJECTID",
 "fields": [
  {
   "name": "OBJECTID",
   "type": "esriFieldTypeOID",
   "alias": "OBJECTID",
   "domain": null
  },
  {
   "name": "Shape",
   "type": "esriFieldTypeGeometry",
   "alias": "Shape",
   "domain": null
  },
  {
   "name": "Name",
   "type": "esriFieldTypeString",
   "alias": "Name",
   "domain": null,
   "length": 200
  },
  {
   "name": "MinPS",
   "type": "esriFieldTypeDouble",
   "alias": "MinPS",
   "domain": null
  },
  {
   "name": "MaxPS",
   "type": "esriFieldTypeDouble",
   "alias": "MaxPS",
   "domain": null
  },
  {
   "name": "LowPS",
   "type": "esriFieldTypeDouble",
   "alias": "LowPS",
   "domain": null
  },
  {
   "name": "HighPS",
   "type": "esriFieldTypeDouble",
   "alias": "HighPS",
   "domain": null
  },
  {
   "name": "Category",
   "type": "esriFieldTypeInteger",
   "alias": "Category",
   "domain": {
    "type": "codedValue",
    "name": "MosaicCatalogItemCategoryDomain",
    "description": "Catalog item categories.",
    "codedValues": [
     {
      "name": "Unknown",
      "code": 0
     },
     {
      "name": "Primary",
      "code": 1
     },
     {
      "name": "Overview",
      "code": 2
     },
     {
      "name": "Unprocessed Overview",
      "code": 3
     },
     {
      "name": "Partial Overview",
      "code": 4
     },
     {
      "name": "Inactive",
      "code": 5
     },
     {
      "name": "Uploaded",
      "code": 253
     },
     {
      "name": "Incomplete",
      "code": 254
     },
     {
      "name": "Custom",
      "code": 255
     }
    ],
    "mergePolicy": "esriMPTDefaultValue",
    "splitPolicy": "esriSPTDefaultValue"
   }
  },
  {
   "name": "Tag",
   "type": "esriFieldTypeString",
   "alias": "Tag",
   "domain": null,
   "length": 100
  },
  {
   "name": "GroupName",
   "type": "esriFieldTypeString",
   "alias": "GroupName",
   "domain": null,
   "length": 100
  },
  {
   "name": "ProductName",
   "type": "esriFieldTypeString",
   "alias": "ProductName",
   "domain": null,
   "length": 100
  },
  {
   "name": "CenterX",
   "type": "esriFieldTypeDouble",
   "alias": "CenterX",
   "domain": null
  },
  {
   "name": "CenterY",
   "type": "esriFieldTypeDouble",
   "alias": "CenterY",
   "domain": null
  },
  {
   "name": "ZOrder",
   "type": "esriFieldTypeInteger",
   "alias": "ZOrder",
   "domain": null
  },
  {
   "name": "Shape_Length",
   "type": "esriFieldTypeDouble",
   "alias": "Shape_Length",
   "domain": null
  },
  {
   "name": "Shape_Area",
   "type": "esriFieldTypeDouble",
   "alias": "Shape_Area",
   "domain": null
  }
 ],
 "capabilities": "Image,Metadata,Catalog",
 "defaultMosaicMethod": "Northwest",
 "allowedMosaicMethods": "NorthWest,Center,LockRaster,ByAttribute,Nadir,Viewpoint,Seamline,None",
 "sortField": "",
 "sortValue": null,
 "sortAscending": true,
 "mosaicOperator": "First",
 "maxDownloadSizeLimit": 2048,
 "defaultCompressionQuality": 75,
 "defaultResamplingMethod": "Nearest",
 "maxImageHeight": 15000,
 "maxImageWidth": 15000,
 "maxRecordCount": 1000,
 "maxDownloadImageCount": 20,
 "maxMosaicImageCount": 20,
 "allowRasterFunction": true,
 "rasterFunctionInfos": [
  {
   "name": "AvgSumPrecProjAK",
   "description": "A raster function template.",
   "help": ""
  },
  {
   "name": "None",
   "description": "A No-Op Function.",
   "help": ""
  }
 ],
 "rasterTypeInfos": [
  {
   "name": "Raster Dataset",
   "description": "Supports all ArcGIS Raster Datasets",
   "help": ""
  }
 ],
 "mensurationCapabilities": "None",
 "hasHistograms": true,
 "hasColormap": false,
 "hasRasterAttributeTable": false,
 "minScale": 0,
 "maxScale": 0,
 "exportTilesAllowed": false,
 "supportsStatistics": true,
 "supportsAdvancedQueries": true,
 "editFieldsInfo": null,
 "ownershipBasedAccessControlForRasters": null,
 "allowComputeTiePoints": false,
 "useStandardizedQueries": true,
 "advancedQueryCapabilities": {
  "useStandardizedQueries": true,
  "supportsStatistics": true,
  "supportsOrderBy": true,
  "supportsDistinct": true,
  "supportsPagination": true
 },
 "spatialReference": {
  "wkid": 102100,
  "latestWkid": 3857
 }
}
